BEGIN:VCALENDAR
VERSION:2.0
PRODID:-// - ECPv6.15.20//NONSGML v1.0//EN
CALSCALE:GREGORIAN
METHOD:PUBLISH
X-ORIGINAL-URL:https://eosc-austria.at
X-WR-CALDESC:Events for 
REFRESH-INTERVAL;VALUE=DURATION:PT1H
X-Robots-Tag:noindex
X-PUBLISHED-TTL:PT1H
BEGIN:VTIMEZONE
TZID:Europe/Paris
BEGIN:DAYLIGHT
TZOFFSETFROM:+0100
TZOFFSETTO:+0200
TZNAME:CEST
DTSTART:20230326T010000
END:DAYLIGHT
BEGIN:STANDARD
TZOFFSETFROM:+0200
TZOFFSETTO:+0100
TZNAME:CET
DTSTART:20231029T010000
END:STANDARD
BEGIN:DAYLIGHT
TZOFFSETFROM:+0100
TZOFFSETTO:+0200
TZNAME:CEST
DTSTART:20240331T010000
END:DAYLIGHT
BEGIN:STANDARD
TZOFFSETFROM:+0200
TZOFFSETTO:+0100
TZNAME:CET
DTSTART:20241027T010000
END:STANDARD
BEGIN:DAYLIGHT
TZOFFSETFROM:+0100
TZOFFSETTO:+0200
TZNAME:CEST
DTSTART:20250330T010000
END:DAYLIGHT
BEGIN:STANDARD
TZOFFSETFROM:+0200
TZOFFSETTO:+0100
TZNAME:CET
DTSTART:20251026T010000
END:STANDARD
END:VTIMEZONE
BEGIN:VEVENT
DTSTART;TZID=Europe/Paris:20240523T235900
DTEND;TZID=Europe/Paris:20240523T235900
DTSTAMP:20260425T202034
CREATED:20240507T145632Z
LAST-MODIFIED:20240507T150548Z
UID:17935-1716508740-1716508740@eosc-austria.at
SUMMARY:Call for EOSC Federation Handbook Contributors
DESCRIPTION:The EOSC Federation Handbook will comprehensively address the purpose\, structure\, governance\, architecture and operations of the EOSC Federation.\nThe Tripartite Group\, which has the remit within the EOSC Partnership’s Tripartite Governance to steer the community development of the EOSC Federation\, has endorsed EOSC-A to continue to lead the community-wide co-creation of the EOSC Federation Handbook. \nThe decisions taken by the EOSC Tripartite Governance on the EOSC Federation will be reflected in the Handbook\, which will through this process of iteration become the reference document for the operation of the EOSC Federation. \nThe EOSC Federation Handbook will be written collaboratively with open consultations\, meetings\, events and sprints. \n  \nThe planning and events during 2024 that will impact the drafting process\, include:\n\nTripartite Events and Tripartite Group meetings preparing for the post-2027 governance of the EOSC Federation\nMilestones in the deployment of the EOSC EU Node\n27-28 May 2024\nThe 8th General Assembly of the EOSC Association will include consultation sessions with the membership on the preliminary draft\nJune 2024\nWriting of the draft EOSC Federation handbook starts\n05 July 2024\nDiscussion of preliminary draft at EOSC Partnership Board meeting #6\nSeptember 2024\nFirst consultation meetings take place to facilitate revision of handbook\n21-23 October 2024\nThe EOSC Symposium 2024 in Berlin\, where a mature draft of the EOSC Federation handbook will be presented\nNovember 2024\nEuropean Tripartite Meeting\, where the mature draft will be presented for endorsement
URL:https://eosc-austria.at/events/call-for-handbook-contributors/
LOCATION:Online
CATEGORIES:Calls for Experts
ATTACH;FMTTYPE=image/png:https://eosc-austria.at/wp-content/uploads/2022/03/background4-e1651138675499.png
END:VEVENT
END:VCALENDAR