BEGIN:VCALENDAR
VERSION:2.0
PRODID:-// - ECPv6.15.20//NONSGML v1.0//EN
CALSCALE:GREGORIAN
METHOD:PUBLISH
X-ORIGINAL-URL:https://eosc-austria.at
X-WR-CALDESC:Events for 
REFRESH-INTERVAL;VALUE=DURATION:PT1H
X-Robots-Tag:noindex
X-PUBLISHED-TTL:PT1H
BEGIN:VTIMEZONE
TZID:Europe/Paris
BEGIN:DAYLIGHT
TZOFFSETFROM:+0100
TZOFFSETTO:+0200
TZNAME:CEST
DTSTART:20230326T010000
END:DAYLIGHT
BEGIN:STANDARD
TZOFFSETFROM:+0200
TZOFFSETTO:+0100
TZNAME:CET
DTSTART:20231029T010000
END:STANDARD
BEGIN:DAYLIGHT
TZOFFSETFROM:+0100
TZOFFSETTO:+0200
TZNAME:CEST
DTSTART:20240331T010000
END:DAYLIGHT
BEGIN:STANDARD
TZOFFSETFROM:+0200
TZOFFSETTO:+0100
TZNAME:CET
DTSTART:20241027T010000
END:STANDARD
BEGIN:DAYLIGHT
TZOFFSETFROM:+0100
TZOFFSETTO:+0200
TZNAME:CEST
DTSTART:20250330T010000
END:DAYLIGHT
BEGIN:STANDARD
TZOFFSETFROM:+0200
TZOFFSETTO:+0100
TZNAME:CET
DTSTART:20251026T010000
END:STANDARD
END:VTIMEZONE
BEGIN:VEVENT
DTSTART;TZID=Europe/Paris:20241025T235900
DTEND;TZID=Europe/Paris:20241025T235900
DTSTAMP:20260425T150814
CREATED:20240906T134334Z
LAST-MODIFIED:20240906T134334Z
UID:18920-1729900740-1729900740@eosc-austria.at
SUMMARY:Call for candidates for four EOSC-A Director positions
DESCRIPTION:The call for candidates for four EOSC-A Board of Director positions has been launched for the 2024 elections\, which will take place during the 9th General Assembly of the EOSC Association. GA#9 is an online meeting to be held 22 November 2024. The terms of three EOSC-A Directors are concluding (with one of these eligible to stand for re-election)\, and a fourth vacancy has arisen prematurely due to the December 2023 passing of Director Sarah Jones. Sarah’s position will initially be filled on a one-year interim basis. \nMembers interested in potentially serving on the Board for either four years (one + three) or six years (three + three) are encouraged to apply for both the three-year and one-year term options. Currently there is a need for Directors with specific skills\, including political insight\, policy expertise\, and relevant technological know-how\, which would best serve to continue the ongoing work of the Board. The full requirements and a description of the role of EOSC-A Directors can be found here. You can download the call text at this link.
URL:https://eosc-austria.at/events/call-for-candidates-for-four-eosc-a-director-positions/
LOCATION:Online
CATEGORIES:Calls for Experts
ATTACH;FMTTYPE=image/jpeg:https://eosc-austria.at/wp-content/uploads/2024/09/Board_1440x445px_Black-scaled-1.jpg
END:VEVENT
END:VCALENDAR