BEGIN:VCALENDAR
VERSION:2.0
PRODID:-// - ECPv6.15.20//NONSGML v1.0//EN
CALSCALE:GREGORIAN
METHOD:PUBLISH
X-ORIGINAL-URL:https://eosc-austria.at
X-WR-CALDESC:Events for 
REFRESH-INTERVAL;VALUE=DURATION:PT1H
X-Robots-Tag:noindex
X-PUBLISHED-TTL:PT1H
BEGIN:VTIMEZONE
TZID:Europe/Paris
BEGIN:DAYLIGHT
TZOFFSETFROM:+0100
TZOFFSETTO:+0200
TZNAME:CEST
DTSTART:20240331T010000
END:DAYLIGHT
BEGIN:STANDARD
TZOFFSETFROM:+0200
TZOFFSETTO:+0100
TZNAME:CET
DTSTART:20241027T010000
END:STANDARD
BEGIN:DAYLIGHT
TZOFFSETFROM:+0100
TZOFFSETTO:+0200
TZNAME:CEST
DTSTART:20250330T010000
END:DAYLIGHT
BEGIN:STANDARD
TZOFFSETFROM:+0200
TZOFFSETTO:+0100
TZNAME:CET
DTSTART:20251026T010000
END:STANDARD
BEGIN:DAYLIGHT
TZOFFSETFROM:+0100
TZOFFSETTO:+0200
TZNAME:CEST
DTSTART:20260329T010000
END:DAYLIGHT
BEGIN:STANDARD
TZOFFSETFROM:+0200
TZOFFSETTO:+0100
TZNAME:CET
DTSTART:20261025T010000
END:STANDARD
END:VTIMEZONE
BEGIN:VEVENT
DTSTART;VALUE=DATE:20250715
DTEND;VALUE=DATE:20250716
DTSTAMP:20260421T065233
CREATED:20250627T092637Z
LAST-MODIFIED:20250627T092637Z
UID:20744-1752537600-1752623999@eosc-austria.at
SUMMARY:European Digital Skills Awards 2025
DESCRIPTION:The Digital Skills and Jobs Platform of the European Commission is pleased to announce the new edition of the European Digital Skills Awards. The initiative aims to recognise and celebrate the outstanding work of organisations throughout Europe that have contributed to the advancement of digital skills through their projects\, programmes and initiatives.\n\nApplications are open from 3 June to 15 July\, 2025.\n\nWe invite all types of organisations – whether public\, private\, academic\, research and/or training centres\, schools\, SMEs or large corporates\, EU-funded project consortia\, public administrations\, NGOs and citizen initiatives – that have either initiated or completed projects or initiatives aimed at fostering the adoption of digital skills in one of the 5 categories of the Awards\, to apply for consideration.\n\nIf you are unsure about the eligibility of your project\, please do not hesitate to reach out to the Digital Skills and Jobs Platform Team at info@digitalskillsjobs.eu.\n\nAre you ready to showcase Europe’s prowess in digital skills? Complete the online application form and prepare to shine.\n\nWe are looking forward to discovering all your projects. Best of luck to all applicants!
URL:https://eosc-austria.at/events/european-digital-skills-awards-2025/
LOCATION:Online
CATEGORIES:Calls for Experts
ATTACH;FMTTYPE=image/png:https://eosc-austria.at/wp-content/uploads/2025/06/EDSA2025_-_SoMe__2_.png
END:VEVENT
END:VCALENDAR