BEGIN:VCALENDAR
VERSION:2.0
PRODID:-// - ECPv6.15.20//NONSGML v1.0//EN
CALSCALE:GREGORIAN
METHOD:PUBLISH
X-ORIGINAL-URL:https://eosc-austria.at
X-WR-CALDESC:Events for 
REFRESH-INTERVAL;VALUE=DURATION:PT1H
X-Robots-Tag:noindex
X-PUBLISHED-TTL:PT1H
BEGIN:VTIMEZONE
TZID:Europe/Paris
BEGIN:DAYLIGHT
TZOFFSETFROM:+0100
TZOFFSETTO:+0200
TZNAME:CEST
DTSTART:20240331T010000
END:DAYLIGHT
BEGIN:STANDARD
TZOFFSETFROM:+0200
TZOFFSETTO:+0100
TZNAME:CET
DTSTART:20241027T010000
END:STANDARD
BEGIN:DAYLIGHT
TZOFFSETFROM:+0100
TZOFFSETTO:+0200
TZNAME:CEST
DTSTART:20250330T010000
END:DAYLIGHT
BEGIN:STANDARD
TZOFFSETFROM:+0200
TZOFFSETTO:+0100
TZNAME:CET
DTSTART:20251026T010000
END:STANDARD
BEGIN:DAYLIGHT
TZOFFSETFROM:+0100
TZOFFSETTO:+0200
TZNAME:CEST
DTSTART:20260329T010000
END:DAYLIGHT
BEGIN:STANDARD
TZOFFSETFROM:+0200
TZOFFSETTO:+0100
TZNAME:CET
DTSTART:20261025T010000
END:STANDARD
END:VTIMEZONE
BEGIN:VEVENT
DTSTART;TZID=Europe/Paris:20250509T120000
DTEND;TZID=Europe/Paris:20250509T120000
DTSTAMP:20260422T212931
CREATED:20250110T105604Z
LAST-MODIFIED:20250110T105822Z
UID:19729-1746792000-1746792000@eosc-austria.at
SUMMARY:Data Stewards 2025
DESCRIPTION:Implementing Data Stewards for EU Missions Austria\n\n\n\n\nDie Datenmenge\, die Organisationen zur Verfügung haben\, wächst kontinuierlich. Insbesondere in Forschungseinrichtungen nehmen die Bedeutung von Daten\, der Austausch sowie die Möglichkeiten\, komplexe Forschungsfragen mithilfe großer Datenmengen zu beantworten\, zu. Damit steigt die Verantwortung für die korrekte Handhabung von Daten und insbesondere für deren Qualität.\nData Stewards sind in einer Forschungseinrichtung für die Datenverwaltung und das Datenmanagement zuständig. Sie helfen\, Daten effektiv zu verwalten\, zu nutzen\, zu schützen und zu speichern und unterstützen so Forschende in ihrer Arbeit.\nDie Ausschreibung unterstützt Forschungseinrichtungen beim Verwalten\, Vorantreiben und Aufbauen von Forschungsdaten und -strukturen aus mindestens einer der fünf EU-Missionen (Mission CITIES\, Mission WATERS\, Mission CLIMATE\, Mission SOIL\, Mission CANCER).\n\n\n\n\n\n\nWas wird gefördert?\nGefördert wird die Anstellung eines Data Stewards an der Organisation bzw.  Organisationseinheit. Die Stelle kann dabei durch eine neue Person besetzt werden oder durch eine bereits an der Organisation bzw. Organisationseinheit angestellte Person\, die bisher nicht als Data Steward bzw. in vergleichbarer Tätigkeit eingesetzt war. \nEs werden ausschließlich die Personalkosten des Data Stewards und Drittkosten für externe Aus- und Weiterbildung für Data Stewards gefördert. \n\n\n\n\n\n\n\n\nWer wird gefördert?\nFörderbar sind Forschungseinrichtungen (Universitäten\, Fachhochschulen\, außeruniversitäre Forschungseinrichtungen und Privatuniversitäten) im Rahmen ihrer wissenschaftlichen Tätigkeit am Standort Österreich. \n\n\n\n\n\n\n\n\nWie hoch ist die Förderung?\nPro Projekt werden maximal 150.000 Euro bzw. maximal 100% der Gesamtkosten gefördert. Pro Data Steward ist ein Antrag einzureichen. Wird mehr als ein Antrag einer Organisation eingereicht\, ist nachvollziehbar darzustellen\, warum es mehr als einen Data Steward braucht. \nInsgesamt stehen 1\,8 Millionen Euro des Fonds Zukunft Österreich zur Verfügung. \n\n\n\n\n\n\n\n\nWas sind die Einreichkriterien?\n\nAnstellungsausmaß von zumindest 860 Stunden pro Jahr für die Tätigkeiten als Data Steward\nPersonalentwicklungsmaßnahmen und gute Einbindung in die Organisation\n\n\n\n\n\n\n\n\n\nWie erfolgt die Einreichung?\nProjekte können ab dem 20. Jänner 2025 bis längstens 09.05.2025 über den eCall eingereicht werden. \n\n\n\n\n\n\n\n\nWann gibt es eine Entscheidung?\nEnde Sommer 2025
URL:https://eosc-austria.at/events/data-stewards-2025/
LOCATION:Online
CATEGORIES:Funding Calls
ATTACH;FMTTYPE=image/png:https://eosc-austria.at/wp-content/uploads/2025/01/FFG_Logo_DE_RGB_1500px.png
END:VEVENT
BEGIN:VEVENT
DTSTART;TZID=Europe/Paris:20250514T170000
DTEND;TZID=Europe/Paris:20250514T170000
DTSTAMP:20260422T212931
CREATED:20250225T161919Z
LAST-MODIFIED:20250225T161919Z
UID:20214-1747242000-1747242000@eosc-austria.at
SUMMARY:Opening announcement | 2nd OSCARS Open Call for Open Science projects and services
DESCRIPTION:We are glad to announce the opening date of our 2nd OSCARS Open Call for Open Science projects and services\, which will take place on 14th March\, 2025\, at 10:00 am CET. The full text of the call will be published in the “Open Calls” section of our OSCARS website. \nThe cascading grant action is aimed at supporting researchers in uptaking FAIR data analysis and providing a series of new scientific results and services\, demonstrating the role the Science Clusters as thematic Nodes for “Open Research” in Europe could play for the benefit of the scientific impact of EOSC. \nWho can apply: Research Infrastructures\, Universities\, Institutes\, SMEs and large companies\, consortia\, as well as individual researchers. Individual researchers\, or a group of researchers\, in different countries of the EU\, Associated Countries and beyond can apply with their own affiliation (a university or a research institute). A Science Cluster by itself cannot apply. \n\nOpening date: March 14th\, 2025\, 10:00 CET\nProjects’ duration: 12 to 24 months\nBudget: 100 k€ – 250 k€\nApplication deadline: May 14th\, 2025\, 17:00 CEST\n\nWe are keen to maximise the impact of our funding by supporting a diverse range of innovative projects from different communities and organisations. High quality applications by organisations that have not received funding in the 1st OSCARS Open Call\, for subjects distinct from those previously supported\, will therefore be prioritised in the 2nd Open Call. \nThe organisation and management of the cascading grant calls\, together with the mentoring and training activities that the Science Clusters will provide in OSCARS\, contribute to performing excellent science and pursuing societal benefits by leveraging an Open Research approach. \nBy the end of OSCARS\, it is expected that a series of valuable scientific results and new services will be available\, leading to an increased uptake of Open Science by researchers and to promote cross-border and cross-domain cooperation in the long run.
URL:https://eosc-austria.at/events/opening-announcement-2nd-oscars-open-call-for-open-science-projects-and-services/
LOCATION:Online
CATEGORIES:Funding Calls
ATTACH;FMTTYPE=image/png:https://eosc-austria.at/wp-content/uploads/2025/02/OSCARS-2ndOpenCall-Announcement.png
END:VEVENT
END:VCALENDAR