BEGIN:VCALENDAR
VERSION:2.0
PRODID:-// - ECPv6.15.20//NONSGML v1.0//EN
CALSCALE:GREGORIAN
METHOD:PUBLISH
X-ORIGINAL-URL:https://eosc-austria.at
X-WR-CALDESC:Events for 
REFRESH-INTERVAL;VALUE=DURATION:PT1H
X-Robots-Tag:noindex
X-PUBLISHED-TTL:PT1H
BEGIN:VTIMEZONE
TZID:Europe/Paris
BEGIN:DAYLIGHT
TZOFFSETFROM:+0100
TZOFFSETTO:+0200
TZNAME:CEST
DTSTART:20220327T010000
END:DAYLIGHT
BEGIN:STANDARD
TZOFFSETFROM:+0200
TZOFFSETTO:+0100
TZNAME:CET
DTSTART:20221030T010000
END:STANDARD
BEGIN:DAYLIGHT
TZOFFSETFROM:+0100
TZOFFSETTO:+0200
TZNAME:CEST
DTSTART:20230326T010000
END:DAYLIGHT
BEGIN:STANDARD
TZOFFSETFROM:+0200
TZOFFSETTO:+0100
TZNAME:CET
DTSTART:20231029T010000
END:STANDARD
BEGIN:DAYLIGHT
TZOFFSETFROM:+0100
TZOFFSETTO:+0200
TZNAME:CEST
DTSTART:20240331T010000
END:DAYLIGHT
BEGIN:STANDARD
TZOFFSETFROM:+0200
TZOFFSETTO:+0100
TZNAME:CET
DTSTART:20241027T010000
END:STANDARD
END:VTIMEZONE
BEGIN:VEVENT
DTSTART;VALUE=DATE:20230321
DTEND;VALUE=DATE:20230324
DTSTAMP:20260426T052903
CREATED:20240424T123628Z
LAST-MODIFIED:20240424T123628Z
UID:16792-1679356800-1679615999@eosc-austria.at
SUMMARY:RDA 20th Plenary\, Gothenburg - Research Data Alliance 10th Anniversary
DESCRIPTION:The Research Data Alliance will celebrate its 10th Anniversary Plenary Meeting on 21-23 March 2023 in Sweden\, going back to where RDA was launched in March 2013. Following on from the success of the 19th Plenary meeting held in a hybrid format for the first time\, P20 will take place in Sweden’s second-largest city – Gothenburg.
URL:https://eosc-austria.at/event/rda-20th-plenary-gothenburg-research-data-alliance-10th-anniversary
LOCATION:Gothenburg\, Gothenburg\, Sweden
CATEGORIES:F2F Events
ATTACH;FMTTYPE=image/png:https://eosc-austria.at/wp-content/uploads/2023/09/RDA-23.png
END:VEVENT
END:VCALENDAR