BEGIN:VCALENDAR
VERSION:2.0
PRODID:-// - ECPv6.15.20//NONSGML v1.0//EN
CALSCALE:GREGORIAN
METHOD:PUBLISH
X-ORIGINAL-URL:https://eosc-austria.at
X-WR-CALDESC:Events for 
REFRESH-INTERVAL;VALUE=DURATION:PT1H
X-Robots-Tag:noindex
X-PUBLISHED-TTL:PT1H
BEGIN:VTIMEZONE
TZID:Europe/Paris
BEGIN:DAYLIGHT
TZOFFSETFROM:+0100
TZOFFSETTO:+0200
TZNAME:CEST
DTSTART:20220327T010000
END:DAYLIGHT
BEGIN:STANDARD
TZOFFSETFROM:+0200
TZOFFSETTO:+0100
TZNAME:CET
DTSTART:20221030T010000
END:STANDARD
BEGIN:DAYLIGHT
TZOFFSETFROM:+0100
TZOFFSETTO:+0200
TZNAME:CEST
DTSTART:20230326T010000
END:DAYLIGHT
BEGIN:STANDARD
TZOFFSETFROM:+0200
TZOFFSETTO:+0100
TZNAME:CET
DTSTART:20231029T010000
END:STANDARD
BEGIN:DAYLIGHT
TZOFFSETFROM:+0100
TZOFFSETTO:+0200
TZNAME:CEST
DTSTART:20240331T010000
END:DAYLIGHT
BEGIN:STANDARD
TZOFFSETFROM:+0200
TZOFFSETTO:+0100
TZNAME:CET
DTSTART:20241027T010000
END:STANDARD
END:VTIMEZONE
BEGIN:VEVENT
DTSTART;VALUE=DATE:20230911
DTEND;VALUE=DATE:20230916
DTSTAMP:20260425T225613
CREATED:20240424T124303Z
LAST-MODIFIED:20240424T124303Z
UID:16801-1694390400-1694822399@eosc-austria.at
SUMMARY:University of Maribor Open Science Summer School
DESCRIPTION:The University of Maribor Library is organizing a new edition of the summer school course\, the University of Maribor Open Science Summer School\,between 11th and 15th September 2023.
URL:https://eosc-austria.at/event/university-of-maribor-open-science-summer-school
LOCATION:Maribor\, Maribor\, Slovenia
CATEGORIES:F2F Events
ATTACH;FMTTYPE=image/png:https://eosc-austria.at/wp-content/uploads/2023/08/Open-Maribor.png
END:VEVENT
BEGIN:VEVENT
DTSTART;VALUE=DATE:20230912
DTEND;VALUE=DATE:20230914
DTSTAMP:20260425T225613
CREATED:20240424T124442Z
LAST-MODIFIED:20240424T124442Z
UID:16805-1694476800-1694649599@eosc-austria.at
SUMMARY:FNS-Cloud Final Event
DESCRIPTION:Two days of results and hands-on use of open and FAIR food and nutrition security data\, tools\, and services from the FNS-Cloud project. Join in person or online.
URL:https://eosc-austria.at/event/fns-cloud-final-event
LOCATION:Brussels\, Brussels\, Belgium
CATEGORIES:F2F Events
ATTACH;FMTTYPE=image/png:https://eosc-austria.at/wp-content/uploads/2023/09/FNS2.png
END:VEVENT
BEGIN:VEVENT
DTSTART;VALUE=DATE:20230912
DTEND;VALUE=DATE:20230915
DTSTAMP:20260425T225613
CREATED:20240424T124650Z
LAST-MODIFIED:20240424T124650Z
UID:16808-1694476800-1694735999@eosc-austria.at
SUMMARY:1st Conference on Research Data Infrastructure (CORDI)
DESCRIPTION:Research data form the basis for knowledge and innovation throughout all scientific disciplines. They play a fundamental role in the progress of our society. The key to using these data treasures is an effective infrastructure. With the first edition of the Conference on Research Data Infrastructure from 12 to 14 September 2023\, the Association German National Research Data Infrastructure (NFDI) is initiating a conference that will focus on establishing interdisciplinary research data management (RDM). Under the theme Connecting Communities\, national and international stakeholders from all research fields as well as from the infrastructure sector are invited to present their contributions to an excellent RDM of the future and to exchange information about the latest developments. NFDI is organizing the conference in cooperation with the Karlsruhe Institute of Technology (KIT). NFDI contributors as well as all other RDM interested stakeholders will have the opportunity to meet at the KIT South Campus.
URL:https://eosc-austria.at/event/1st-conference-on-research-data-infrastructure-cordi
LOCATION:Karlsruhe\, Karlsruhe\, Germany
CATEGORIES:F2F Events
ATTACH;FMTTYPE=image/png:https://eosc-austria.at/wp-content/uploads/2023/08/CORDI.png
END:VEVENT
BEGIN:VEVENT
DTSTART;VALUE=DATE:20230912
DTEND;VALUE=DATE:20230930
DTSTAMP:20260425T225613
CREATED:20240424T130400Z
LAST-MODIFIED:20240424T130400Z
UID:16831-1694476800-1696031999@eosc-austria.at
SUMMARY:Science Summit at the United Nations General Assembly
DESCRIPTION:The International Science Council and its partners will organise the 9th edition of the Science Summit around the 78th United Nations General Assembly (UNGA78) on 12-29 September 2023.
URL:https://eosc-austria.at/event/science-summit-at-the-united-nations-general-assembly
LOCATION:New York\, New York\, United States
CATEGORIES:F2F Events
ATTACH;FMTTYPE=image/png:https://eosc-austria.at/wp-content/uploads/2023/08/UNGA76.png
END:VEVENT
BEGIN:VEVENT
DTSTART;TZID=Europe/Paris:20230919T100000
DTEND;TZID=Europe/Paris:20230919T170000
DTSTAMP:20260425T225613
CREATED:20240424T125027Z
LAST-MODIFIED:20240424T125027Z
UID:16811-1695117600-1695142800@eosc-austria.at
SUMMARY:National Tripartite Event Spain
DESCRIPTION:The EOSC National Tripartite Event in Spain will take place on 19 September 2023 in Madrid\, hosted under the Spanish presidency of the Council of the EU. The event will bring together the three actors in the governance of EOSC (EC\, EOSC-SB and EOSC-A) and it is open to the entire community with the aim of aligning and guiding the activities within this framework\, as well as making the initiative known to new actors.
URL:https://eosc-austria.at/event/national-tripartite-event-spain
LOCATION:Madrid\, Madrid\, Spain
CATEGORIES:F2F Events
ATTACH;FMTTYPE=image/png:https://eosc-austria.at/wp-content/uploads/2023/05/Spain.png
END:VEVENT
BEGIN:VEVENT
DTSTART;VALUE=DATE:20230922
DTEND;VALUE=DATE:20230924
DTSTAMP:20260425T225613
CREATED:20240424T125713Z
LAST-MODIFIED:20240424T125713Z
UID:16821-1695340800-1695513599@eosc-austria.at
SUMMARY:41st Conference of Rectors and Presidents of European Universities of Technology
DESCRIPTION:Digital transformation spans many concepts such as artificial intelligence\, cloud computing\, Internet of things\, and big data\, and is inducing fundamental changes in all parts of society including universities.
URL:https://eosc-austria.at/event/41st-conference-of-rectors-and-presidents-of-european-universities-of-technology
LOCATION:Dublin\, Dublin\, Ireland
CATEGORIES:F2F Events
ATTACH;FMTTYPE=image/png:https://eosc-austria.at/wp-content/uploads/2023/08/Dublin.png
END:VEVENT
BEGIN:VEVENT
DTSTART;VALUE=DATE:20230925
DTEND;VALUE=DATE:20230928
DTSTAMP:20260425T225613
CREATED:20240424T125912Z
LAST-MODIFIED:20240424T125912Z
UID:16825-1695600000-1695859199@eosc-austria.at
SUMMARY:Open Science FAIR 2023
DESCRIPTION:Open Science Fair 2023 aims to bring together and empower open science communities and services; to identify common practices related to open science; to see what are the best synergies to deliver and operate services that work for many; and to bring experiences from all around the world and learn from each other.
URL:https://eosc-austria.at/event/open-science-fair-2023
LOCATION:Madrid\, Madrid\, Spain
CATEGORIES:F2F Events
ATTACH;FMTTYPE=image/png:https://eosc-austria.at/wp-content/uploads/2023/08/OS-MADRID.png
END:VEVENT
END:VCALENDAR