BEGIN:VCALENDAR
VERSION:2.0
PRODID:-// - ECPv6.15.20//NONSGML v1.0//EN
CALSCALE:GREGORIAN
METHOD:PUBLISH
X-ORIGINAL-URL:https://eosc-austria.at
X-WR-CALDESC:Events for 
REFRESH-INTERVAL;VALUE=DURATION:PT1H
X-Robots-Tag:noindex
X-PUBLISHED-TTL:PT1H
BEGIN:VTIMEZONE
TZID:Europe/Paris
BEGIN:DAYLIGHT
TZOFFSETFROM:+0100
TZOFFSETTO:+0200
TZNAME:CEST
DTSTART:20230326T010000
END:DAYLIGHT
BEGIN:STANDARD
TZOFFSETFROM:+0200
TZOFFSETTO:+0100
TZNAME:CET
DTSTART:20231029T010000
END:STANDARD
BEGIN:DAYLIGHT
TZOFFSETFROM:+0100
TZOFFSETTO:+0200
TZNAME:CEST
DTSTART:20240331T010000
END:DAYLIGHT
BEGIN:STANDARD
TZOFFSETFROM:+0200
TZOFFSETTO:+0100
TZNAME:CET
DTSTART:20241027T010000
END:STANDARD
BEGIN:DAYLIGHT
TZOFFSETFROM:+0100
TZOFFSETTO:+0200
TZNAME:CEST
DTSTART:20250330T010000
END:DAYLIGHT
BEGIN:STANDARD
TZOFFSETFROM:+0200
TZOFFSETTO:+0100
TZNAME:CET
DTSTART:20251026T010000
END:STANDARD
END:VTIMEZONE
BEGIN:VEVENT
DTSTART;VALUE=DATE:20240507
DTEND;VALUE=DATE:20240508
DTSTAMP:20260425T134532
CREATED:20240508T142328Z
LAST-MODIFIED:20240508T142328Z
UID:17973-1715040000-1715126399@eosc-austria.at
SUMMARY:1st Symposium of Research Infrastructures
DESCRIPTION:The Symposium will be the occasion to highlight Horizon Europe’s support for Open Science\,  broader access to RIs and contribution of RIs to green and digital transistion\, showcase relevant funded projects\, educate National Contact Points and encourage global Research Infrastructures dialogue. \nThe event will be hosted by the Institute of Health Carlos III (ISCIII). \nYou can use the QR code in the Save the Date or this link to register. Registration to the symposia will be open until the 26th of April 2024. \nFor practical information about the location\, metro and hotel Click Here. \nHere is the Agenda.
URL:https://eosc-austria.at/events/1st-symposium-of-research-infrastructures/
LOCATION:Madrid\, Madrid\, Spain
CATEGORIES:F2F Events
ATTACH;FMTTYPE=image/jpeg:https://eosc-austria.at/wp-content/uploads/2024/05/RICH-Symposium-of-RIs-scaled-e1714468169526.jpeg
END:VEVENT
BEGIN:VEVENT
DTSTART;TZID=Europe/Paris:20240514T090000
DTEND;TZID=Europe/Paris:20240514T160000
DTSTAMP:20260425T134532
CREATED:20240423T125435Z
LAST-MODIFIED:20240423T125435Z
UID:16662-1715677200-1715702400@eosc-austria.at
SUMMARY:SYMPOSIUM „CROSS-CUTTING RESEARCH SUPPORT SERVICES“
DESCRIPTION:Der Cluster Forschungsdaten spielt eine entscheidende Rolle bei der Koordinierung der Aktivitäten zu Forschungsinformationssystemen\, Forschungsdatenmanagement und digitalen Technologien/Infrastrukturen. Ein besonderer Fokus liegt auf der Identifizierung von Synergien und Potenzialen für eine ressourcenoptimierte Zusammenarbeit zwischen den verschiedenen österreichischen Forschungseinrichtungen. \nDie Vertreterinnen und Vertreter des Clusters Forschungsdaten laden zum Symposium „Cross-cutting Research Support Services“ ein. Informieren Sie sich über aktuelle Projekte\, lernen Sie europäische Umsetzungen kennen und diskutieren Sie die Herausforderungen der Zukunft.
URL:https://eosc-austria.at/events/symposium-cross-cutting-research-support-services/
LOCATION:TUtheSky\, Getreidemarkt 9\, 1060 Wien\, Gebäude BA\, 11. OG\, Vienna\, 1060\, Austria
CATEGORIES:F2F Events
ATTACH;FMTTYPE=image/jpeg:https://eosc-austria.at/wp-content/uploads/2024/04/TUtheSky-ohneFilterohneSchrift-Kopie-1024x683-1.jpg
END:VEVENT
BEGIN:VEVENT
DTSTART;VALUE=DATE:20240515
DTEND;VALUE=DATE:20240518
DTSTAMP:20260425T134532
CREATED:20240508T141612Z
LAST-MODIFIED:20240508T141612Z
UID:17964-1715731200-1715990399@eosc-austria.at
SUMMARY:Emerging trends for international collaboration in the CRIS domain
DESCRIPTION:CRIS 2024 is organised by euroCRIS in cooperation with the RIS Synergy Project and with friendly support of TU Wien and the University of Vienna. \nCRIS 2024 is the sixteenth edition in a biennial series of conferences devoted to improving the availability of and access to research information systems across Europe. The target audience includes managers of research-performing and/or funding institutions\, evaluators\, librarians\, ICT experts\, as well as policy makers. euroCRIS is a non-profit professional association of CRIS experts and custodian of the Common European Research Information Format (CERIF).
URL:https://eosc-austria.at/events/emerging-trends-for-international-collaboration-in-the-cris-domain/
LOCATION:Kuppelsaal\, Karlsplatz 13\, 1040 Wien\, 4.OG.\, Wien\, 1040\, Austria
CATEGORIES:F2F Events
ATTACH;FMTTYPE=image/png:https://eosc-austria.at/wp-content/uploads/2024/05/CRIS24.png
END:VEVENT
BEGIN:VEVENT
DTSTART;VALUE=DATE:20240522
DTEND;VALUE=DATE:20240524
DTSTAMP:20260425T134532
CREATED:20240521T133326Z
LAST-MODIFIED:20240521T133326Z
UID:18197-1716336000-1716508799@eosc-austria.at
SUMMARY:Stronger Together | EURASHE 33RD Annual Conference
DESCRIPTION:FOSTERING TRANSNATIONAL COOPERATION IN APPLIED UNIVERSITIES\nWith a focus on collobration and cooperation the EURASHE 33rd conference will bring together a number of different stakeholders from the Higher Education community to discuss and draft a shared path on relevant topics for the present and the future of education. \nSee the full programme and book your spot!
URL:https://eosc-austria.at/events/stronger-together-eurashe-33rd-annual-conference/
LOCATION:St. Pölten\, Austria
CATEGORIES:F2F Events
ATTACH;FMTTYPE=image/png:https://eosc-austria.at/wp-content/uploads/2024/05/Screenshot_2024-04-16_at_1.11.37_PM.png
END:VEVENT
BEGIN:VEVENT
DTSTART;VALUE=DATE:20240523
DTEND;VALUE=DATE:20240525
DTSTAMP:20260425T134532
CREATED:20240521T133709Z
LAST-MODIFIED:20240521T133709Z
UID:18201-1716422400-1716595199@eosc-austria.at
SUMMARY:Research Evaluation in the Social Sciences and Humanities Conference 2024
DESCRIPTION:RESSH 2024 – Open Research in the Humanities and Social Sciences: Evaluation\, Infrastructure and Practices\nThe RESSH 2024 Conference\, titled “Open Research in the Humanities and Social Sciences: Evaluation\, Infrastructure\, and Practices\,” aims to explore the intersection of open research and evaluation criteria within the social sciences and humanities. \nIt discusses the promotion of an open research culture and its societal impacts\, with a focus on ethics\, diversity\, and the societal relevance of research. \nFor more details\, including registration\, visit the conference website.
URL:https://eosc-austria.at/events/research-evaluation-in-the-social-sciences-and-humanities-conference-2024/
LOCATION:Arts Millennium Building\, Galway\, H91 TK33\, Ireland
CATEGORIES:F2F Events
ATTACH;FMTTYPE=image/webp:https://eosc-austria.at/wp-content/uploads/2024/05/ressh_2024-favicons_h2-shape_whiskey.webp
END:VEVENT
BEGIN:VEVENT
DTSTART;VALUE=DATE:20240526
DTEND;VALUE=DATE:20240531
DTSTAMP:20260425T134532
CREATED:20240521T134112Z
LAST-MODIFIED:20240521T134238Z
UID:18205-1716681600-1717113599@eosc-austria.at
SUMMARY:Natural Scientific Language Processing and Research Knowledge Graphs
DESCRIPTION:The Extended Semantic Web Conference is a major venue for discussing the latest scientific results and technology innovations around semantic technologies. Building on its past success\, ESWC is seeking to broaden its focus to span other relevant related research areas in which Web semantics plays an important role. \nThe goal of the Semantic Web is to create a Web of knowledge and services in which the semantics of content is made explicit and content is linked to both other content and services allowing novel applications to combine content from heterogeneous sites in unforeseen ways and support enhanced matching between users needs and content. This network of knowledge-based functionality will weave together a large network of human knowledge\, and make this knowledge machine-processable to support intelligent behaviour by machines. Creating such an interlinked Web of knowledge which spans unstructured text\, structured data  as well as multimedia content and services requires the collaboration of many disciplines\, including but not limited to: Artificial Intelligence\, Natural Language Processing\, Databases and Information Systems\, Information Retrieval\, Machine Learning\, Multimedia\, Distributed Systems\, Social Networks\, Web Engineering\, and Web Science. These complementarities are reflected in the outline of the technical program of the ESWC 2024. ESWC 2024 will present the latest results in research\, technologies and applications in its field. Besides the technical program organized over numerous tracks\, the conference will feature a workshop and tutorial program\, system descriptions and demos\, a posters exhibition and a doctoral symposium. \nAll information on the ESWC conference series and past conferences can be found at www.eswc-conferences.org.
URL:https://eosc-austria.at/events/natural-scientific-language-processing-and-research-knowledge-graphs/
LOCATION:Crete\, Greece
CATEGORIES:F2F Events
ATTACH;FMTTYPE=image/jpeg:https://eosc-austria.at/wp-content/uploads/2024/05/ESWC2024_mod2.jpg
END:VEVENT
BEGIN:VEVENT
DTSTART;VALUE=DATE:20240527
DTEND;VALUE=DATE:20240529
DTSTAMP:20260425T134532
CREATED:20240423T130543Z
LAST-MODIFIED:20240423T130543Z
UID:16671-1716768000-1716940799@eosc-austria.at
SUMMARY:EOSC-A General Assembly #8
DESCRIPTION:The EOSC Association’s 8th General Assembly will be a lunch-to-lunch\, in-person meeting to be held 27-28 May 2024.
URL:https://eosc-austria.at/events/eosc-a-general-assembly-8/
LOCATION:Irish College Leuven\, Janseniusstraat 1 Leuven\, 3000 Belgium\, Leuven\, 3000\, Belgium
CATEGORIES:F2F Events
ATTACH;FMTTYPE=image/png:https://eosc-austria.at/wp-content/uploads/2023/12/EOSCA.png
END:VEVENT
BEGIN:VEVENT
DTSTART;VALUE=DATE:20240527
DTEND;VALUE=DATE:20240530
DTSTAMP:20260425T134532
CREATED:20240521T141041Z
LAST-MODIFIED:20240521T141041Z
UID:18227-1716768000-1717027199@eosc-austria.at
SUMMARY:IMDIS 2024
DESCRIPTION:The IMDIS series of conferences provides an overview of current information systems addressing the needs of a wide range of users in ocean science. This year’s edition is structured around four main sessions: data services and tools in ocean science; technical developments for marine information and data management; marine environmental infrastructures for observation data; and data products\, information\, and knowledge. \nThe Conference will present different systems for on-line access to data\, meta-data and products\, communication standards and adapted technology to ensure platforms interoperability. Sessions will focus on infrastructures\, technologies and services for different users: environmental authorities\, research\, schools\, universities\, etc.
URL:https://eosc-austria.at/events/imdis-2024/
LOCATION:Bergen\, Bergen\, Norway
CATEGORIES:F2F Events
ATTACH;FMTTYPE=image/jpeg:https://eosc-austria.at/wp-content/uploads/2024/05/imdis-2024_0.jpg
END:VEVENT
BEGIN:VEVENT
DTSTART;VALUE=DATE:20240527
DTEND;VALUE=DATE:20240531
DTSTAMP:20260425T134532
CREATED:20240521T142818Z
LAST-MODIFIED:20240521T142818Z
UID:18234-1716768000-1717113599@eosc-austria.at
SUMMARY:Infectious Diseases Toolkit (IDTk) Contentathon 2024
DESCRIPTION:BeYond-COVID (BY-COVID) project collects comprehensive open data on SARS-CoV-2 and other infectious diseases across scientific\, medical\, public health and policy domains. \nInto the Infectious Disease Toolkit (IDTk)\, we gather knowledge we wish we had when the pandemic hit us in the spring of 2020. \nAt the contentathon participants will contribute to writing guidelines for data handling\, analysis and visualisations in the context of infectious diseases. We gather knowledge into the following subsections of IDTkit – attributing credit\, data analysis\, data communication\, data description\, data sources\, ethical legal and social issues\, provenance\, and quality control. Additionally\, applied examples are part of the showcases and country-specific examples form national resources. \nGoal: \n\nProvide content to the pages that are still missing information.\nWrite up more use cases; finish up the pages as much as possible.\nPrepare the paper about IDTkit.\n\nPracticalities: Participants need to cover their own travel expenses\, but local costs will be covered by the organisers (hotel room and food\, except for one dinner in town).
URL:https://eosc-austria.at/events/infectious-diseases-toolkit-idtk-contentathon-2024/
LOCATION:Tallinn\, Estonia
CATEGORIES:F2F Events
ATTACH;FMTTYPE=image/webp:https://eosc-austria.at/wp-content/uploads/2024/05/infectious-diseases-toolkit-idtk-contentathon-event-2024.webp
END:VEVENT
BEGIN:VEVENT
DTSTART;VALUE=DATE:20240527
DTEND;VALUE=DATE:20240602
DTSTAMP:20260425T134532
CREATED:20240521T144423Z
LAST-MODIFIED:20240521T144423Z
UID:18247-1716768000-1717286399@eosc-austria.at
SUMMARY:CRAFT-OA Summer School 2024
DESCRIPTION:CRAFT-OA 2024 Summer School for Journal Editors\nDesigned for editors proficient in Open Journal Systems (OJS)\, this program offers basic as well as advanced training to refine editorial skills and elevate the standards of Diamond Open Access publishing. Participants will delve into diverse aspects of OJS\, gain insights into alternative journal management systems\, and engage in meaningful discussions regarding the broader landscape of Diamond OA publishing. \nConnect with peers\, share expertise\, and explore collaborative opportunities to advance the field of scholarly communication. \nThis summer school is organised as part of the CRAFT-OA project. CRAFT-OA is an EU-funded project that aims to make state-of-the-art Open Access publishing available to everyone. Running from January 2023 to December 2025 the project helps editors and publishers by improving the technical and organisational infrastructure of Diamond Open Access.
URL:https://eosc-austria.at/events/craft-oa-summer-school-2024/
LOCATION:Telc\, Czech Republic
CATEGORIES:F2F Events
ATTACH;FMTTYPE=image/png:https://eosc-austria.at/wp-content/uploads/2024/05/Website-CRAFT-OA-Event-Announcements-1024x576-1.png
END:VEVENT
BEGIN:VEVENT
DTSTART;TZID=Europe/Paris:20240530T090000
DTEND;TZID=Europe/Paris:20240531T170000
DTSTAMP:20260425T134532
CREATED:20240521T141353Z
LAST-MODIFIED:20240521T141353Z
UID:18230-1717059600-1717174800@eosc-austria.at
SUMMARY:European Maritime Day
DESCRIPTION:Established in 2008\, European Maritime Day (EMD) is the annual EU meeting point on maritime affairs and sustainable blue growth\, and the place where ‘Ocean Leaders Meet’ as the slogan goes. It is also a public event reaching out to young people and citizens across Europe through local events. \nEMD has not only enabled many project partnerships and co-operations among stakeholders\, but it has also contributed to getting the need for sustainable management of ocean resources higher on the EU’s agenda. \nStakeholders generally find the European Maritime Day a great opportunity to touch base with strategic partners\, make new contacts and network\, get visibility for their projects\, ideas\, activities and achievements\, gain new insights into the evolving EU policy and funding landscape and provide input into European Maritime Policy formulation. \nEuropean Maritime Day takes place every year at the end of May. The conference takes place in a different EU country each year\, see the current list until 2029 below. The cities are selected following a call for interest launched by the Council of Ministers every five years. The latest call took place in 2022. \nThe call for expressions of interest for exhibitors will be launched early 2024. \nBlue-Cloud 2026 at the European Maritime Day\nBlue-Cloud 2026 will take part to the event with a workshop on Observations to knowledge: Unlocking Ocean Insights. The workshop aims to explore the intricate connection between AI technologies\, data governance\, and policymaking within marine ecosystems\, and how collaborative efforts among initiatives like Blue-Cloud\, iMagine\, SeaDataNet\, and EuroGOOS address them. In addition\, the audience can discover how they cooperate effectively to avoid duplication in efforts and enhance data quality. These discussions harness the collective expertise of the initiatives\, reinforcing their position as leaders in advancing operational oceanography for comprehensive marine knowledge. \nThe initiatives involved\, fully or partially funded by the EC\, gather data from European research infrastructures that cover diverse European countries and sea-basins. Moreover\, the initiatives foster a shared commitment to advancing technology\, sustainability\, and economic resilience in the maritime domain\, contributing to the overarching goals of the EU in this sector.
URL:https://eosc-austria.at/events/european-maritime-day/
LOCATION:Svendborg\, Denmark
CATEGORIES:F2F Events
ATTACH;FMTTYPE=image/jpeg:https://eosc-austria.at/wp-content/uploads/2024/05/emd.jpg
END:VEVENT
END:VCALENDAR