BEGIN:VCALENDAR
VERSION:2.0
PRODID:-// - ECPv6.15.20//NONSGML v1.0//EN
CALSCALE:GREGORIAN
METHOD:PUBLISH
X-ORIGINAL-URL:https://eosc-austria.at
X-WR-CALDESC:Events for 
REFRESH-INTERVAL;VALUE=DURATION:PT1H
X-Robots-Tag:noindex
X-PUBLISHED-TTL:PT1H
BEGIN:VTIMEZONE
TZID:Europe/Paris
BEGIN:DAYLIGHT
TZOFFSETFROM:+0100
TZOFFSETTO:+0200
TZNAME:CEST
DTSTART:20230326T010000
END:DAYLIGHT
BEGIN:STANDARD
TZOFFSETFROM:+0200
TZOFFSETTO:+0100
TZNAME:CET
DTSTART:20231029T010000
END:STANDARD
BEGIN:DAYLIGHT
TZOFFSETFROM:+0100
TZOFFSETTO:+0200
TZNAME:CEST
DTSTART:20240331T010000
END:DAYLIGHT
BEGIN:STANDARD
TZOFFSETFROM:+0200
TZOFFSETTO:+0100
TZNAME:CET
DTSTART:20241027T010000
END:STANDARD
BEGIN:DAYLIGHT
TZOFFSETFROM:+0100
TZOFFSETTO:+0200
TZNAME:CEST
DTSTART:20250330T010000
END:DAYLIGHT
BEGIN:STANDARD
TZOFFSETFROM:+0200
TZOFFSETTO:+0100
TZNAME:CET
DTSTART:20251026T010000
END:STANDARD
END:VTIMEZONE
BEGIN:VEVENT
DTSTART;VALUE=DATE:20240930
DTEND;VALUE=DATE:20241005
DTSTAMP:20260421T091024
CREATED:20240521T110519Z
LAST-MODIFIED:20240521T110702Z
UID:18145-1727654400-1728086399@eosc-austria.at
SUMMARY:EGI Conference 2024
DESCRIPTION:We’re happy to announce that EGI2024 will take place in Lecce\, Italy – from September 30th to October 4th. \nFor this edition of our annual conference\, EGI are closely collaborating with Fondazione Centro Euro-Mediterraneo sui Cambiamenti Climatici (CMCC)\, based in Lecce. \nAbout CMCC \nThe Euro-Mediterranean Center on Climate Change is an Italian research centre dedicated to climate and climate related research\, including climate variability\, its causes and consequences\, carried out through numerical models ranging from Global Earth System to Regional models within the Euro-Mediterranean area. \nAbout Lecce \nLocated in the very heel of Italy\, Lecce is a gorgeous\, baroque city with a delightful Mediterranean climate at the end of September\, known for its olive oil and wine culture. \nAbout the venue \nThe main location for the conference will be the Hilton Garden Inn in Lecce. Some side meetings will take place at the CMCC offices. \nPreliminary timeline \n\nEnd of February 2024: Call for Abstracts & Exhibition Partners\nEnd of April 2024: Programme (draft) available\nMay 2024: start Registration
URL:https://eosc-austria.at/events/egi-conference-2024/
LOCATION:Hilton Garden Inn Lecce\, Via Cosimo de Giorgi\, 62\, Lecce\, 73100\, Italy
CATEGORIES:F2F Events
ATTACH;FMTTYPE=image/webp:https://eosc-austria.at/wp-content/uploads/2024/05/EGI2024-Save-the-date-Blue-1.webp
END:VEVENT
BEGIN:VEVENT
DTSTART;VALUE=DATE:20241006
DTEND;VALUE=DATE:20241012
DTSTAMP:20260421T091024
CREATED:20240918T112131Z
LAST-MODIFIED:20240918T112356Z
UID:19091-1728172800-1728691199@eosc-austria.at
SUMMARY:Ocean Optics XXVI
DESCRIPTION:The organizers are eagerly anticipating Ocean Optics XXVI in Las Palmas de Gran Canaria\, Spain\, from October 6–11\, 2024. This six-day conference will take place at the Palacio de Congresos\, located along Playa de Las Canteras. The venue offers various meeting spaces\, state-of-the-art technology\, and a welcoming\, professional staff. Over 350 attendees from around the world have already registered\, and registration remains open through October 11\, 2024. \nhttps://oceanopticsconference.org/registration/Register here
URL:https://eosc-austria.at/events/ocean-optics-xxvi/
LOCATION:Las Palmas de Gran Canaria
CATEGORIES:F2F Events
ATTACH;FMTTYPE=image/webp:https://eosc-austria.at/wp-content/uploads/2024/09/footer-water.webp
END:VEVENT
BEGIN:VEVENT
DTSTART;VALUE=DATE:20241008
DTEND;VALUE=DATE:20241009
DTSTAMP:20260421T091024
CREATED:20240521T130404Z
LAST-MODIFIED:20240521T130452Z
UID:18170-1728345600-1728431999@eosc-austria.at
SUMMARY:ESFRI Roadmap 2026 InfoDay
DESCRIPTION:The ESFRI Strategic Report on RIs in Europe\, known as the ESFRI Roadmap\, has been\, for the past 22 years\, the prestigious result of a laborious collaborative process aspiring to guarantee the creation of and access to large European Research Infrastructures with the vision to expand European scientific excellence. \nESFRI organises an Information Day\, on 8 October 2024 in Brussels\, to kick-off the process of updating its Roadmap (to be completed in 2026). Top Roadmap stakeholders will provide a thorough presentation of the requirements\, the procedure and the methodology of selection of proposals for new RI Projects to enter the Roadmap. There will also be further presentations on the monitoring of ESFRI RI projects already on the Roadmap. \nThe Info Day will last the whole morning of the 8 October and will be hosted by the European Commission in Brussels. \nAttendance requires physical presence and registration is open to all\, until maximum venue capacity is reached. We expect that \n\nmax 1 person per existing ESFRI RI project or other stakeholder organisation can be accommodated\nat least one person per provisional new project proposal can be accommodated\n\nPlease express your interest to attend the InfoDay via the registration form and you will receive a follow-up confirmation email during the first week of July.
URL:https://eosc-austria.at/events/roadmap-2026-infoday/
LOCATION:Brussels\, Brussels\, Belgium
CATEGORIES:F2F Events
ATTACH;FMTTYPE=image/png:https://eosc-austria.at/wp-content/uploads/2024/05/2-copy-2_0_0.png
END:VEVENT
BEGIN:VEVENT
DTSTART;VALUE=DATE:20241010
DTEND;VALUE=DATE:20241012
DTSTAMP:20260421T091024
CREATED:20240918T081110Z
LAST-MODIFIED:20240918T081110Z
UID:18994-1728518400-1728691199@eosc-austria.at
SUMMARY:CRAFT-OA Tech Event
DESCRIPTION:From 10-11 October 2024\, CRAFT-OA organises the CRAFT-OA Tech Event in Turin\, Italy. \nThe gathering aims to bring together various stakeholders\, including members of the Diamond Open Access (OA) community\, institutional publishing service and technology providers\, journal editors\, and technical professionals working with publishing systems like OJS\, Lodel\, and Janeway. \nThe event will feature presentations\, workshops\, and hands-on sessions on topics such as: \n\nthe Diamond Discovery Hub – the registry of Diamond OA journals\nOJS core and plug-in developments\nIndexes and Aggregators Knowledge Base  \nJournals Visibility Pathfinder for indexing and harvesting services\nTraining materials and curriculum for technical standards\nthe Living Handbook for Diamond OA publishing\nAAI – single sign-on service for the community\nand much more (detailed information on topics is given on the registration website)\n\nThis event is a unique opportunity to share knowledge on the technological advancements within the CRAFT-OA project\, collaborate and shape the future of equitable\, scholar-led\, digital publishing. \nThe registration is open until the 25th of September 2024: https://events.gwdg.de/event/834/overview \nTo ensure an engaging and interactive event\, the number of participants is limited to 99. \nPlease note that a PKP sprint\, hosted by CRAFT-OA\, will also take place in the same location from October 08-09\, 2024: https://events.gwdg.de/event/833/ \nIf you have any questions regarding the event\, please do not hesitate to reach out to the CRAFT-OA coordination team at craft-oa.coordination@sub.uni-goettingen.de.
URL:https://eosc-austria.at/events/craft-oa-tech-event/
LOCATION:Turin
CATEGORIES:F2F Events
ATTACH;FMTTYPE=image/png:https://eosc-austria.at/wp-content/uploads/2024/09/3-1536x864-1.png
END:VEVENT
BEGIN:VEVENT
DTSTART;TZID=Europe/Paris:20241010T090000
DTEND;TZID=Europe/Paris:20241010T143000
DTSTAMP:20260421T091024
CREATED:20240918T110749Z
LAST-MODIFIED:20240918T110749Z
UID:19074-1728550800-1728570600@eosc-austria.at
SUMMARY:Ocean Data Action Day
DESCRIPTION:Hosted by HUB Ocean\, Microsoft and Accenture on October 10th\, the Ocean Data Action Day will provide insights into the invaluable role of industrial ocean data sharing in promoting ocean health and sustainable management. Sharing this data bridges knowledge gaps\, benefiting both the environment and ocean-dependent industries. \nUnder the auspices of the High-Level Panel for a Sustainable Ocean Economy\, these organizations spearhead the coalition\, contributing to the Ocean Panel’s goal of achieving a 100% sustainably managed ocean. Unlocking industrial ocean data is a specific goal for ODAC\, as it is for the UN Ocean Decade’s Corporate Data Group\, of which HUB Ocean is also a key member. \nModerated by David Eades\, broadcaster and journalist\, the event will feature leaders from industry\, science and regulatory\, and offer a 360° perspective on the significance of industrial ocean data sharing. HUB Ocean will introduce their report\, Tides of Transparency: A First Mapping of Industrial Ocean Data Sharing\, including insights\, use cases and guidelines explaining why and how private industry can make their ocean data publicly accessible\, empowering all joining to contribute to the sustainable management of the ocean. \nBlue-Cloud 2026 at the event\nBlue-Cloud 2026 will be represented by Dick Shaap (MARIS)\, Technical Coordinator of Blue-Cloud\, who will be giving a presentation at 10:20 CEST on Enriching Open Ocean Data Repositories with Industrial Data.  \nRegister here
URL:https://eosc-austria.at/events/ocean-data-action-day/
LOCATION:Oslo
CATEGORIES:F2F Events
ATTACH;FMTTYPE=image/jpeg:https://eosc-austria.at/wp-content/uploads/2024/09/unnamed.jpg
END:VEVENT
BEGIN:VEVENT
DTSTART;TZID=Europe/Paris:20241010T100000
DTEND;TZID=Europe/Paris:20241010T173000
DTSTAMP:20260421T091024
CREATED:20240918T094904Z
LAST-MODIFIED:20240918T094904Z
UID:19064-1728554400-1728581400@eosc-austria.at
SUMMARY:FAIR-EASE Open Day on Open Science for Earth Systems
DESCRIPTION:This event is dedicated to policy makers\, institutional authorities\, external scientists and stakeholders\, and will be held in Naples on 10 October 2024.
URL:https://eosc-austria.at/events/fair-ease-open-day-on-open-science-for-earth-systems/
LOCATION:Napels
CATEGORIES:F2F Events
ATTACH;FMTTYPE=image/png:https://eosc-austria.at/wp-content/uploads/2024/09/FAIR_ease.png
END:VEVENT
BEGIN:VEVENT
DTSTART;VALUE=DATE:20241015
DTEND;VALUE=DATE:20241018
DTSTAMP:20260421T091024
CREATED:20240918T094029Z
LAST-MODIFIED:20240918T094029Z
UID:19061-1728950400-1729209599@eosc-austria.at
SUMMARY:Second All Hands Meeting in The Hague | 15-17 October 2024
DESCRIPTION:The second FAIR-IMPACT All Hands Meeting will occur middle of October in The Hague. \n\n\nThe FAIR-IMPACT consortium will gather in person in The Hague from October 15th to 17th to assess progress and finalise the project work plan. \nThis All Hands meeting presents a valuable opportunity for collaboration\, emphasising milestones and achievements. \nThe agenda includes plenary sessions on October 15th to outline the project’s trajectory\, followed by task sessions for in-depth discussions and focused meetings on specific topics. \nMoreover\, this event will enable reunions with the FAIR-IMPACT EOSC Champions and coordination with our sister project\, FAIRCORE4EOSC
URL:https://eosc-austria.at/events/second-all-hands-meeting-in-the-hague-15-17-october-2024/
LOCATION:The Hague
CATEGORIES:F2F Events
ATTACH;FMTTYPE=image/jpeg:https://eosc-austria.at/wp-content/uploads/2024/09/All-Hands-Meeting-October-2024.jpg
END:VEVENT
BEGIN:VEVENT
DTSTART;VALUE=DATE:20241017
DTEND;VALUE=DATE:20241018
DTSTAMP:20260421T091024
CREATED:20240918T114232Z
LAST-MODIFIED:20240918T114309Z
UID:19110-1729123200-1729209599@eosc-austria.at
SUMMARY:Open Innovation in Life Sciences 2024
DESCRIPTION:The Open Innovation in Life Sciences conference is a premier life science conference motivated and organized by early career researchers. The program consists of keynote lectures\, science pitches\, poster sessions\, and panel discussions that aim to: \n\nFoster interactions among early career researchers in all life science fields as well as explore career development in the context of open science.\nEnhance interactions between academia\, industry\, and society by bringing together all relevant stakeholder groups to discuss topics pertaining to open science and innovation.\n\nThis year’s overarching scientific theme of the OILS24 conference is Aging in the Digital Age\, where the participants will explore the growing role of Artificial Intelligence in driving Open Innovation to support Aging. \nRegister: https://oils24.b2match.io/
URL:https://eosc-austria.at/events/open-innovation-in-life-sciences-2024/
LOCATION:Zurich
CATEGORIES:F2F Events
ATTACH;FMTTYPE=image/png:https://eosc-austria.at/wp-content/uploads/2024/09/8277549152-1c7a1537a2.png
END:VEVENT
BEGIN:VEVENT
DTSTART;VALUE=DATE:20241021
DTEND;VALUE=DATE:20241028
DTSTAMP:20260421T091024
CREATED:20240717T091945Z
LAST-MODIFIED:20240717T092007Z
UID:18643-1729468800-1730073599@eosc-austria.at
SUMMARY:Open Access Week 2024
DESCRIPTION:Open Access Week is an invaluable chance to connect the global momentum toward the open sharing of knowledge with the advancement of policy changes and the importance of social issues affecting people around the world. The event is celebrated by individuals\, institutions\, and organizations around the world\, and its organization is led by a global advisory committee\, which selects each year’s theme. \nThe theme of International Open Access Week for 2024 will continue with last year’s focus on “Community over Commercialization.” This theme contributed to a growing recognition of the need to prioritize approaches to open scholarship that serve the best interests of the public and the academic community. Taking the unprecedented step to build on this theme for a second year highlights the importance of this conversation and presents the opportunity to turn more of these deliberations into collective action.
URL:https://eosc-austria.at/events/open-access-week-2024/
CATEGORIES:F2F Events
ATTACH;FMTTYPE=image/png:https://eosc-austria.at/wp-content/uploads/2024/07/OpenAccessWeekLogo.png
END:VEVENT
BEGIN:VEVENT
DTSTART;VALUE=DATE:20241021
DTEND;VALUE=DATE:20241024
DTSTAMP:20260421T091024
CREATED:20240521T111327Z
LAST-MODIFIED:20240521T112008Z
UID:18150-1729468800-1729727999@eosc-austria.at
SUMMARY:3rd Annual Forum 2024
DESCRIPTION:Bringing together leading international experts and key regional stakeholders\, the Annual Forum for Open Research in MENA supports the Arab world’s transition towards more accessible\, sustainable and inclusive research and education models. \n\n\n\n\nThe 2024 Annual Forum will offer a series of carefully tailored presentations and panels addressing key themes and topics related to the advancement of Open Science policies and practices in research institutions and research communities throughout the Arab world. Qatar National Library are the Host Partner for this event\, the continued support and funding from the Knowledge E Foundation. \nThis year’s conference theme is: Transforming Knowledge Into Action. Librarians\, researchers\, policy makers\, higher-education institutions are invited to join and work together towards a more open Arab world.
URL:https://eosc-austria.at/events/3rd-annual-forum-2024/
LOCATION:Qatar
CATEGORIES:F2F Events
ATTACH;FMTTYPE=image/webp:https://eosc-austria.at/wp-content/uploads/2024/05/2024-full-logo-colour.webp
END:VEVENT
BEGIN:VEVENT
DTSTART;TZID=Europe/Paris:20241021T090000
DTEND;TZID=Europe/Paris:20241021T123000
DTSTAMP:20260421T091024
CREATED:20240918T093036Z
LAST-MODIFIED:20240918T093036Z
UID:19055-1729501200-1729513800@eosc-austria.at
SUMMARY:Workshop: Making the Competence Centres Network sustainable and enhanced
DESCRIPTION:The Skills4EOSC project has organised a collaborative workshop bringing together Competence Centres from our European network\, project partners\, and guests from other related projects\, all focused on Open Science competence development. \nThis interactive session will focus on three key areas: \n\nEnsuring the sustainability of our Competence Centre network\nExploring how the network can better support individual Competence Centres\nEnhancing the overall experience and effectiveness of our collaboration\n\nParticipants can share insights\, challenges\, and innovative ideas through facilitated discussions and breakout groups. We aim to generate concrete proposals that will shape the future of Open Science training and support across Europe. \n\nParticipation\n\nThis workshop is a closed event\, reserved for: \n\nRepresentatives from Skills4EOSC Competence Centres\nSkills4EOSC project partners\nInvited professionals involved in Open Science training and support\nGuests from other related projects\n\nIf you have received an invitation please proceed with the registration process.\nFor any questions\, or if believe you qualify to attend\, please contact coordinator@skills4eosc.eu . \n\n\n\n\n\n\n\n\n\nDraft Agenda\nOctober 21\, 2024\, from 9:00 to 12:30 CEST\n\n\n\n\n9:00 – 9:15\n\n\n\nWelcome and introduction to the Workshop \n\n\n\n\n\n\n\n9:15- 9:45\n\n\n\nSkills4EOSC offerings for Competence Centres and presentation of the Competence Centre Network \n\n\n\n\n\n\n\n9:45 – 10:30\n\n\n\nBreakout Session 1: Network aspects (two tables for each topic) \n\nTopic 1: Sustainability and Governance of the Network\nTopic 2: How the Network Can Support Competence Centres\nTopic 3: EOSC Node & Competence Centre\n\nParticipants will be divided into tables of around 10 people to discuss these topics in depth. \n\n\n\n\n\n\n\n10:30 – 10:45\n\n\n\nCoffee Break \n\n\n\n\n\n\n\n10:45 – 11:30\n\n\n\nBreakout Session 2: Competence Centre aspects (two tables for each topic) \n\nTopic 4: Services Offered by Competence Centres\nTopic 5: Integrating the Data Stewardship Curriculum into Competence Centre Services\nTopic 6: Sustainability and Governance of Competence Centres\n\nAgain\, participants will be divided into tables of around 10 people to ensure focused discussions. \n\n\n\n\n\n\n\n11:30 – 12:30\n\n\n\nFinal Session: Wrap-up and closing remarks \nThis session will briefly overview the discussions from both breakout sessions\, highlighting key points and action items. \n\n\n\n\n\n\nThis event will take place in the same location as the EOSC Symposium\, which will begin at 13:00 on October 21.
URL:https://eosc-austria.at/events/workshop-making-the-competence-centres-network-sustainable-and-enhanced/
LOCATION:Berlin\, Berlin\, Germany
CATEGORIES:F2F Events
ATTACH;FMTTYPE=image/webp:https://eosc-austria.at/wp-content/uploads/2024/09/22-d72d47df.webp
END:VEVENT
BEGIN:VEVENT
DTSTART;VALUE=DATE:20241022
DTEND;VALUE=DATE:20241023
DTSTAMP:20260421T091024
CREATED:20240521T112415Z
LAST-MODIFIED:20240521T112415Z
UID:18155-1729555200-1729641599@eosc-austria.at
SUMMARY:National Open Science Festival 2024 at Maastricht University
DESCRIPTION:Maastricht University (UM) will be the venue for the National Open Science Festival on 22 October 2024 at the School of Business and Economics (SBE). Since the founding of Open Science NL\, it has taken over the organisation of the festival and made an annual budget available for it. However\, the National Open Science Festival is truly a festival for and by the community. The organising committee of the 2024 edition comprises staff from UM\, Data Archiving and Networked Services (DANS)\, National Coordination Point Research Data Management (LCRDM) and Open Science NL. Additionally\, a programme committee reflecting the broad Open Science community is currently being formed. Read more about this event on the website of Open Science NL. \nRegistration\nThe opening of registration will be announced via the Open Science NL website and newsletter\, as well as via DANS\, LCRDM\, UM and OSCNL. Furthermore\, the National Open Science Festival will once again feature its own website\, offering people the opportunity to sign up as presenters for programme components or register as visitors. \nThe importance of Open Science at UM\nThe aim of Open Science is to strengthen collaboration\, both among individual researchers and between other parties and scientists. Open Science makes research more transparent\, controllable\, faster\, more efficient\, reproducible and more sustainable. The idea is that civil society organisations\, patient organisations\, companies and other organisations can all benefit from easy access to scientific research. The National Open Science Festival embodies this vision and invites researchers and support staff with an interest in Open Science to attend\, learn from each other and exchange ideas. \nVisit the UM website on Open Science to learn how to incorporate it into your research.
URL:https://eosc-austria.at/events/national-open-science-festival-2024-at-maastricht-university/
LOCATION:Maastricht\, Netherlands
CATEGORIES:F2F Events
ATTACH;FMTTYPE=image/png:https://eosc-austria.at/wp-content/uploads/2024/05/National-Open-Science-Festival.png
END:VEVENT
BEGIN:VEVENT
DTSTART;VALUE=DATE:20241023
DTEND;VALUE=DATE:20241025
DTSTAMP:20260421T091024
CREATED:20240918T121434Z
LAST-MODIFIED:20240918T121434Z
UID:19131-1729641600-1729814399@eosc-austria.at
SUMMARY:EOSCxNFDI
DESCRIPTION:The EOSC Symposium will take place in Berlin from October 21-23\, 2024. NFDI is the mandated organisation for Germany in the EOSC Association and is a partner at the EOSC Symposium. \nNFDI would like to use this opportunity for exchange in Germany and is therefore organising a side event together with EOSC on October 23-24\, 2024. \nThe objective of the side event is to demonstrate the intertwined developments and communities of NFDI and EOSC. It is intended to provide a framework for participants from EOSC and NFDI to address and discuss common topics and facilitate mutual understanding. Presentations\, panel discussions and sufficient time for exchange are planned. Additionally\, an interactive format will be provided with the planned world café. \nWe are pleased to be able to allocate some additional places due to changes in room capacities. We therefore cordially invite you to register for the event: \n  \nEOSCxNFDI \nNFDI side event to the EOSC Symposium \nH4 Hotel Berlin Alexanderplatz \nKarl-Liebknecht-Str. 32\, 10178 Berlin \n  \n23 October (from 4 p.m.) to 24 October 2024 (approx. 3:30 p.m.) \n  \n  \nRegistration \nIf you are able to attend the event\, please register by 25 September at https://eveeno.com/eoscxnfdi. We will keep you up to date via the portal in future and provide you with further information on the agenda and travelling to the event. \n  \nPlease note: Registration is on a first-come-first-served basis. If the available places are full\, there will be a waiting list. \n  \nTaking part in the event is completely free of charge. Unfortunately\, we cannot cover the costs of accommodation and travel. \n  \nRegistration for the EOSC Symposium and EOSCxNFDI takes place separately. The EOSC Symposium is now fully booked on site\, but the online participation is still possible. \n  \nEvening Programme \nAn evening event is also planned for 23 October. This will take place from 6.30 pm at the Landesvertretung Schleswig-Holstein (Schleswig-Holstein State Representation)\, In den Ministergärten 8\, 10117 Berlin.
URL:https://eosc-austria.at/events/eoscxnfdi/
LOCATION:Berlin\, Berlin\, Germany
CATEGORIES:F2F Events
ATTACH;FMTTYPE=image/png:https://eosc-austria.at/wp-content/uploads/2024/09/ndfi_eosc.png
END:VEVENT
BEGIN:VEVENT
DTSTART;VALUE=DATE:20241027
DTEND;VALUE=DATE:20241031
DTSTAMP:20260421T091024
CREATED:20240807T092446Z
LAST-MODIFIED:20240807T092446Z
UID:18864-1729987200-1730332799@eosc-austria.at
SUMMARY:FAIR-DI European Conference on Data Intelligence 2024
DESCRIPTION:Building on the success of previous editions\, we are pleased to announce the upcoming FAIR-DI European Conference on Data Intelligence 2024. Following the remarkable achievements and insightful discussions at the 2020 and 2022 Conferences on a FAIR Data Infrastructure for Materials Genomics\, we are excited to continue the discussion and further collaboration and innovation in this growing field with the theme of Data Intelligence.
URL:https://eosc-austria.at/events/fair-di-european-conference-on-data-intelligence-2024/
LOCATION:Karlsruhe\, Karlsruhe\, Germany
CATEGORIES:F2F Events
ATTACH;FMTTYPE=image/png:https://eosc-austria.at/wp-content/uploads/2024/08/FAIR-DIconference2024.png
END:VEVENT
BEGIN:VEVENT
DTSTART;TZID=Europe/Paris:20241027T080000
DTEND;TZID=Europe/Paris:20241030T170000
DTSTAMP:20260421T091024
CREATED:20240918T083822Z
LAST-MODIFIED:20240918T083822Z
UID:19001-1730016000-1730307600@eosc-austria.at
SUMMARY:FAIR-DI European Conference on Data Intelligence 2024
DESCRIPTION:Building on the success of previous editions\, we are pleased to announce the upcoming FAIR-DI European Conference on Data Intelligence 2024. Following the remarkable achievements and insightful discussions at the 2020 and 2022 Conferences on a FAIR Data Infrastructure for Materials Genomics\, we are excited to continue the discussion and further collaboration and innovation in this growing field with the theme of Data Intelligence. \n  \nPost-deadline Abstract Submission: \nIn response to the overwhelming interest in our conference and the rapid advancements in the field of data intelligence\, we are excited to announce that we are now accepting post-deadline submissions for abstracts. We have reserved 4 post-deadline talk slots and multiple poster presentation opportunities during the conference program. \nWe invite you to submit your abstracts by September 8\, 2024. \n  \nPOST-DEADLINE ABSTRACT SUBMISSION>\n  \nConference topics: \n\nThe “NFDI Cosmos”\nData management\, stewardship & databases (FAIR research\, repositories\, ontologies\, error quantification\, etc.)\nMachine learning (ML) applications using existing data repositories\nNew strategies for materials synthesis based on ML-approaches\nDeveloping strategies for scale-bridging workflows in computational materials science\nDigital twins\nHigh-throughput simulation\nAutomation (autonomous experimentation)
URL:https://eosc-austria.at/events/fair-di-european-conference-on-data-intelligence-2024-2/
LOCATION:Karlsruhe\, Karlsruhe\, Germany
CATEGORIES:F2F Events
ATTACH;FMTTYPE=image/png:https://eosc-austria.at/wp-content/uploads/2024/09/FAIR-DI.png
END:VEVENT
BEGIN:VEVENT
DTSTART;VALUE=DATE:20241028
DTEND;VALUE=DATE:20241031
DTSTAMP:20260421T091024
CREATED:20240918T084147Z
LAST-MODIFIED:20240918T084147Z
UID:19007-1730073600-1730332799@eosc-austria.at
SUMMARY:IBERGRID 2024
DESCRIPTION:Better Software for better Science \nThe 13th Iberian Grid Conference will take place in Porto\, Portugal\, from Monday 28th to Wednesday 30th of October. \nImportant Dates \n\n5th July – 30th September – Call for abstracts (submission in this Indico)\n3th July – 4th October – Registration (at this indico) \n28th – 30th October – Conference
URL:https://eosc-austria.at/events/ibergrid-2024/
LOCATION:Porto
CATEGORIES:F2F Events
ATTACH;FMTTYPE=image/png:https://eosc-austria.at/wp-content/uploads/2024/09/IBERGRID24_header.png
END:VEVENT
BEGIN:VEVENT
DTSTART;VALUE=DATE:20241029
DTEND;VALUE=DATE:20241031
DTSTAMP:20260421T091024
CREATED:20240918T084733Z
LAST-MODIFIED:20240918T084733Z
UID:19011-1730160000-1730332799@eosc-austria.at
SUMMARY:DeiC Conference 2024
DESCRIPTION:The conference is the annual event for everyone interested in e-infrastructure in Danish research. Here you can gain new knowledge and professional input in areas such as Data Management\, HPC\, Security\, Network & Services\, and Quantum Computing. The DeiC Conference is also the place to nurture and develop your professional network. \nBy registering before August 30\, you can get your ticket at the early bird price. Read more and register here. \nCollaboration at the Center\nThe theme of this year’s conference is “Collaboration on digital research infrastructure for a better tomorrow\,” and for the first time\, the conference program will be organized around cross-disciplinary topics rather than specific fields. Program committee member Hannah Mihai explains: \n“This year\, we have worked to reflect the significant overlap between our fields in the structure of our conference program. None of our fields stand entirely alone\, and we need each other’s expertise. A good example is DeiC’s involvement in various projects concerning measurements on fiber cables\, where the cables are owned by the Research Network\, data is processed in HPC computing centers under strict security requirements as they can potentially be sensitive\, and the data is stored in accordance with good and FAIR Data Management principles.” Hannah Mihai\, Data Management Consultant\, DeiC. \nThe program committee is currently working hard to put together this year’s exciting program\, and they look forward to presenting the first names in the upcoming DeiC newsletter. \nNew Social Activities\nThe opportunity to meet with old and new acquaintances is a central part of the conference for the participants. To support this even more\, the program committee is planning a series of social activities this year\, where participants can interact in informal settings. Keep an eye on DeiC’s upcoming newsletters and our website for more details.
URL:https://eosc-austria.at/events/deic-conference-2024/
LOCATION:Copenhagen
CATEGORIES:F2F Events
ATTACH;FMTTYPE=image/png:https://eosc-austria.at/wp-content/uploads/2024/09/DeiC.png
END:VEVENT
END:VCALENDAR