BEGIN:VCALENDAR
VERSION:2.0
PRODID:-// - ECPv6.15.20//NONSGML v1.0//EN
CALSCALE:GREGORIAN
METHOD:PUBLISH
X-ORIGINAL-URL:https://eosc-austria.at
X-WR-CALDESC:Events for 
REFRESH-INTERVAL;VALUE=DURATION:PT1H
X-Robots-Tag:noindex
X-PUBLISHED-TTL:PT1H
BEGIN:VTIMEZONE
TZID:Europe/Paris
BEGIN:DAYLIGHT
TZOFFSETFROM:+0100
TZOFFSETTO:+0200
TZNAME:CEST
DTSTART:20240331T010000
END:DAYLIGHT
BEGIN:STANDARD
TZOFFSETFROM:+0200
TZOFFSETTO:+0100
TZNAME:CET
DTSTART:20241027T010000
END:STANDARD
BEGIN:DAYLIGHT
TZOFFSETFROM:+0100
TZOFFSETTO:+0200
TZNAME:CEST
DTSTART:20250330T010000
END:DAYLIGHT
BEGIN:STANDARD
TZOFFSETFROM:+0200
TZOFFSETTO:+0100
TZNAME:CET
DTSTART:20251026T010000
END:STANDARD
BEGIN:DAYLIGHT
TZOFFSETFROM:+0100
TZOFFSETTO:+0200
TZNAME:CEST
DTSTART:20260329T010000
END:DAYLIGHT
BEGIN:STANDARD
TZOFFSETFROM:+0200
TZOFFSETTO:+0100
TZNAME:CET
DTSTART:20261025T010000
END:STANDARD
END:VTIMEZONE
BEGIN:VEVENT
DTSTART;VALUE=DATE:20251110
DTEND;VALUE=DATE:20251112
DTSTAMP:20260420T170706
CREATED:20250618T101128Z
LAST-MODIFIED:20250618T101128Z
UID:20731-1762732800-1762905599@eosc-austria.at
SUMMARY:Open Science in the light of geopolitical polarisation
DESCRIPTION:The current geopolitical landscape is characterised by rising political and trade tensions as well as heightened economic interest in scientific innovation. This polarisation has significant implications for the global scientific community\, particularly in the pursuit of Open Science. Could the naivety of science be exploited? Where is the line between scientific idealism and naivety? \nAs major global powers engage in systemic rivalries\, the conduct of science is increasingly influenced by national security concerns\, export controls\, and sanctions that can restrict the free flow of ideas\, data\, and researchers across borders. Meanwhile\, global challenges such as pandemics\, climate change\, and technology-based development require international scientific collaboration and universal knowledge development. The normative nature of the scientific ethos is increasingly in tension with political forces that demand that science be both vigilant and competitive. \nHow can Open Science – with its emphasis on transparency\, collaboration\, efficiency and validity of scientific results – be sustained in the light of these competing interests? \nDuring this year’s Open Science Days\, we will explore these tensions by discussing the interrelations of Open Science\, political interests\, and innovation. We will ask how research organizations can reconcile Open Science policies with resilience and competitiveness. \n\n\nAbout Open Science Days\nThe Open Science Days (OSD) are periodically organised by the Max Planck Digital Library. \nIn the context of this conferences we deal with various aspects of a global movement towards a more open\, transparent and reproducible approach to science. Aside from invited expert talks\, participants get the opportunity to present their own ideas\, experiences\, initiatives or activities in a Lightning Talk session. It is an open discussion platform around current Open Science developments. \nThe hybrid event is directed at researchers and specialists outside the Max Planck Society as well as within. It is for anyone\, who is interested in an interdisciplinary communication about Open Science.
URL:https://eosc-austria.at/events/open-science-in-the-light-of-geopolitical-polarisation/
LOCATION:Berlin\, Berlin\, Germany
CATEGORIES:F2F Events
ATTACH;FMTTYPE=image/png:https://eosc-austria.at/wp-content/uploads/2025/06/OSiP_Logo_b-360px-1-300x129-1.png
END:VEVENT
BEGIN:VEVENT
DTSTART;VALUE=DATE:20251110
DTEND;VALUE=DATE:20251113
DTSTAMP:20260420T170706
CREATED:20250925T151529Z
LAST-MODIFIED:20250925T151529Z
UID:21119-1762732800-1762991999@eosc-austria.at
SUMMARY:Open Science Week 2025
DESCRIPTION:Open Science Week 2025\, organised by the Open Science Working Group of the Association of Libraries of Czech Universities\, is approaching!  \n We are preparing three days full of inspiration\, experience sharing\, and practical demonstrations focused on Open Science\, research data management\, open access\, citizen science\, and the legal aspects of open science. You can look forward to expert lectures\, live discussions\, and networking that will connect researchers\, PhD students\, librarians\, project support staff\, data stewards\, and all other friends of open science – everyone will find something to their liking!  \nFollow us on social media for more information – the program details will be published soon. \nInstagram Open Science novinky \nFacebook Open Science novinky \nRegistration will open soon.
URL:https://eosc-austria.at/events/open-science-week-2025/
CATEGORIES:F2F Events
ATTACH;FMTTYPE=image/jpeg:https://eosc-austria.at/wp-content/uploads/2025/09/oaw2025-724x1024-1.jpg
END:VEVENT
BEGIN:VEVENT
DTSTART;VALUE=DATE:20251112
DTEND;VALUE=DATE:20251114
DTSTAMP:20260420T170706
CREATED:20250702T123610Z
LAST-MODIFIED:20250702T123610Z
UID:20769-1762905600-1763078399@eosc-austria.at
SUMMARY:Opening Research Assessment
DESCRIPTION:For research assessment to truly support Open Science\, we must prioritise transparency\, inclusivity\, and fairness in how we recognise research activities and contributions. This means not only ensuring that all contributions to Open Science are valued but also promoting openness in the data\, tools\, services\, and other resources used in the assessment process. \nWe invite you to our Conference on Opening Research Assessment\, where we will present the results of the GraspOS project and engage in discussions on transforming research assessment into a system that is open\, responsible and aligned with the principles of Open Science. \n\n\n\n\n\n\nThe GraspOS project supports the emerging policy reforms and paves the way for a responsible research assessment system that is fully aware of and integrated with Open Science practices. GraspOS focuses on developing\, assessing\, and operating an open federated infrastructure designed to aggregate open resources that can catalyse the implementation of relevant policy reforms. \nThe Conference will not only showcase the key outcomes and insights of the project\, but will also feature invited talks and expert panels addressing critical topics for advancing a responsible research assessment system that fully embraces Open Science principles including: \n\n\n\nOpen infrastructures for responsible research assessment\nTransparency and inclusivity of the assessment processes\nRecognition of contributions to Open Science \n\n\n\nWe also invite poster contributions aligned with these themes by anyone interested. Guidelines on how to submit a contribution for the Poster Session are available below.
URL:https://eosc-austria.at/events/opening-research-assessment/
LOCATION:Pisa
CATEGORIES:F2F Events
ATTACH;FMTTYPE=image/webp:https://eosc-austria.at/wp-content/uploads/2025/07/website-252f8e39.webp
END:VEVENT
BEGIN:VEVENT
DTSTART;TZID=Europe/Paris:20251117T100000
DTEND;TZID=Europe/Paris:20251117T190000
DTSTAMP:20260420T170706
CREATED:20251113T145915Z
LAST-MODIFIED:20251113T145915Z
UID:21269-1763373600-1763406000@eosc-austria.at
SUMMARY:Austrian ERA SYMPOSIUM 2025
DESCRIPTION:The Austrian ERA Symposium 2025: “Towards Europe’s Fifth Freedom” will be held as a full-day\, in-person event in Vienna on 17 November 2025. \nThis year’s symposium offers a unique opportunity to explore and shape the future of the European Research Area (ERA). We are honoured to welcome Commissioner for Start-ups\, Research and Innovation Ekaterina Zaharieva\, who will share first-hand insights into the evolving EU R&I landscape. We will furthermore discuss the path towards the ERA Act – an envisaged landmark initiative introducing legally binding measures to strengthen the ERA.\nThe symposium will also spotlight priorities of Austria’s next ERA Action Plan 2026–2028 with dedicated workshops. \nVisit the ERA Symposium website for the full agenda and registration details. We kindly ask you to revisit this website which will be regularly updated with speaker information.
URL:https://eosc-austria.at/events/austrian-era-symposium-2025/
CATEGORIES:F2F Events
ATTACH;FMTTYPE=image/png:https://eosc-austria.at/wp-content/uploads/2025/01/FFG_Logo_DE_RGB_1500px.png
END:VEVENT
BEGIN:VEVENT
DTSTART;VALUE=DATE:20251118
DTEND;VALUE=DATE:20251121
DTSTAMP:20260420T170706
CREATED:20250123T124427Z
LAST-MODIFIED:20250930T080149Z
UID:19805-1763424000-1763683199@eosc-austria.at
SUMMARY:Munin Conference on Scholary Publishing
DESCRIPTION:This is the programme for the 19th Munin Conference on Scholarly Publishing 2024. \nAll presentations will take place in Auditoria 1 and 2 (see information about the conference venue). Registration\, poster sessions and coffee breaks will take place in the hall outside of the auditoria. The workshop rooms are above the conference hall\, accessible by lift or stairs. \nShort abstracts for the parallel workshops can be seen on the Workshops-overview page. See also an overview of posters that will be displayed during poster lunches on 26 and 27 November. \nFor the digital audience: all presentation and panel sessions will be streamed. The streaming links for the sessions in Auditorium 1 are posted at the top of the programme for each day. For Auditorium 2\, see the specific session. Munin is in the CET zone.
URL:https://eosc-austria.at/events/munin-conference-on-scholary-publishing/
CATEGORIES:F2F Events
ATTACH;FMTTYPE=image/png:https://eosc-austria.at/wp-content/uploads/2025/01/Munin-Conference-Logo.png
END:VEVENT
BEGIN:VEVENT
DTSTART;TZID=Europe/Paris:20251118T133000
DTEND;TZID=Europe/Paris:20251118T180000
DTSTAMP:20260420T170706
CREATED:20250718T112012Z
LAST-MODIFIED:20251117T113928Z
UID:20827-1763472600-1763488800@eosc-austria.at
SUMMARY:5th EOSC Support Office Austria General Assembly
DESCRIPTION:We are pleased to announce that the 5th General Assembly of the EOSC Support Office Austria  will take place on November 18\, 2025\, at TUtheSKY\, TU Wien. This event  brings together members of the EOSC SOA community to review achievements over the past year\, elect new representatives to governing bodies\, and discuss the strategic direction for the future. \nIt will be a key moment for advancing shared goals within the EOSC SOA community and fostering stronger collaboration across diverse areas\, including Open Science\, data stewardship\, and research infrastructure. The General Assembly will provide an opportunity to report on developments and to strengthen the community’s impact in supporting Austria’s engagement within the European Open Science Cloud (EOSC). \n  \nAgenda\n\n\n\n\nTime:\n\n\nItem:\n\n\nPresenter:\n\n\n\n\n13:30-14:30\n\n\nLunch and Networking\n\n\n\n\n\n14:30-14:45\n\n\nOpening\n\n\nIlire Hasani-Mavriqi (1st Chair GA) & VR Wolfgang Kastner (TU Wien)\n\n\n\n\n14:45-14:55\n\n\nACONET Association: Legal Entity & Strategy 2030\n\n\nPetra Karlhuber\nACONET Association\n\n\n\n\n14:55-15:10\n\n\nYear in Review\n\n\nBarbara Sánchez Solís\nChair of the EOSC SOA Management Board\n\n\n\n\n15:10-15:25\n\n\nOfficial Business: Elections\n\n\n\n\n\n\nGroup photo\n\n\n\n\n\n15:25-16:00\n\n\nCoffee Break\n\n\n\n\n\n16:00-17:45\n\n\nNodes Development in the EOSC Federation\n  \n  \nEOSC Federation: current developments and next steps\n  \nEOSC Node in Poland\n  \n  \nUpdate: Austrian developments towards an EOSC Node\n  \nQ&A\n\n\nBob Jones\nEOSC Association\n  \nStefan Hanslik\nBMFWF\n  \nAneta Pazik-Aybar\nNCN Poland\n  \nIlire Hasani-Mavriqi\n1st Chair of the EOSC SOA General Assembly\n\n\n\n\n17:45-18:00\n\n\nClosing\n\n\n\n\n\n  \nRegistration has closed.\nIf you still want to join the event\, please contact contact@eosc-austria.at
URL:https://eosc-austria.at/events/5th-eosc-support-office-austria-general-assembly/
LOCATION:TUtheSky\, Getreidemarkt 9\, 1060 Wien\, Gebäude BA\, 11. OG\, Vienna\, 1060\, Austria
CATEGORIES:F2F Events
ATTACH;FMTTYPE=image/png:https://eosc-austria.at/wp-content/uploads/2023/04/SOA-official-logo.png
END:VEVENT
BEGIN:VEVENT
DTSTART;VALUE=DATE:20251127
DTEND;VALUE=DATE:20251128
DTSTAMP:20260420T170707
CREATED:20250916T084305Z
LAST-MODIFIED:20250916T084305Z
UID:21067-1764201600-1764287999@eosc-austria.at
SUMMARY:FAIR&AI: How research data and AI can empower each other
DESCRIPTION:Der Cluster Forschungsdaten lädt herzlich ein zum FAIR&AI Symposium am 27. November 2025 an die TU Graz. Die Veranstaltung thematisiert die Schnittstellen zwischen Forschungsdatenmanagement (RDM) und Künstlicher Intelligenz (AI): Wie können FAIR-Prinzipien KI-Anwendungen unterstützen\, und wie kann KI RDM-Prozesse beeinflussen? \nDas Programm beinhaltet Keynotes von internationalen und nationalen Expert*innen\, Lightning Talks und Breakout Sessions für interdisziplinären Austausch und Möglichkeiten zum Networking. Gemeinsam werden Infrastruktur-Herausforderungen diskutiert\, Supportstrukturen präsentiert und die Synergien zwischen FAIRen Daten und künstlicher Intelligenz aufgezeigt. \nDie Veranstaltung beginnt um 13 Uhr\, davor findet die Registrierung und der Networking-Lunch statt. \nWir hoffen Ihr Interesse geweckt zu haben und Sie in Graz begrüßen zu dürfen – halten Sie sich den Termin frei. Die Anmeldung beginnt im Oktober 2025\, weitere Informationen finden Sie hier.
URL:https://eosc-austria.at/events/fairai-how-research-data-and-ai-can-empower-each-other/
LOCATION:TU Graz\, Graz\, Austria
CATEGORIES:F2F Events
ATTACH;FMTTYPE=image/png:https://eosc-austria.at/wp-content/uploads/2025/09/FAIRAI.png
END:VEVENT
END:VCALENDAR