BEGIN:VCALENDAR
VERSION:2.0
PRODID:-// - ECPv6.15.20//NONSGML v1.0//EN
CALSCALE:GREGORIAN
METHOD:PUBLISH
X-ORIGINAL-URL:https://eosc-austria.at
X-WR-CALDESC:Events for 
REFRESH-INTERVAL;VALUE=DURATION:PT1H
X-Robots-Tag:noindex
X-PUBLISHED-TTL:PT1H
BEGIN:VTIMEZONE
TZID:Europe/Paris
BEGIN:DAYLIGHT
TZOFFSETFROM:+0100
TZOFFSETTO:+0200
TZNAME:CEST
DTSTART:20250330T010000
END:DAYLIGHT
BEGIN:STANDARD
TZOFFSETFROM:+0200
TZOFFSETTO:+0100
TZNAME:CET
DTSTART:20251026T010000
END:STANDARD
BEGIN:DAYLIGHT
TZOFFSETFROM:+0100
TZOFFSETTO:+0200
TZNAME:CEST
DTSTART:20260329T010000
END:DAYLIGHT
BEGIN:STANDARD
TZOFFSETFROM:+0200
TZOFFSETTO:+0100
TZNAME:CET
DTSTART:20261025T010000
END:STANDARD
BEGIN:DAYLIGHT
TZOFFSETFROM:+0100
TZOFFSETTO:+0200
TZNAME:CEST
DTSTART:20270328T010000
END:DAYLIGHT
BEGIN:STANDARD
TZOFFSETFROM:+0200
TZOFFSETTO:+0100
TZNAME:CET
DTSTART:20271031T010000
END:STANDARD
END:VTIMEZONE
BEGIN:VEVENT
DTSTART;VALUE=DATE:20260907
DTEND;VALUE=DATE:20260909
DTSTAMP:20260420T171654
CREATED:20260116T113513Z
LAST-MODIFIED:20260116T113536Z
UID:21492-1788739200-1788911999@eosc-austria.at
SUMMARY:Open Science Days
DESCRIPTION:For the first time in Switzerland\, four prestigious academic institutions are joining forces to bring you a unique event: an entire week dedicated to open science! The University of Lausanne (UNIL)\, the HES-SO\, the Haute école pédagogique du canton de Vaud (HEP Vaud)\, and the École polytechnique fédérale de Lausanne (EPFL) are joining forces to promote collaboration\, innovation and discovery in the field of research\, transforming themselves over 4 days into centres for exchange\, sharing and inspiration.\nJoin us for Open Science Days 2024 and open up your perspectives on the fascinating world of open science!\nAt the heart of this ambitious programme are inspiring lectures\, interactive workshops and captivating keynotes. The aim is clear: to make research a public good accessible to all.
URL:https://eosc-austria.at/events/open-science-days/
LOCATION:Lausanne
CATEGORIES:F2F Events
ATTACH;FMTTYPE=image/png:https://eosc-austria.at/wp-content/uploads/2026/01/Open-Science-Day-key-visual-RVB-transp-scaled.png
END:VEVENT
BEGIN:VEVENT
DTSTART;VALUE=DATE:20260921
DTEND;VALUE=DATE:20260923
DTSTAMP:20260420T171654
CREATED:20260107T115850Z
LAST-MODIFIED:20260107T115932Z
UID:21419-1789948800-1790121599@eosc-austria.at
SUMMARY:Fellowship of the Data 2026
DESCRIPTION:The next Fellowship of the Data Community Meeting will take place on September 21-22\, 2026 at the University of Vienna! \nWe invite everyone interested or involved in Research Data Management (RDM) from everywhere: Data Stewards\, Data Managers\, Data Curators – Researchers – RDM Trainers – RDM Professionals – RDM Officers – and all the other titles the community encompasses. \nThis event connects RDM-enthusiastic people and offers interesting presentations\, engaging discussions\, and plenty of community-building and networking opportunities. \nThe meeting offers tracks for newcomers as well as for experienced RDM practitioners. \nA glimpse on our programme outline: \n\nKeynotes on “Lobbying for RDM” and “Burnout Prevention as a Data Steward“\nSurvival Guide for New Data Stewards\nInputs on “Conflict Resolution” and “RDM Maturity Models”\nPanel Discussion “This Looked Easier on Paper: Data Stewardship in Practice”\nPoster Pitches\nand more\n\nFind more about the schedule and the venue on our website datafellows.univie.ac.at and on our Bluesky account datafellows.bsky.social (Hashtag #datafellows).
URL:https://eosc-austria.at/events/fellowship-of-the-data-2026/
LOCATION:Universität Wien
CATEGORIES:F2F Events
ATTACH;FMTTYPE=image/png:https://eosc-austria.at/wp-content/uploads/2026/01/event.png
END:VEVENT
BEGIN:VEVENT
DTSTART;VALUE=DATE:20260921
DTEND;VALUE=DATE:20260926
DTSTAMP:20260420T171654
CREATED:20260130T113753Z
LAST-MODIFIED:20260130T113753Z
UID:21514-1789948800-1790380799@eosc-austria.at
SUMMARY:EGI2026
DESCRIPTION:EGI2026 is coming to Ghent\, Belgium! \nBlock your calendars between September 21 and 25\, 2026. \nOver the next months\, we will release more details about the Call for Proposals\, Exhibition and Partnerships opportunities\, and of course about Registration – stay tuned!
URL:https://eosc-austria.at/events/egi2026/
LOCATION:Ghent
CATEGORIES:F2F Events
ATTACH;FMTTYPE=image/webp:https://eosc-austria.at/wp-content/uploads/2026/01/Announcing-EGI2026-No-QR.webp
END:VEVENT
BEGIN:VEVENT
DTSTART;VALUE=DATE:20260928
DTEND;VALUE=DATE:20261001
DTSTAMP:20260420T171654
CREATED:20260319T120212Z
LAST-MODIFIED:20260319T120212Z
UID:21666-1790553600-1790812799@eosc-austria.at
SUMMARY:Open-Access-Tage 2026
DESCRIPTION:Die Open-Access-Tage sind die zentrale jährliche Konferenz zum Thema Open Access im deutschsprachigen Raum. Sie richtet sich an alle\, die sich intensiv mit den Möglichkeiten\, Bedingungen und Perspektiven des wissenschaftlichen Publizierens befassen. Dazu gehören Wissenschaftler*inInnen sowie Mitarbeiter*inInnen von Bibliotheken und anderen Einrichtungen der Wissenschaftsinfrastruktur ebenso wie Mitglieder der Wissenschaftsadministration und Verlage. \n\n\n\n \n\n\nDie Johannes Kepler Universität Linz bietet einen modernen und offenen Rahmen für die Open-Access-Tage. Als Campus-Universität mit klarer Ausrichtung auf Innovation und Interdisziplinarität eignet sich die JKU ideal für den Austausch rund um offene Wissenschaft. Die Stadt Linz ergänzt diesen Rahmen mit ihrem Mix aus Kultur\, Technologie und Wissenschaft – ein Ort\, an dem Zukunftsthemen sicht- und erlebbar werden. \nSie können die JKU bequem über die Straßenbahnlinien 1 und 2\, sowie über mehrere Buslinien erreichen\, die jeweils vom Linzer Hauptbahnhof aus starten. \nDen Anfahrtsplan auf Google Maps finden Sie hier
URL:https://eosc-austria.at/events/open-access-tage-2026/
LOCATION:Linz
CATEGORIES:F2F Events
ATTACH;FMTTYPE=image/png:https://eosc-austria.at/wp-content/uploads/2026/03/OAT_PNG.png
END:VEVENT
END:VCALENDAR