BEGIN:VCALENDAR
VERSION:2.0
PRODID:-// - ECPv6.15.20//NONSGML v1.0//EN
CALSCALE:GREGORIAN
METHOD:PUBLISH
X-ORIGINAL-URL:https://eosc-austria.at
X-WR-CALDESC:Events for 
REFRESH-INTERVAL;VALUE=DURATION:PT1H
X-Robots-Tag:noindex
X-PUBLISHED-TTL:PT1H
BEGIN:VTIMEZONE
TZID:Europe/Paris
BEGIN:DAYLIGHT
TZOFFSETFROM:+0100
TZOFFSETTO:+0200
TZNAME:CEST
DTSTART:20220327T010000
END:DAYLIGHT
BEGIN:STANDARD
TZOFFSETFROM:+0200
TZOFFSETTO:+0100
TZNAME:CET
DTSTART:20221030T010000
END:STANDARD
BEGIN:DAYLIGHT
TZOFFSETFROM:+0100
TZOFFSETTO:+0200
TZNAME:CEST
DTSTART:20230326T010000
END:DAYLIGHT
BEGIN:STANDARD
TZOFFSETFROM:+0200
TZOFFSETTO:+0100
TZNAME:CET
DTSTART:20231029T010000
END:STANDARD
BEGIN:DAYLIGHT
TZOFFSETFROM:+0100
TZOFFSETTO:+0200
TZNAME:CEST
DTSTART:20240331T010000
END:DAYLIGHT
BEGIN:STANDARD
TZOFFSETFROM:+0200
TZOFFSETTO:+0100
TZNAME:CET
DTSTART:20241027T010000
END:STANDARD
END:VTIMEZONE
BEGIN:VEVENT
DTSTART;VALUE=DATE:20231019
DTEND;VALUE=DATE:20231020
DTSTAMP:20260425T225224
CREATED:20240424T131603Z
LAST-MODIFIED:20240424T131603Z
UID:16844-1697673600-1697759999@eosc-austria.at
SUMMARY:Data Spaces Discovery Day - Business value of sovereign data sharing
DESCRIPTION:A great event ahead this autumn in Vienna: We would like to invite you for a deep dive into data spaces on October 19. The event\, hosted by Data Offensive Austria and IDSA together with partnering organizations and companies from the Austrian and European data sharing ecosystem will bring together enthusiasts into an interactive discussion on the building blocks and enablers and demonstrating the business value of sovereign data sharing. 
URL:https://eosc-austria.at/event/data-spaces-discovery-day-business-value-of-sovereign-data-sharing-2
LOCATION:Vienna\, Vienna\, Austria
CATEGORIES:F2F Events
ATTACH;FMTTYPE=image/png:https://eosc-austria.at/wp-content/uploads/2023/09/DS-event.png
END:VEVENT
BEGIN:VEVENT
DTSTART;TZID=Europe/Paris:20231019T130000
DTEND;TZID=Europe/Paris:20231019T183000
DTSTAMP:20260425T225224
CREATED:20240424T131311Z
LAST-MODIFIED:20240424T131311Z
UID:16840-1697720400-1697740200@eosc-austria.at
SUMMARY:The EOSC Lustrum
DESCRIPTION:We have the great pleasure to invite you to attend the high level conference (virtual attendance only): \n“The EOSC Lustrum; 5 years of EOSC developments – All about everything (loosely based on Shakespeare)“.\nThe event will take place on Thursday\, 19th of October 2023 from 1 pm to 6.30 pm in Vienna.
URL:https://eosc-austria.at/event/the-eosc-lustrum
LOCATION:Vienna University Library\, Universitätsring 1\, Vienna\, 1010\, Austria
CATEGORIES:F2F Events
ATTACH;FMTTYPE=image/png:https://eosc-austria.at/wp-content/uploads/2023/09/EOSC-Lustrum-1.png
END:VEVENT
END:VCALENDAR