BEGIN:VCALENDAR
VERSION:2.0
PRODID:-// - ECPv6.15.20//NONSGML v1.0//EN
CALSCALE:GREGORIAN
METHOD:PUBLISH
X-ORIGINAL-URL:https://eosc-austria.at
X-WR-CALDESC:Events for 
REFRESH-INTERVAL;VALUE=DURATION:PT1H
X-Robots-Tag:noindex
X-PUBLISHED-TTL:PT1H
BEGIN:VTIMEZONE
TZID:Europe/Paris
BEGIN:DAYLIGHT
TZOFFSETFROM:+0100
TZOFFSETTO:+0200
TZNAME:CEST
DTSTART:20220327T010000
END:DAYLIGHT
BEGIN:STANDARD
TZOFFSETFROM:+0200
TZOFFSETTO:+0100
TZNAME:CET
DTSTART:20221030T010000
END:STANDARD
BEGIN:DAYLIGHT
TZOFFSETFROM:+0100
TZOFFSETTO:+0200
TZNAME:CEST
DTSTART:20230326T010000
END:DAYLIGHT
BEGIN:STANDARD
TZOFFSETFROM:+0200
TZOFFSETTO:+0100
TZNAME:CET
DTSTART:20231029T010000
END:STANDARD
BEGIN:DAYLIGHT
TZOFFSETFROM:+0100
TZOFFSETTO:+0200
TZNAME:CEST
DTSTART:20240331T010000
END:DAYLIGHT
BEGIN:STANDARD
TZOFFSETFROM:+0200
TZOFFSETTO:+0100
TZNAME:CET
DTSTART:20241027T010000
END:STANDARD
END:VTIMEZONE
BEGIN:VEVENT
DTSTART;VALUE=DATE:20231022
DTEND;VALUE=DATE:20231026
DTSTAMP:20260425T225224
CREATED:20240424T131829Z
LAST-MODIFIED:20240424T131829Z
UID:16848-1697932800-1698278399@eosc-austria.at
SUMMARY:Second Annual Forum for Open Research in MENA
DESCRIPTION:Second Annual Forum for Open Research in MENA (FORM)\, a non-profit membership organisation supporting the advancement of Open Science policies and practices in research institutions and research communities throughout the Arab world\, facilitating the exchange of actionable insights and the development of practical policies.
URL:https://eosc-austria.at/event/second-annual-forum-for-open-research-in-mena
LOCATION:Abu Dhabi
CATEGORIES:F2F Events
ATTACH;FMTTYPE=image/png:https://eosc-austria.at/wp-content/uploads/2023/09/FORM.png
END:VEVENT
BEGIN:VEVENT
DTSTART;VALUE=DATE:20231023
DTEND;VALUE=DATE:20231027
DTSTAMP:20260425T225224
CREATED:20240424T132109Z
LAST-MODIFIED:20240424T132109Z
UID:16852-1698019200-1698364799@eosc-austria.at
SUMMARY:International Data Week 2023
DESCRIPTION:The International Science Council’s Committee on Data (CODATA) and World Data System (WDS)\, and the Research Data Alliance (RDA) are delighted to announce International Data Week 2023: A Festival of Data\, taking place on 23–26 October 2023\, in Salzburg\, Austria.
URL:https://eosc-austria.at/event/international-data-week-2023
LOCATION:Salzburg\, Salzburg\, Austria
CATEGORIES:F2F Events
ATTACH;FMTTYPE=image/png:https://eosc-austria.at/wp-content/uploads/2023/09/Salzburg.png
END:VEVENT
BEGIN:VEVENT
DTSTART;VALUE=DATE:20231025
DTEND;VALUE=DATE:20231028
DTSTAMP:20260425T225224
CREATED:20240424T132344Z
LAST-MODIFIED:20240424T132344Z
UID:16856-1698192000-1698451199@eosc-austria.at
SUMMARY:European Big Data Value Forum
DESCRIPTION:The European Big Data Value Forum (EBDVF) brings together industry professionals\, business developers\, researchers and policy-makers from all over Europe and other regions of the world to advance policy actions\, and industrial and research activities in the areas of Data and AI.
URL:https://eosc-austria.at/event/european-big-data-value-forum
LOCATION:Valencia\, Valencia\, Spain
CATEGORIES:F2F Events
ATTACH;FMTTYPE=image/png:https://eosc-austria.at/wp-content/uploads/2023/09/BigDATA.png
END:VEVENT
END:VCALENDAR