BEGIN:VCALENDAR
VERSION:2.0
PRODID:-// - ECPv6.15.20//NONSGML v1.0//EN
CALSCALE:GREGORIAN
METHOD:PUBLISH
X-ORIGINAL-URL:https://eosc-austria.at
X-WR-CALDESC:Events for 
REFRESH-INTERVAL;VALUE=DURATION:PT1H
X-Robots-Tag:noindex
X-PUBLISHED-TTL:PT1H
BEGIN:VTIMEZONE
TZID:Europe/Paris
BEGIN:DAYLIGHT
TZOFFSETFROM:+0100
TZOFFSETTO:+0200
TZNAME:CEST
DTSTART:20230326T010000
END:DAYLIGHT
BEGIN:STANDARD
TZOFFSETFROM:+0200
TZOFFSETTO:+0100
TZNAME:CET
DTSTART:20231029T010000
END:STANDARD
BEGIN:DAYLIGHT
TZOFFSETFROM:+0100
TZOFFSETTO:+0200
TZNAME:CEST
DTSTART:20240331T010000
END:DAYLIGHT
BEGIN:STANDARD
TZOFFSETFROM:+0200
TZOFFSETTO:+0100
TZNAME:CET
DTSTART:20241027T010000
END:STANDARD
BEGIN:DAYLIGHT
TZOFFSETFROM:+0100
TZOFFSETTO:+0200
TZNAME:CEST
DTSTART:20250330T010000
END:DAYLIGHT
BEGIN:STANDARD
TZOFFSETFROM:+0200
TZOFFSETTO:+0100
TZNAME:CET
DTSTART:20251026T010000
END:STANDARD
END:VTIMEZONE
BEGIN:VEVENT
DTSTART;VALUE=DATE:20240318
DTEND;VALUE=DATE:20240322
DTSTAMP:20260425T174746
CREATED:20240424T140755Z
LAST-MODIFIED:20240424T140755Z
UID:16913-1710720000-1711065599@eosc-austria.at
SUMMARY:Research and Innovation Week
DESCRIPTION:The Research and Innovation Week (R&I Week) is the 2024 European Commission’s flagship event on research and innovation which will take place between 18 and 21 March 2024 in Tour & Taxis (Brussels\, Belgium).
URL:https://eosc-austria.at/event/research-and-innovation-week
LOCATION:Brussels\, Brussels\, Belgium
CATEGORIES:F2F Events
ATTACH;FMTTYPE=image/png:https://eosc-austria.at/wp-content/uploads/2023/12/I_Week.png
END:VEVENT
BEGIN:VEVENT
DTSTART;VALUE=DATE:20240321
DTEND;VALUE=DATE:20240323
DTSTAMP:20260425T174746
CREATED:20240424T141107Z
LAST-MODIFIED:20240424T141107Z
UID:16916-1710979200-1711151999@eosc-austria.at
SUMMARY:2nd International Conference on FAIR Digital Objects
DESCRIPTION:The 2nd FAIR Digital Object Conference aims to bring together data scientists\, data infrastructure architects\, data solution developers\, data stewards\, data curators\, industry data experts\, and policy makers across sectors and from all over the world. It will offer inspiring keynotes and exciting panels with distinguished experts from different sectors and disciplines. There will be exchange formats  to foster interaction with industry and SMEs\, and early career professionals. Presentations and lightning talks from data scientists and developers engaged in Fair Digital Object activities will give deeper insights into FDO concepts and implementation.
URL:https://eosc-austria.at/event/2nd-international-conference-on-fair-digital-objects
LOCATION:Berlin\, Berlin\, Germany
CATEGORIES:F2F Events
ATTACH;FMTTYPE=image/png:https://eosc-austria.at/wp-content/uploads/2023/10/FDO-2-1.png
END:VEVENT
END:VCALENDAR