BEGIN:VCALENDAR
VERSION:2.0
PRODID:-// - ECPv6.15.20//NONSGML v1.0//EN
CALSCALE:GREGORIAN
METHOD:PUBLISH
X-ORIGINAL-URL:https://eosc-austria.at
X-WR-CALDESC:Events for 
REFRESH-INTERVAL;VALUE=DURATION:PT1H
X-Robots-Tag:noindex
X-PUBLISHED-TTL:PT1H
BEGIN:VTIMEZONE
TZID:Europe/Paris
BEGIN:DAYLIGHT
TZOFFSETFROM:+0100
TZOFFSETTO:+0200
TZNAME:CEST
DTSTART:20230326T010000
END:DAYLIGHT
BEGIN:STANDARD
TZOFFSETFROM:+0200
TZOFFSETTO:+0100
TZNAME:CET
DTSTART:20231029T010000
END:STANDARD
BEGIN:DAYLIGHT
TZOFFSETFROM:+0100
TZOFFSETTO:+0200
TZNAME:CEST
DTSTART:20240331T010000
END:DAYLIGHT
BEGIN:STANDARD
TZOFFSETFROM:+0200
TZOFFSETTO:+0100
TZNAME:CET
DTSTART:20241027T010000
END:STANDARD
BEGIN:DAYLIGHT
TZOFFSETFROM:+0100
TZOFFSETTO:+0200
TZNAME:CEST
DTSTART:20250330T010000
END:DAYLIGHT
BEGIN:STANDARD
TZOFFSETFROM:+0200
TZOFFSETTO:+0100
TZNAME:CET
DTSTART:20251026T010000
END:STANDARD
END:VTIMEZONE
BEGIN:VEVENT
DTSTART;TZID=Europe/Paris:20240417T110000
DTEND;TZID=Europe/Paris:20240417T160000
DTSTAMP:20260425T150836
CREATED:20240424T142023Z
LAST-MODIFIED:20240424T142023Z
UID:16928-1713351600-1713369600@eosc-austria.at
SUMMARY:„Digital Data Curators“ in Museen und Sammlungen
DESCRIPTION:Das Naturhistorische Museum Wien lädt in Kooperation mit dem Museumsbund Österreich zu einem Workshop zum Thema Digital Data Curatorship in Museen und Sammlungen. \nDie digitale Transformation erfordert andere Arbeitsweisen und bringt neue Stellenprofile mit sich. Wie könnte die Stelle eines Digital Data Curator für den Museums- und Sammlungsbereich aussehen?\nWir möchten gerne in einem Workshop dieses Jobprofil diskutieren und definieren. \nFür wen? – Museumsmitarbeiter:innen\, die Kulturerbe digitalisieren\, (an-)sammeln und diese (kuratiert) veröffentlichen sowie alle an Digitalisierung Interessierte aus Sammlungen und Museen
URL:https://eosc-austria.at/events/digital-data-curators-in-museen-und-sammlungen/
LOCATION:Naturhistorisches Museum Wien\, Burgring 7\, Vienna\, 1010\, Austria
CATEGORIES:F2F Events
ATTACH;FMTTYPE=image/jpeg:https://eosc-austria.at/wp-content/uploads/2024/02/computer-creative-light-cloud-night-web-341022-pxhere.com_.jpg
END:VEVENT
END:VCALENDAR