BEGIN:VCALENDAR
VERSION:2.0
PRODID:-// - ECPv6.15.20//NONSGML v1.0//EN
CALSCALE:GREGORIAN
METHOD:PUBLISH
X-ORIGINAL-URL:https://eosc-austria.at
X-WR-CALDESC:Events for 
REFRESH-INTERVAL;VALUE=DURATION:PT1H
X-Robots-Tag:noindex
X-PUBLISHED-TTL:PT1H
BEGIN:VTIMEZONE
TZID:Europe/Paris
BEGIN:DAYLIGHT
TZOFFSETFROM:+0100
TZOFFSETTO:+0200
TZNAME:CEST
DTSTART:20230326T010000
END:DAYLIGHT
BEGIN:STANDARD
TZOFFSETFROM:+0200
TZOFFSETTO:+0100
TZNAME:CET
DTSTART:20231029T010000
END:STANDARD
BEGIN:DAYLIGHT
TZOFFSETFROM:+0100
TZOFFSETTO:+0200
TZNAME:CEST
DTSTART:20240331T010000
END:DAYLIGHT
BEGIN:STANDARD
TZOFFSETFROM:+0200
TZOFFSETTO:+0100
TZNAME:CET
DTSTART:20241027T010000
END:STANDARD
BEGIN:DAYLIGHT
TZOFFSETFROM:+0100
TZOFFSETTO:+0200
TZNAME:CEST
DTSTART:20250330T010000
END:DAYLIGHT
BEGIN:STANDARD
TZOFFSETFROM:+0200
TZOFFSETTO:+0100
TZNAME:CET
DTSTART:20251026T010000
END:STANDARD
END:VTIMEZONE
BEGIN:VEVENT
DTSTART;VALUE=DATE:20240527
DTEND;VALUE=DATE:20240602
DTSTAMP:20260425T134637
CREATED:20240521T144423Z
LAST-MODIFIED:20240521T144423Z
UID:18247-1716768000-1717286399@eosc-austria.at
SUMMARY:CRAFT-OA Summer School 2024
DESCRIPTION:CRAFT-OA 2024 Summer School for Journal Editors\nDesigned for editors proficient in Open Journal Systems (OJS)\, this program offers basic as well as advanced training to refine editorial skills and elevate the standards of Diamond Open Access publishing. Participants will delve into diverse aspects of OJS\, gain insights into alternative journal management systems\, and engage in meaningful discussions regarding the broader landscape of Diamond OA publishing. \nConnect with peers\, share expertise\, and explore collaborative opportunities to advance the field of scholarly communication. \nThis summer school is organised as part of the CRAFT-OA project. CRAFT-OA is an EU-funded project that aims to make state-of-the-art Open Access publishing available to everyone. Running from January 2023 to December 2025 the project helps editors and publishers by improving the technical and organisational infrastructure of Diamond Open Access.
URL:https://eosc-austria.at/events/craft-oa-summer-school-2024/
LOCATION:Telc\, Czech Republic
CATEGORIES:F2F Events
ATTACH;FMTTYPE=image/png:https://eosc-austria.at/wp-content/uploads/2024/05/Website-CRAFT-OA-Event-Announcements-1024x576-1.png
END:VEVENT
END:VCALENDAR