BEGIN:VCALENDAR
VERSION:2.0
PRODID:-// - ECPv6.15.20//NONSGML v1.0//EN
CALSCALE:GREGORIAN
METHOD:PUBLISH
X-ORIGINAL-URL:https://eosc-austria.at
X-WR-CALDESC:Events for 
REFRESH-INTERVAL;VALUE=DURATION:PT1H
X-Robots-Tag:noindex
X-PUBLISHED-TTL:PT1H
BEGIN:VTIMEZONE
TZID:Europe/Paris
BEGIN:DAYLIGHT
TZOFFSETFROM:+0100
TZOFFSETTO:+0200
TZNAME:CEST
DTSTART:20230326T010000
END:DAYLIGHT
BEGIN:STANDARD
TZOFFSETFROM:+0200
TZOFFSETTO:+0100
TZNAME:CET
DTSTART:20231029T010000
END:STANDARD
BEGIN:DAYLIGHT
TZOFFSETFROM:+0100
TZOFFSETTO:+0200
TZNAME:CEST
DTSTART:20240331T010000
END:DAYLIGHT
BEGIN:STANDARD
TZOFFSETFROM:+0200
TZOFFSETTO:+0100
TZNAME:CET
DTSTART:20241027T010000
END:STANDARD
BEGIN:DAYLIGHT
TZOFFSETFROM:+0100
TZOFFSETTO:+0200
TZNAME:CEST
DTSTART:20250330T010000
END:DAYLIGHT
BEGIN:STANDARD
TZOFFSETFROM:+0200
TZOFFSETTO:+0100
TZNAME:CET
DTSTART:20251026T010000
END:STANDARD
END:VTIMEZONE
BEGIN:VEVENT
DTSTART;VALUE=DATE:20240602
DTEND;VALUE=DATE:20240606
DTSTAMP:20260425T134746
CREATED:20240521T134553Z
LAST-MODIFIED:20240521T134553Z
UID:18210-1717286400-1717631999@eosc-austria.at
SUMMARY:8th World Conference on Research Integrity
DESCRIPTION:Join this established conference on research integrity in Athens. One output of this biannual conference will be the Athens Statement following the same practice that has been applied in the previous conferences. The activities within the Focus Track  on catalysing the translation of research into trustworthy policy and innovation  will be used to enrich the Athens Statement. \nParticipate and network with a host of experts in the field of ethics and research integrity. The discussions are diverse and look at ethnic\, gender\, geographical\, disciplinary and career stage diversity. Particular focus is given to early career professionals with the opportunity to participate in the doctoral forum\, \, workshops\, and meet-the-expert sessions for them during the conference. \nIf you haven’t booked your place yet\, you can still do so here. \nHave a further look into the full programme!
URL:https://eosc-austria.at/events/8th-world-conference-on-research-integrity/
LOCATION:Athens\, Athens\, Greece
CATEGORIES:F2F Events
ATTACH;FMTTYPE=image/png:https://eosc-austria.at/wp-content/uploads/2024/05/WCRI_2024_LOGO_HORIZONTAL-312e130d.png
END:VEVENT
END:VCALENDAR