BEGIN:VCALENDAR
VERSION:2.0
PRODID:-// - ECPv6.15.20//NONSGML v1.0//EN
CALSCALE:GREGORIAN
METHOD:PUBLISH
X-ORIGINAL-URL:https://eosc-austria.at
X-WR-CALDESC:Events for 
REFRESH-INTERVAL;VALUE=DURATION:PT1H
X-Robots-Tag:noindex
X-PUBLISHED-TTL:PT1H
BEGIN:VTIMEZONE
TZID:Europe/Paris
BEGIN:DAYLIGHT
TZOFFSETFROM:+0100
TZOFFSETTO:+0200
TZNAME:CEST
DTSTART:20230326T010000
END:DAYLIGHT
BEGIN:STANDARD
TZOFFSETFROM:+0200
TZOFFSETTO:+0100
TZNAME:CET
DTSTART:20231029T010000
END:STANDARD
BEGIN:DAYLIGHT
TZOFFSETFROM:+0100
TZOFFSETTO:+0200
TZNAME:CEST
DTSTART:20240331T010000
END:DAYLIGHT
BEGIN:STANDARD
TZOFFSETFROM:+0200
TZOFFSETTO:+0100
TZNAME:CET
DTSTART:20241027T010000
END:STANDARD
BEGIN:DAYLIGHT
TZOFFSETFROM:+0100
TZOFFSETTO:+0200
TZNAME:CEST
DTSTART:20250330T010000
END:DAYLIGHT
BEGIN:STANDARD
TZOFFSETFROM:+0200
TZOFFSETTO:+0100
TZNAME:CET
DTSTART:20251026T010000
END:STANDARD
END:VTIMEZONE
BEGIN:VEVENT
DTSTART;VALUE=DATE:20240602
DTEND;VALUE=DATE:20240606
DTSTAMP:20260425T134635
CREATED:20240521T134553Z
LAST-MODIFIED:20240521T134553Z
UID:18210-1717286400-1717631999@eosc-austria.at
SUMMARY:8th World Conference on Research Integrity
DESCRIPTION:Join this established conference on research integrity in Athens. One output of this biannual conference will be the Athens Statement following the same practice that has been applied in the previous conferences. The activities within the Focus Track  on catalysing the translation of research into trustworthy policy and innovation  will be used to enrich the Athens Statement. \nParticipate and network with a host of experts in the field of ethics and research integrity. The discussions are diverse and look at ethnic\, gender\, geographical\, disciplinary and career stage diversity. Particular focus is given to early career professionals with the opportunity to participate in the doctoral forum\, \, workshops\, and meet-the-expert sessions for them during the conference. \nIf you haven’t booked your place yet\, you can still do so here. \nHave a further look into the full programme!
URL:https://eosc-austria.at/events/8th-world-conference-on-research-integrity/
LOCATION:Athens\, Athens\, Greece
CATEGORIES:F2F Events
ATTACH;FMTTYPE=image/png:https://eosc-austria.at/wp-content/uploads/2024/05/WCRI_2024_LOGO_HORIZONTAL-312e130d.png
END:VEVENT
BEGIN:VEVENT
DTSTART;VALUE=DATE:20240603
DTEND;VALUE=DATE:20240607
DTSTAMP:20260425T134635
CREATED:20240521T135753Z
LAST-MODIFIED:20240521T135753Z
UID:18220-1717372800-1717718399@eosc-austria.at
SUMMARY:Open Repositories Conference 2024
DESCRIPTION:OR2024 is an excellent place for companies and organisations that deal with digital asset management\, digital storage\, research information systems\, scholarly publications\, open access and open data to be seen and interact with participants. The event gives access to a large audience of potential customers and partners as well as insights into what is hot in the area from a user perspective. \nThe event is expecting approximately 450-500 attendees from all over the world. These will include directors of digital initiatives\, technical staff and developers\, librarians\, and repository managers as well as applied researchers in digital libraries and similar fields. \nPlease visit the Call for Proposals page to learn more about the sub-themes and submission categories of the conference\, including a full list of submission templates and key dates for submission deadlines and approvals. Submission categories include posters\, workshops\, lightning talks\, roundtable discussions\, papers\, and panels. The deadline for submissions is the 15th December 2023. \nFAIR-IMPACT at the event \nDANS\, coordinator of FAIR-IMPACT project\, will present a poster\, focused on how to expose repository information to foster connections and trust.
URL:https://eosc-austria.at/events/open-repositories-conference-2024/
LOCATION:Gothenburg\, Gothenburg\, Sweden
CATEGORIES:F2F Events
ATTACH;FMTTYPE=image/png:https://eosc-austria.at/wp-content/uploads/2024/05/dd.png
END:VEVENT
BEGIN:VEVENT
DTSTART;VALUE=DATE:20240605
DTEND;VALUE=DATE:20240607
DTSTAMP:20260425T134635
CREATED:20240521T101122Z
LAST-MODIFIED:20240521T101122Z
UID:18113-1717545600-1717718399@eosc-austria.at
SUMMARY:88th ESFRI Forum Meeting
DESCRIPTION:The 88th ESFRI Forum Meeting will take place on 5-6 June 2024\, in Brussels\, Belgium.\nThe event is kindly hosted by the Belgian Presidency of the Council of the EU.
URL:https://eosc-austria.at/events/88th-esfri-forum-meeting/
LOCATION:Royal Library of Belgium\, Mont des Arts 28\, Bruxelles\, 1000\, Belgium
CATEGORIES:F2F Events
ATTACH;FMTTYPE=image/jpeg:https://eosc-austria.at/wp-content/uploads/2024/05/bibroyale.jpg
END:VEVENT
BEGIN:VEVENT
DTSTART;VALUE=DATE:20240605
DTEND;VALUE=DATE:20240608
DTSTAMP:20260425T134635
CREATED:20240521T135348Z
LAST-MODIFIED:20240521T135348Z
UID:18217-1717545600-1717804799@eosc-austria.at
SUMMARY:EUNIS Congress 2024
DESCRIPTION:The EUNIS Congress 2024\, taking place in the vibrant city of Athens\, Greece\, from June 5th to 7th. This premier event offers a dynamic platform for researchers\, developers\, and practitioners to showcase their latest findings and innovations in information technology and systems for Higher Education Institutions (HEIs). \nAt EUNIS 2024\, participants will engage in rich exchanges of perspectives and experiences\, delving into the intricate landscape of digital transformation within European Universities. With a focus on strategically evaluating challenges and seizing opportunities amidst evolving demographics\, mobility trends\, energy dynamics\, and digital sovereignty concerns\, the congress promises to be a pivotal gathering for HEIs. \nThe program encompasses a diverse range of activities\, including oral and poster presentations\, panel discussions\, tutorials\, hands-on sessions\, and exhibitions. Additionally\, attendees can look forward to an exciting social program that immerses them in the cultural splendor of Athens and its surroundings. \nFAIRCORE4EOSC at EUNIS 2024\nFAIRECORE4EOSC has submitted a paper on the Metadata Schema and Crosswalk Registry (MSCR). Developed within the framework of the European Open Science Cloud (EOSC)\, MSCR offers tangible solutions to the pervasive issue of information heterogeneity across semantic\, structural\, and syntactic domains. \nDesigned to bridge the gap between disparate datasets and standards\, MSCR serves as a vital tool for harmonising data exchange within the EOSC ecosystem. By providing a centralised repository for metadata schemas and crosswalks\, it empowers researchers and institutions to seamlessly navigate and integrate diverse data sources\, fostering collaboration and innovation on a global scale.
URL:https://eosc-austria.at/events/eunis-congress-2024/
LOCATION:Athens\, Athens\, Greece
CATEGORIES:F2F Events
ATTACH;FMTTYPE=image/jpeg:https://eosc-austria.at/wp-content/uploads/2024/05/EUNIS24.jpg
END:VEVENT
END:VCALENDAR