BEGIN:VCALENDAR
VERSION:2.0
PRODID:-// - ECPv6.15.20//NONSGML v1.0//EN
CALSCALE:GREGORIAN
METHOD:PUBLISH
X-ORIGINAL-URL:https://eosc-austria.at
X-WR-CALDESC:Events for 
REFRESH-INTERVAL;VALUE=DURATION:PT1H
X-Robots-Tag:noindex
X-PUBLISHED-TTL:PT1H
BEGIN:VTIMEZONE
TZID:Europe/Paris
BEGIN:DAYLIGHT
TZOFFSETFROM:+0100
TZOFFSETTO:+0200
TZNAME:CEST
DTSTART:20230326T010000
END:DAYLIGHT
BEGIN:STANDARD
TZOFFSETFROM:+0200
TZOFFSETTO:+0100
TZNAME:CET
DTSTART:20231029T010000
END:STANDARD
BEGIN:DAYLIGHT
TZOFFSETFROM:+0100
TZOFFSETTO:+0200
TZNAME:CEST
DTSTART:20240331T010000
END:DAYLIGHT
BEGIN:STANDARD
TZOFFSETFROM:+0200
TZOFFSETTO:+0100
TZNAME:CET
DTSTART:20241027T010000
END:STANDARD
BEGIN:DAYLIGHT
TZOFFSETFROM:+0100
TZOFFSETTO:+0200
TZNAME:CEST
DTSTART:20250330T010000
END:DAYLIGHT
BEGIN:STANDARD
TZOFFSETFROM:+0200
TZOFFSETTO:+0100
TZNAME:CET
DTSTART:20251026T010000
END:STANDARD
END:VTIMEZONE
BEGIN:VEVENT
DTSTART;VALUE=DATE:20240610
DTEND;VALUE=DATE:20240615
DTSTAMP:20260425T134807
CREATED:20240521T101727Z
LAST-MODIFIED:20240521T101727Z
UID:18117-1717977600-1718409599@eosc-austria.at
SUMMARY:TNC24
DESCRIPTION:The largest and most prestigious research and education networking conference\, TNC attracts a truly diverse audience of over 800 participants from more than 70 countries\, representing national and regional research and education networks\, schools and universities\, technology providers\, and many of the world’s most exciting scientific projects. By bringing together decision-makers\, networking and security specialists\, identity and access management experts\, researchers\, academics and students\, TNC offers a unique collaborative experience. \n\n\n\n\nThe Emerging NREN Programme aims to integrate individuals from emerging NRENs from around the globe into the TNC community and create further synergies and connections at different organisational levels between European and international NRENs. Its purpose is to bring to TNC NREN staff members who would not be able to participate otherwise\, focusing particularly on engineering and technical personnel. For further information\, please contact Leila Dekkar at GÉANT.\n\nThe Future Talent Programme’s Lightning Talk Challenge offers students and young professionals the opportunity to present their project or idea to TNC’s international audience. Nominated by GÉANT project partners\, participants receive training to help them master presentation skills and prepare to deliver an impactful presentation. For further information\, please contact Lisa Melrose at GÉANT.
URL:https://eosc-austria.at/events/tnc24/
LOCATION:Rennes\, France
CATEGORIES:F2F Events
ATTACH;FMTTYPE=image/png:https://eosc-austria.at/wp-content/uploads/2024/05/9a1ef573aefc67b22b8fd25b01e42f18ea4cf912.png
END:VEVENT
BEGIN:VEVENT
DTSTART;VALUE=DATE:20240611
DTEND;VALUE=DATE:20240614
DTSTAMP:20260425T134807
CREATED:20240521T102434Z
LAST-MODIFIED:20240521T102434Z
UID:18121-1718064000-1718323199@eosc-austria.at
SUMMARY:PID festival
DESCRIPTION:Embark on a three-day journey of enlightenment at this international summit\, where captivating talks\, engaging activities\, and insightful workshops converge to explore the transformative power of persistent identifiers in shaping world-class research infrastructure. This event is organised by the National Library of Technology (NTK) and the Australian Research Data Commons (ARDC)\, esteemed collaborators within the FAIRCORE4EOSC initiative. \nThe overarching objective of PIDfest is to unite global pioneers in the field of persistent identifiers\, fostering collaborative solutions to tangible infrastructure challenges that stand in the way of expediting research and innovation. An event of this magnitude promises dynamic discussions\, centred on practical strategies for overcoming real-world hurdles in the delivery of research infrastructure. \ne-mail: contact@pidfest.org
URL:https://eosc-austria.at/events/pid-festival/
LOCATION:Prague\, Prague\, Czech Republic
CATEGORIES:F2F Events
ATTACH;FMTTYPE=image/jpeg:https://eosc-austria.at/wp-content/uploads/2024/05/FC4E-PIDfest-2024.jpg
END:VEVENT
END:VCALENDAR