BEGIN:VCALENDAR
VERSION:2.0
PRODID:-// - ECPv6.15.20//NONSGML v1.0//EN
CALSCALE:GREGORIAN
METHOD:PUBLISH
X-ORIGINAL-URL:https://eosc-austria.at
X-WR-CALDESC:Events for 
REFRESH-INTERVAL;VALUE=DURATION:PT1H
X-Robots-Tag:noindex
X-PUBLISHED-TTL:PT1H
BEGIN:VTIMEZONE
TZID:Europe/Paris
BEGIN:DAYLIGHT
TZOFFSETFROM:+0100
TZOFFSETTO:+0200
TZNAME:CEST
DTSTART:20230326T010000
END:DAYLIGHT
BEGIN:STANDARD
TZOFFSETFROM:+0200
TZOFFSETTO:+0100
TZNAME:CET
DTSTART:20231029T010000
END:STANDARD
BEGIN:DAYLIGHT
TZOFFSETFROM:+0100
TZOFFSETTO:+0200
TZNAME:CEST
DTSTART:20240331T010000
END:DAYLIGHT
BEGIN:STANDARD
TZOFFSETFROM:+0200
TZOFFSETTO:+0100
TZNAME:CET
DTSTART:20241027T010000
END:STANDARD
BEGIN:DAYLIGHT
TZOFFSETFROM:+0100
TZOFFSETTO:+0200
TZNAME:CEST
DTSTART:20250330T010000
END:DAYLIGHT
BEGIN:STANDARD
TZOFFSETFROM:+0200
TZOFFSETTO:+0100
TZNAME:CET
DTSTART:20251026T010000
END:STANDARD
END:VTIMEZONE
BEGIN:VEVENT
DTSTART;VALUE=DATE:20240916
DTEND;VALUE=DATE:20240923
DTSTAMP:20260423T114121
CREATED:20240717T090812Z
LAST-MODIFIED:20240717T090812Z
UID:18640-1726444800-1727049599@eosc-austria.at
SUMMARY:Open Science Stories
DESCRIPTION:Amplifying the work of the scientific community made possible through our open science tools. \nNow in its fifth year\, Open Science Week will take place Sept. 16-22\, 2024. Leaders\, producers\, educators and users of open science are encouraged to engage with this campaign. A celebration of open science in all its forms – Open Science Week calls attention to scientists and organizations who share their tools\, resources and data openly to accelerate research and discovery. This annual celebration\, founded and coordinated by the Allen Institute\, takes place during the third week of September.
URL:https://eosc-austria.at/events/open-science-stories/
CATEGORIES:F2F Events
ATTACH;FMTTYPE=image/jpeg:https://eosc-austria.at/wp-content/uploads/2024/07/OpenScienceWeek_Header2.jpg
END:VEVENT
BEGIN:VEVENT
DTSTART;VALUE=DATE:20240917
DTEND;VALUE=DATE:20240919
DTSTAMP:20260423T114121
CREATED:20240910T143749Z
LAST-MODIFIED:20240910T143749Z
UID:18923-1726531200-1726703999@eosc-austria.at
SUMMARY:Open Science Festival
DESCRIPTION:What is Open Science? How can openness and the culture of sharing be practiced and promoted in science? What methods are there to live more openness in scientific practice? Under the motto  Meet\, Share\, Inspire\, Care\, the 3rd Open Science Festival in Germany  offers the opportunity to pursue these and other questions\, to network and to learn from one another. \nOpen Science creates encounters within and with science\, enables access to knowledge\, data and research processes. Openness as a principle shapes the framework conditions of science. Open access and open data facilitate access to scientific findings. Open standards and methods enable cooperation and are inspiration for new research approaches. At the same time\, Open Science rethinks the relationship between science and society. \nThe 3rd Open Science Festival is aimed equally at newcomers\, interested parties and experts and aims to enable encounters and exchanges in a wide variety of formats. Whether students or scientists\, research managers or decision-makers\, science journalists or interested members of the public\, the Rhine-Main Universities cordially invite you to the Johannes Gutenberg University Mainz from September 17-18\, 2024 . \nWhat awaits you: \n\nA first-class keynote and panel discussions on the potentials and challenges of open science with national and international experts\nIgnite Talks about successes and stumbling blocks in the scientific practice of Open Science\nWorkshops with practitioners from the Open Science Community\nA poster slam to get to know various projects of Open Science enthusiasts\nA marketplace with information on Open Science\nSpeed ​​networking to get to know the other participants\n\nThis year’s Open Science Festival is based on a concept from the Netherlands . The first German festivals took place in Hanover and Cologne .
URL:https://eosc-austria.at/events/open-science-festival/
LOCATION:Mainz
CATEGORIES:F2F Events
ATTACH;FMTTYPE=image/png:https://eosc-austria.at/wp-content/uploads/2024/09/conference-banner_open-science_2.png
END:VEVENT
END:VCALENDAR