BEGIN:VCALENDAR
VERSION:2.0
PRODID:-// - ECPv6.15.20//NONSGML v1.0//EN
CALSCALE:GREGORIAN
METHOD:PUBLISH
X-ORIGINAL-URL:https://eosc-austria.at
X-WR-CALDESC:Events for 
REFRESH-INTERVAL;VALUE=DURATION:PT1H
X-Robots-Tag:noindex
X-PUBLISHED-TTL:PT1H
BEGIN:VTIMEZONE
TZID:Europe/Paris
BEGIN:DAYLIGHT
TZOFFSETFROM:+0100
TZOFFSETTO:+0200
TZNAME:CEST
DTSTART:20230326T010000
END:DAYLIGHT
BEGIN:STANDARD
TZOFFSETFROM:+0200
TZOFFSETTO:+0100
TZNAME:CET
DTSTART:20231029T010000
END:STANDARD
BEGIN:DAYLIGHT
TZOFFSETFROM:+0100
TZOFFSETTO:+0200
TZNAME:CEST
DTSTART:20240331T010000
END:DAYLIGHT
BEGIN:STANDARD
TZOFFSETFROM:+0200
TZOFFSETTO:+0100
TZNAME:CET
DTSTART:20241027T010000
END:STANDARD
BEGIN:DAYLIGHT
TZOFFSETFROM:+0100
TZOFFSETTO:+0200
TZNAME:CEST
DTSTART:20250330T010000
END:DAYLIGHT
BEGIN:STANDARD
TZOFFSETFROM:+0200
TZOFFSETTO:+0100
TZNAME:CET
DTSTART:20251026T010000
END:STANDARD
END:VTIMEZONE
BEGIN:VEVENT
DTSTART;TZID=Europe/Paris:20240925T140000
DTEND;TZID=Europe/Paris:20240925T180000
DTSTAMP:20260423T114049
CREATED:20240918T110546Z
LAST-MODIFIED:20240918T110546Z
UID:19070-1727272800-1727287200@eosc-austria.at
SUMMARY:2024 Fisheries Science Seminar – Artificial Intelligence
DESCRIPTION:The annual Fisheries Science Seminar\, organised by the Directorate General for Maritime Affairs and Fisheries will take place on 25 September 2024. This year’s seminar will focus on the potential contribution of Artificial Intelligence (AI) towards achieving fisheries sustainability. \nThe 2024 science seminar will be dedicated to exploring the rapid developments in the area of artificial intelligence to support the scientific process\, and in particular how this approach can be instrumental towards sustainable fisheries management with increased transparency of fishing activity and reduced impact on the environment. \nThe seminar will include presentations from experts in the field followed by discussions involving seminar’s participants. In addition\, a poster exhibition\, showcasing successful fisheries science projects integrating AI based knowledge\, will be displayed at the event premises. \nBlue-Cloud 2026 at the event \nBlue-Cloud2026 will be presenting a poster in collaboration with IRD France – leaders of the Global Fisheries Atlas VLab. \nCHECK THE POSTER
URL:https://eosc-austria.at/events/2024-fisheries-science-seminar-artificial-intelligence/
LOCATION:Brussels\, Brussels\, Belgium
CATEGORIES:F2F Events
ATTACH;FMTTYPE=image/jpeg:https://eosc-austria.at/wp-content/uploads/2024/09/FISHERIES-SCIENCE-SEMINAR-2024.jpg
END:VEVENT
END:VCALENDAR