BEGIN:VCALENDAR
VERSION:2.0
PRODID:-// - ECPv6.15.20//NONSGML v1.0//EN
CALSCALE:GREGORIAN
METHOD:PUBLISH
X-ORIGINAL-URL:https://eosc-austria.at
X-WR-CALDESC:Events for 
REFRESH-INTERVAL;VALUE=DURATION:PT1H
X-Robots-Tag:noindex
X-PUBLISHED-TTL:PT1H
BEGIN:VTIMEZONE
TZID:Europe/Paris
BEGIN:DAYLIGHT
TZOFFSETFROM:+0100
TZOFFSETTO:+0200
TZNAME:CEST
DTSTART:20230326T010000
END:DAYLIGHT
BEGIN:STANDARD
TZOFFSETFROM:+0200
TZOFFSETTO:+0100
TZNAME:CET
DTSTART:20231029T010000
END:STANDARD
BEGIN:DAYLIGHT
TZOFFSETFROM:+0100
TZOFFSETTO:+0200
TZNAME:CEST
DTSTART:20240331T010000
END:DAYLIGHT
BEGIN:STANDARD
TZOFFSETFROM:+0200
TZOFFSETTO:+0100
TZNAME:CET
DTSTART:20241027T010000
END:STANDARD
BEGIN:DAYLIGHT
TZOFFSETFROM:+0100
TZOFFSETTO:+0200
TZNAME:CEST
DTSTART:20250330T010000
END:DAYLIGHT
BEGIN:STANDARD
TZOFFSETFROM:+0200
TZOFFSETTO:+0100
TZNAME:CET
DTSTART:20251026T010000
END:STANDARD
END:VTIMEZONE
BEGIN:VEVENT
DTSTART;TZID=Europe/Paris:20240927T150000
DTEND;TZID=Europe/Paris:20240927T220000
DTSTAMP:20260423T114324
CREATED:20240918T074331Z
LAST-MODIFIED:20240918T074408Z
UID:18970-1727449200-1727474400@eosc-austria.at
SUMMARY:Erlebe Forschung hautnah bei der European Researchers' Night
DESCRIPTION:Tauche ein in die Welt der Wissenschaft und schlüpfe in die Rollen eines “Earth Explorers“\, “Health Enthusiasts“\, “Tech Pioneers” oder “Science Reporters“. Entdecke spannende Mitmachstationen\, erlebe faszinierende Science Shows\, besuche unser Pop-up Planetarium und sei dabei\, wenn das Österreich-Finale des Science Slams ausgetragen wird.
URL:https://eosc-austria.at/events/erlebe-forschung-hautnah-bei-der-european-researchers-night/
LOCATION:Universität Graz\, Universitätsplatz 3a\, Graz\, 8010\, Austria
CATEGORIES:F2F Events
ATTACH;FMTTYPE=image/png:https://eosc-austria.at/wp-content/uploads/2024/09/EU_research_night.png
END:VEVENT
END:VCALENDAR