BEGIN:VCALENDAR
VERSION:2.0
PRODID:-// - ECPv6.15.20//NONSGML v1.0//EN
CALSCALE:GREGORIAN
METHOD:PUBLISH
X-ORIGINAL-URL:https://eosc-austria.at
X-WR-CALDESC:Events for 
REFRESH-INTERVAL;VALUE=DURATION:PT1H
X-Robots-Tag:noindex
X-PUBLISHED-TTL:PT1H
BEGIN:VTIMEZONE
TZID:Europe/Paris
BEGIN:DAYLIGHT
TZOFFSETFROM:+0100
TZOFFSETTO:+0200
TZNAME:CEST
DTSTART:20230326T010000
END:DAYLIGHT
BEGIN:STANDARD
TZOFFSETFROM:+0200
TZOFFSETTO:+0100
TZNAME:CET
DTSTART:20231029T010000
END:STANDARD
BEGIN:DAYLIGHT
TZOFFSETFROM:+0100
TZOFFSETTO:+0200
TZNAME:CEST
DTSTART:20240331T010000
END:DAYLIGHT
BEGIN:STANDARD
TZOFFSETFROM:+0200
TZOFFSETTO:+0100
TZNAME:CET
DTSTART:20241027T010000
END:STANDARD
BEGIN:DAYLIGHT
TZOFFSETFROM:+0100
TZOFFSETTO:+0200
TZNAME:CEST
DTSTART:20250330T010000
END:DAYLIGHT
BEGIN:STANDARD
TZOFFSETFROM:+0200
TZOFFSETTO:+0100
TZNAME:CET
DTSTART:20251026T010000
END:STANDARD
END:VTIMEZONE
BEGIN:VEVENT
DTSTART;VALUE=DATE:20241015
DTEND;VALUE=DATE:20241018
DTSTAMP:20260421T103514
CREATED:20240918T094029Z
LAST-MODIFIED:20240918T094029Z
UID:19061-1728950400-1729209599@eosc-austria.at
SUMMARY:Second All Hands Meeting in The Hague | 15-17 October 2024
DESCRIPTION:The second FAIR-IMPACT All Hands Meeting will occur middle of October in The Hague. \n\n\nThe FAIR-IMPACT consortium will gather in person in The Hague from October 15th to 17th to assess progress and finalise the project work plan. \nThis All Hands meeting presents a valuable opportunity for collaboration\, emphasising milestones and achievements. \nThe agenda includes plenary sessions on October 15th to outline the project’s trajectory\, followed by task sessions for in-depth discussions and focused meetings on specific topics. \nMoreover\, this event will enable reunions with the FAIR-IMPACT EOSC Champions and coordination with our sister project\, FAIRCORE4EOSC
URL:https://eosc-austria.at/events/second-all-hands-meeting-in-the-hague-15-17-october-2024/
LOCATION:The Hague
CATEGORIES:F2F Events
ATTACH;FMTTYPE=image/jpeg:https://eosc-austria.at/wp-content/uploads/2024/09/All-Hands-Meeting-October-2024.jpg
END:VEVENT
END:VCALENDAR