BEGIN:VCALENDAR
VERSION:2.0
PRODID:-// - ECPv6.15.20//NONSGML v1.0//EN
CALSCALE:GREGORIAN
METHOD:PUBLISH
X-ORIGINAL-URL:https://eosc-austria.at
X-WR-CALDESC:Events for 
REFRESH-INTERVAL;VALUE=DURATION:PT1H
X-Robots-Tag:noindex
X-PUBLISHED-TTL:PT1H
BEGIN:VTIMEZONE
TZID:Europe/Paris
BEGIN:DAYLIGHT
TZOFFSETFROM:+0100
TZOFFSETTO:+0200
TZNAME:CEST
DTSTART:20230326T010000
END:DAYLIGHT
BEGIN:STANDARD
TZOFFSETFROM:+0200
TZOFFSETTO:+0100
TZNAME:CET
DTSTART:20231029T010000
END:STANDARD
BEGIN:DAYLIGHT
TZOFFSETFROM:+0100
TZOFFSETTO:+0200
TZNAME:CEST
DTSTART:20240331T010000
END:DAYLIGHT
BEGIN:STANDARD
TZOFFSETFROM:+0200
TZOFFSETTO:+0100
TZNAME:CET
DTSTART:20241027T010000
END:STANDARD
BEGIN:DAYLIGHT
TZOFFSETFROM:+0100
TZOFFSETTO:+0200
TZNAME:CEST
DTSTART:20250330T010000
END:DAYLIGHT
BEGIN:STANDARD
TZOFFSETFROM:+0200
TZOFFSETTO:+0100
TZNAME:CET
DTSTART:20251026T010000
END:STANDARD
END:VTIMEZONE
BEGIN:VEVENT
DTSTART;VALUE=DATE:20241027
DTEND;VALUE=DATE:20241031
DTSTAMP:20260421T091056
CREATED:20240807T092446Z
LAST-MODIFIED:20240807T092446Z
UID:18864-1729987200-1730332799@eosc-austria.at
SUMMARY:FAIR-DI European Conference on Data Intelligence 2024
DESCRIPTION:Building on the success of previous editions\, we are pleased to announce the upcoming FAIR-DI European Conference on Data Intelligence 2024. Following the remarkable achievements and insightful discussions at the 2020 and 2022 Conferences on a FAIR Data Infrastructure for Materials Genomics\, we are excited to continue the discussion and further collaboration and innovation in this growing field with the theme of Data Intelligence.
URL:https://eosc-austria.at/events/fair-di-european-conference-on-data-intelligence-2024/
LOCATION:Karlsruhe\, Karlsruhe\, Germany
CATEGORIES:F2F Events
ATTACH;FMTTYPE=image/png:https://eosc-austria.at/wp-content/uploads/2024/08/FAIR-DIconference2024.png
END:VEVENT
BEGIN:VEVENT
DTSTART;TZID=Europe/Paris:20241027T080000
DTEND;TZID=Europe/Paris:20241030T170000
DTSTAMP:20260421T091056
CREATED:20240918T083822Z
LAST-MODIFIED:20240918T083822Z
UID:19001-1730016000-1730307600@eosc-austria.at
SUMMARY:FAIR-DI European Conference on Data Intelligence 2024
DESCRIPTION:Building on the success of previous editions\, we are pleased to announce the upcoming FAIR-DI European Conference on Data Intelligence 2024. Following the remarkable achievements and insightful discussions at the 2020 and 2022 Conferences on a FAIR Data Infrastructure for Materials Genomics\, we are excited to continue the discussion and further collaboration and innovation in this growing field with the theme of Data Intelligence. \n  \nPost-deadline Abstract Submission: \nIn response to the overwhelming interest in our conference and the rapid advancements in the field of data intelligence\, we are excited to announce that we are now accepting post-deadline submissions for abstracts. We have reserved 4 post-deadline talk slots and multiple poster presentation opportunities during the conference program. \nWe invite you to submit your abstracts by September 8\, 2024. \n  \nPOST-DEADLINE ABSTRACT SUBMISSION>\n  \nConference topics: \n\nThe “NFDI Cosmos”\nData management\, stewardship & databases (FAIR research\, repositories\, ontologies\, error quantification\, etc.)\nMachine learning (ML) applications using existing data repositories\nNew strategies for materials synthesis based on ML-approaches\nDeveloping strategies for scale-bridging workflows in computational materials science\nDigital twins\nHigh-throughput simulation\nAutomation (autonomous experimentation)
URL:https://eosc-austria.at/events/fair-di-european-conference-on-data-intelligence-2024-2/
LOCATION:Karlsruhe\, Karlsruhe\, Germany
CATEGORIES:F2F Events
ATTACH;FMTTYPE=image/png:https://eosc-austria.at/wp-content/uploads/2024/09/FAIR-DI.png
END:VEVENT
BEGIN:VEVENT
DTSTART;VALUE=DATE:20241028
DTEND;VALUE=DATE:20241031
DTSTAMP:20260421T091056
CREATED:20240918T084147Z
LAST-MODIFIED:20240918T084147Z
UID:19007-1730073600-1730332799@eosc-austria.at
SUMMARY:IBERGRID 2024
DESCRIPTION:Better Software for better Science \nThe 13th Iberian Grid Conference will take place in Porto\, Portugal\, from Monday 28th to Wednesday 30th of October. \nImportant Dates \n\n5th July – 30th September – Call for abstracts (submission in this Indico)\n3th July – 4th October – Registration (at this indico) \n28th – 30th October – Conference
URL:https://eosc-austria.at/events/ibergrid-2024/
LOCATION:Porto
CATEGORIES:F2F Events
ATTACH;FMTTYPE=image/png:https://eosc-austria.at/wp-content/uploads/2024/09/IBERGRID24_header.png
END:VEVENT
BEGIN:VEVENT
DTSTART;VALUE=DATE:20241029
DTEND;VALUE=DATE:20241031
DTSTAMP:20260421T091056
CREATED:20240918T084733Z
LAST-MODIFIED:20240918T084733Z
UID:19011-1730160000-1730332799@eosc-austria.at
SUMMARY:DeiC Conference 2024
DESCRIPTION:The conference is the annual event for everyone interested in e-infrastructure in Danish research. Here you can gain new knowledge and professional input in areas such as Data Management\, HPC\, Security\, Network & Services\, and Quantum Computing. The DeiC Conference is also the place to nurture and develop your professional network. \nBy registering before August 30\, you can get your ticket at the early bird price. Read more and register here. \nCollaboration at the Center\nThe theme of this year’s conference is “Collaboration on digital research infrastructure for a better tomorrow\,” and for the first time\, the conference program will be organized around cross-disciplinary topics rather than specific fields. Program committee member Hannah Mihai explains: \n“This year\, we have worked to reflect the significant overlap between our fields in the structure of our conference program. None of our fields stand entirely alone\, and we need each other’s expertise. A good example is DeiC’s involvement in various projects concerning measurements on fiber cables\, where the cables are owned by the Research Network\, data is processed in HPC computing centers under strict security requirements as they can potentially be sensitive\, and the data is stored in accordance with good and FAIR Data Management principles.” Hannah Mihai\, Data Management Consultant\, DeiC. \nThe program committee is currently working hard to put together this year’s exciting program\, and they look forward to presenting the first names in the upcoming DeiC newsletter. \nNew Social Activities\nThe opportunity to meet with old and new acquaintances is a central part of the conference for the participants. To support this even more\, the program committee is planning a series of social activities this year\, where participants can interact in informal settings. Keep an eye on DeiC’s upcoming newsletters and our website for more details.
URL:https://eosc-austria.at/events/deic-conference-2024/
LOCATION:Copenhagen
CATEGORIES:F2F Events
ATTACH;FMTTYPE=image/png:https://eosc-austria.at/wp-content/uploads/2024/09/DeiC.png
END:VEVENT
END:VCALENDAR