BEGIN:VCALENDAR
VERSION:2.0
PRODID:-// - ECPv6.15.20//NONSGML v1.0//EN
CALSCALE:GREGORIAN
METHOD:PUBLISH
X-ORIGINAL-URL:https://eosc-austria.at
X-WR-CALDESC:Events for 
REFRESH-INTERVAL;VALUE=DURATION:PT1H
X-Robots-Tag:noindex
X-PUBLISHED-TTL:PT1H
BEGIN:VTIMEZONE
TZID:Europe/Paris
BEGIN:DAYLIGHT
TZOFFSETFROM:+0100
TZOFFSETTO:+0200
TZNAME:CEST
DTSTART:20230326T010000
END:DAYLIGHT
BEGIN:STANDARD
TZOFFSETFROM:+0200
TZOFFSETTO:+0100
TZNAME:CET
DTSTART:20231029T010000
END:STANDARD
BEGIN:DAYLIGHT
TZOFFSETFROM:+0100
TZOFFSETTO:+0200
TZNAME:CEST
DTSTART:20240331T010000
END:DAYLIGHT
BEGIN:STANDARD
TZOFFSETFROM:+0200
TZOFFSETTO:+0100
TZNAME:CET
DTSTART:20241027T010000
END:STANDARD
BEGIN:DAYLIGHT
TZOFFSETFROM:+0100
TZOFFSETTO:+0200
TZNAME:CEST
DTSTART:20250330T010000
END:DAYLIGHT
BEGIN:STANDARD
TZOFFSETFROM:+0200
TZOFFSETTO:+0100
TZNAME:CET
DTSTART:20251026T010000
END:STANDARD
END:VTIMEZONE
BEGIN:VEVENT
DTSTART;VALUE=DATE:20241104
DTEND;VALUE=DATE:20241106
DTSTAMP:20260421T091351
CREATED:20240911T080925Z
LAST-MODIFIED:20240911T080925Z
UID:18934-1730678400-1730851199@eosc-austria.at
SUMMARY:Skills4EOSC Workshop: Science4Policy - Bridging the gap between research and decision-making
DESCRIPTION:November 4-5\, 2024. Rome\, CNR (National Research Council)\, Piazzale Aldo Moro 1 \nThe ability to communicate science effectively is becoming increasingly crucial in empowering society\, especially in the context of evidence-informed policymaking. \nTo address this need\, SKILLS4EOSC is organising a two-day interactive workshop to enhance researchers’ communication skills and facilitate dialogue with policymakers. \nThis workshop offers a unique opportunity for researchers to upskill their communication competencies through a combination of theoretical learning and practical application. \nThe program is structured as follows: \nDay 1 (November 4): \n\n\nSession 1: Exploring effective science communication paths\, led by Joana Lobo Antunes \n\n\nSession 2: Focus on the “science4policy” framework\, conducted by Alessandro Allegra \n\n\nDay 2 (November 5): \n\n\nInteractive session: Simulations of political debates and role-playing exercises\, facilitated by Petra Buljevic and Marko Košiček \n\n\nRegistration will open in September\, with limited spots available. \nDon’t miss this chance to enhance your science communication skills and contribute to bridging the gap between research and decision-making. \nMark your calendars and be ready to secure your place when registration opens!
URL:https://eosc-austria.at/events/skills4eosc-workshop-science4policy-bridging-the-gap-between-research-and-decision-making/
LOCATION:Rome
CATEGORIES:F2F Events
ATTACH;FMTTYPE=image/webp:https://eosc-austria.at/wp-content/uploads/2024/09/Skills4EOSCworkshop-0f95f06d.webp
END:VEVENT
BEGIN:VEVENT
DTSTART;TZID=Europe/Paris:20241105T090000
DTEND;TZID=Europe/Paris:20241106T170000
DTSTAMP:20260421T091351
CREATED:20240918T111041Z
LAST-MODIFIED:20240918T111041Z
UID:19078-1730797200-1730912400@eosc-austria.at
SUMMARY:Marine User Days Conference
DESCRIPTION:The EUMETSAT Marine User Days will bring together existing and prospective users from across the diverse marine user community. Focusing on the data provided by the European organisations involved in the Copernicus programme and their role in oceanography and marine applications\, the event will act as a showcase for use cases. It is also a networking opportunity for users across the value chain\, and will feature a workshop to engage with user needs and feedback. \nEmphasis will be placed on data from across the value chain including satellite data\, derived products\, climate data records and their applications. Copernicus contributing mission data from EUMETSAT’s meteorological missions and data from the satellite application facility specialising in ocean and sea ice will broaden the scope. \nThe Marine User Days will be open to participation from across the community including those involved at the policy and governance level\, academia and research and commercial entities.  Attendees will benefit from the opportunity to present their use cases to the wider community of users and potential customers\, but also to the European Commission and Copernicus entrusted entity representatives. They will have to opportunity to discuss their use cases and needs with the latter.
URL:https://eosc-austria.at/events/marine-user-days-conference/
LOCATION:Lisbon
CATEGORIES:F2F Events
ATTACH;FMTTYPE=image/jpeg:https://eosc-austria.at/wp-content/uploads/2024/09/userdays2024_v02-scaled.jpg
END:VEVENT
BEGIN:VEVENT
DTSTART;TZID=Europe/Paris:20241105T090000
DTEND;TZID=Europe/Paris:20241108T130000
DTSTAMP:20260421T091351
CREATED:20240918T111316Z
LAST-MODIFIED:20240918T111316Z
UID:19082-1730797200-1731070800@eosc-austria.at
SUMMARY:Blue-Cloud | General Assembly & Technical and Scientific Committee
DESCRIPTION:The Blue-Cloud 2026 team is gathering for its 4th General Assembly (GA) meeting and Technical and Scientific Committee (TSC) meeting\, which takes place at the Instituto Hidrográfico in Lisbon\, Portugal\, from 5 to 8 November 2024. This meeting offers the consortium a valuable opportunity to reflect on the progress made over the first two years of the project and to plan the upcoming activities necessary for the successful implementation of Blue-Cloud. \nAs part of the event\, the Blue-Cloud team also hosts the 1st Federation Workshop. The workshop aims to evaluate Blue-Cloud’s federated services in relation to the needs and challenges of other marine and climate research infrastructures. It will encourage discussions on the practical impact of open science federation. \nThe agenda is still under development\, but the main activities for each day are as follows: \n\n5 November 2024: General Assembly and internal meetings with Blue-Cloud partners\n6 November 2024: Federation Workshop\n7-8 November 2024: Technical and Scientific Committee meeting\n\nPlease note that registration for the General Assembly and Technical and Scientific Committee meetings is closed and is limited to Blue-Cloud 2026 members. If you are a member and have not yet registered\, please do so using this link.
URL:https://eosc-austria.at/events/blue-cloud-general-assembly-technical-and-scientific-committee/
LOCATION:Lisbon
CATEGORIES:F2F Events
ATTACH;FMTTYPE=image/jpeg:https://eosc-austria.at/wp-content/uploads/2024/09/GA-TSC-B-C-min.jpg
END:VEVENT
END:VCALENDAR