BEGIN:VCALENDAR
VERSION:2.0
PRODID:-// - ECPv6.15.20//NONSGML v1.0//EN
CALSCALE:GREGORIAN
METHOD:PUBLISH
X-ORIGINAL-URL:https://eosc-austria.at
X-WR-CALDESC:Events for 
REFRESH-INTERVAL;VALUE=DURATION:PT1H
X-Robots-Tag:noindex
X-PUBLISHED-TTL:PT1H
BEGIN:VTIMEZONE
TZID:Europe/Paris
BEGIN:DAYLIGHT
TZOFFSETFROM:+0100
TZOFFSETTO:+0200
TZNAME:CEST
DTSTART:20240331T010000
END:DAYLIGHT
BEGIN:STANDARD
TZOFFSETFROM:+0200
TZOFFSETTO:+0100
TZNAME:CET
DTSTART:20241027T010000
END:STANDARD
BEGIN:DAYLIGHT
TZOFFSETFROM:+0100
TZOFFSETTO:+0200
TZNAME:CEST
DTSTART:20250330T010000
END:DAYLIGHT
BEGIN:STANDARD
TZOFFSETFROM:+0200
TZOFFSETTO:+0100
TZNAME:CET
DTSTART:20251026T010000
END:STANDARD
BEGIN:DAYLIGHT
TZOFFSETFROM:+0100
TZOFFSETTO:+0200
TZNAME:CEST
DTSTART:20260329T010000
END:DAYLIGHT
BEGIN:STANDARD
TZOFFSETFROM:+0200
TZOFFSETTO:+0100
TZNAME:CET
DTSTART:20261025T010000
END:STANDARD
END:VTIMEZONE
BEGIN:VEVENT
DTSTART;VALUE=DATE:20250116
DTEND;VALUE=DATE:20250117
DTSTAMP:20260421T065455
CREATED:20241127T145252Z
LAST-MODIFIED:20241127T145252Z
UID:19520-1736985600-1737071999@eosc-austria.at
SUMMARY:Cluster Forschungsdaten Expo 2025
DESCRIPTION:Der Cluster Forschungsdaten lädt herzlich zur Expo am Donnerstag\, dem 16. Jänner 2025 an die TU Wien. Der thematische Schwerpunkt wird auf Forschungsinformationssysteme\, Forschungsdatenmanagement und forschungsunterstützende Infrastrukturen gelegt. \nDie Veranstaltung soll auf nationaler Ebene Infrastrukturen\, Services\, Projekten  und Anwendungsfällen eine Bühne bieten\, stellt eine Kooperationsplattform dar und dient als Netzwerkveranstaltung. \nDas Programm beinhaltet eine Bandbreite an Vorträgen\, Produktdemonstrationen\, Posterpräsentationen und Workshops\, um die unterschiedlichen und breitgefächerten Infrastrukturen\, Tools und Services aus Österreich vorzustellen. Die Veranstaltung schließt mit einer interdisziplinär besetzten Podiumsdiskussion und einem Vernetzungsprogramm am Abend. Am Folgetag besteht die Möglichkeit für Arbeitsgruppentreffen. \nZielpublikum sind operative und strategische Akteure\, sowie Forschende im weiteren Umfeld von Forschungsdatenmanagement\, forschungsunterstützenden Services\, Open Science und EOSC-Aktivitäten.
URL:https://eosc-austria.at/events/cluster-forschungsdaten-expo-2025/
LOCATION:Kuppelsaal\, Karlsplatz 13\, 1040 Wien\, 4.OG.\, Wien\, 1040\, Austria
CATEGORIES:F2F Events
ATTACH;FMTTYPE=image/png:https://eosc-austria.at/wp-content/uploads/2024/11/Invitation-CFD-Quadrat-jpg-297x300-1.png
END:VEVENT
END:VCALENDAR