BEGIN:VCALENDAR
VERSION:2.0
PRODID:-// - ECPv6.15.20//NONSGML v1.0//EN
CALSCALE:GREGORIAN
METHOD:PUBLISH
X-ORIGINAL-URL:https://eosc-austria.at
X-WR-CALDESC:Events for 
REFRESH-INTERVAL;VALUE=DURATION:PT1H
X-Robots-Tag:noindex
X-PUBLISHED-TTL:PT1H
BEGIN:VTIMEZONE
TZID:Europe/Paris
BEGIN:DAYLIGHT
TZOFFSETFROM:+0100
TZOFFSETTO:+0200
TZNAME:CEST
DTSTART:20240331T010000
END:DAYLIGHT
BEGIN:STANDARD
TZOFFSETFROM:+0200
TZOFFSETTO:+0100
TZNAME:CET
DTSTART:20241027T010000
END:STANDARD
BEGIN:DAYLIGHT
TZOFFSETFROM:+0100
TZOFFSETTO:+0200
TZNAME:CEST
DTSTART:20250330T010000
END:DAYLIGHT
BEGIN:STANDARD
TZOFFSETFROM:+0200
TZOFFSETTO:+0100
TZNAME:CET
DTSTART:20251026T010000
END:STANDARD
BEGIN:DAYLIGHT
TZOFFSETFROM:+0100
TZOFFSETTO:+0200
TZNAME:CEST
DTSTART:20260329T010000
END:DAYLIGHT
BEGIN:STANDARD
TZOFFSETFROM:+0200
TZOFFSETTO:+0100
TZNAME:CET
DTSTART:20261025T010000
END:STANDARD
END:VTIMEZONE
BEGIN:VEVENT
DTSTART;VALUE=DATE:20250120
DTEND;VALUE=DATE:20250125
DTSTAMP:20260421T065459
CREATED:20240911T080507Z
LAST-MODIFIED:20240911T080507Z
UID:18930-1737331200-1737763199@eosc-austria.at
SUMMARY:EOSC Winter School 2025
DESCRIPTION:The EOSC Winter School is an initiative by EOSC-A\, with the support of the EOSC Focus project\, taken up in response to collaboration needs among Horizon Europe EOSC-related projects. \nThe EOSC Winter School was conceptualised following a suggestion at the European Commission’s June 2023 coordination meeting\, which identified a significant collaboration gap in the Horizon Europe EOSC-related projects. \nA roundup of the Winter School 2024\, photos\, and the official report can be found here.
URL:https://eosc-austria.at/events/eosc-winter-school-2025/
LOCATION:Spain
CATEGORIES:F2F Events
ATTACH;FMTTYPE=image/jpeg:https://eosc-austria.at/wp-content/uploads/2024/09/Winterschool2025_1500x1000px.jpg
END:VEVENT
END:VCALENDAR