BEGIN:VCALENDAR
VERSION:2.0
PRODID:-// - ECPv6.15.20//NONSGML v1.0//EN
CALSCALE:GREGORIAN
METHOD:PUBLISH
X-ORIGINAL-URL:https://eosc-austria.at
X-WR-CALDESC:Events for 
REFRESH-INTERVAL;VALUE=DURATION:PT1H
X-Robots-Tag:noindex
X-PUBLISHED-TTL:PT1H
BEGIN:VTIMEZONE
TZID:Europe/Paris
BEGIN:DAYLIGHT
TZOFFSETFROM:+0100
TZOFFSETTO:+0200
TZNAME:CEST
DTSTART:20240331T010000
END:DAYLIGHT
BEGIN:STANDARD
TZOFFSETFROM:+0200
TZOFFSETTO:+0100
TZNAME:CET
DTSTART:20241027T010000
END:STANDARD
BEGIN:DAYLIGHT
TZOFFSETFROM:+0100
TZOFFSETTO:+0200
TZNAME:CEST
DTSTART:20250330T010000
END:DAYLIGHT
BEGIN:STANDARD
TZOFFSETFROM:+0200
TZOFFSETTO:+0100
TZNAME:CET
DTSTART:20251026T010000
END:STANDARD
BEGIN:DAYLIGHT
TZOFFSETFROM:+0100
TZOFFSETTO:+0200
TZNAME:CEST
DTSTART:20260329T010000
END:DAYLIGHT
BEGIN:STANDARD
TZOFFSETFROM:+0200
TZOFFSETTO:+0100
TZNAME:CET
DTSTART:20261025T010000
END:STANDARD
END:VTIMEZONE
BEGIN:VEVENT
DTSTART;VALUE=DATE:20250130
DTEND;VALUE=DATE:20250201
DTSTAMP:20260421T054424
CREATED:20241126T081652Z
LAST-MODIFIED:20241126T081758Z
UID:19512-1738195200-1738367999@eosc-austria.at
SUMMARY:Skills4EOSC Workshop: Science4Policy - Bridging the gap between research and decision-making
DESCRIPTION:What\n\nCommunicating science effectively is becoming increasingly crucial in empowering society to take evidence-informed decisions to address its challenges\, especially in the context of evidence-informed policymaking (often referred to as “science4policy”). \nThe SKILLS4EOSC two-day interactive workshop aims to enhance researchers’ communication skills and facilitate dialogue with policymakers by upskilling communication competencies through theoretical learning and practical application. \n\nWho\n\nAre you a scientist\, communicator or policy enthusiast and want to bridge the gap between research and decision-making? Join this interactive workshop to improve your skills in science communication in the context of policy making!\nThe ideal participants are researchers – in any field – wishing to improve their ability to interact with policy makers. They can be already involved in science4policy activities or simply motivated to start a journey into this new realm. In the registration form they should provide their motivation and experience in the field.
URL:https://eosc-austria.at/events/skills4eosc-workshop-science4policy-bridging-the-gap-between-research-and-decision-making-2/
LOCATION:CNR\, Piazzale Aldo Moro 7\, Roma\, 00185\, Italy
CATEGORIES:F2F Events
ATTACH;FMTTYPE=image/webp:https://eosc-austria.at/wp-content/uploads/2024/11/bridging-the-gap-c439bead.webp
END:VEVENT
END:VCALENDAR