BEGIN:VCALENDAR
VERSION:2.0
PRODID:-// - ECPv6.15.20//NONSGML v1.0//EN
CALSCALE:GREGORIAN
METHOD:PUBLISH
X-ORIGINAL-URL:https://eosc-austria.at
X-WR-CALDESC:Events for 
REFRESH-INTERVAL;VALUE=DURATION:PT1H
X-Robots-Tag:noindex
X-PUBLISHED-TTL:PT1H
BEGIN:VTIMEZONE
TZID:Europe/Paris
BEGIN:DAYLIGHT
TZOFFSETFROM:+0100
TZOFFSETTO:+0200
TZNAME:CEST
DTSTART:20240331T010000
END:DAYLIGHT
BEGIN:STANDARD
TZOFFSETFROM:+0200
TZOFFSETTO:+0100
TZNAME:CET
DTSTART:20241027T010000
END:STANDARD
BEGIN:DAYLIGHT
TZOFFSETFROM:+0100
TZOFFSETTO:+0200
TZNAME:CEST
DTSTART:20250330T010000
END:DAYLIGHT
BEGIN:STANDARD
TZOFFSETFROM:+0200
TZOFFSETTO:+0100
TZNAME:CET
DTSTART:20251026T010000
END:STANDARD
BEGIN:DAYLIGHT
TZOFFSETFROM:+0100
TZOFFSETTO:+0200
TZNAME:CEST
DTSTART:20260329T010000
END:DAYLIGHT
BEGIN:STANDARD
TZOFFSETFROM:+0200
TZOFFSETTO:+0100
TZNAME:CET
DTSTART:20261025T010000
END:STANDARD
END:VTIMEZONE
BEGIN:VEVENT
DTSTART;VALUE=DATE:20250217
DTEND;VALUE=DATE:20250220
DTSTAMP:20260421T054439
CREATED:20240918T091150Z
LAST-MODIFIED:20240918T091150Z
UID:19036-1739750400-1740009599@eosc-austria.at
SUMMARY:19th International Digital Curation Conference
DESCRIPTION:The 19th edition of the International Digital Curation Conference (IDCC25) will take place in The Hague\, the Netherlands between 17-19 February 2025. \nAbout the International Digital Curation Conference\nThe International Digital Curation Conference (IDCC) is an established annual event with a unique place in the digital curation community\, reaching out to individuals\, organisations and institutions across all disciplines and domains involved in curating data and providing an opportunity to get together with like-minded data practitioners to discuss policy and practice. \nWorkshop submissions are now open\nAs part of our IDCC25 programme\, we invite submissions for in-person and online workshops. Workshops are events taking place before the main IDCC conference\, on Monday 17 February 2025. \nIn the past the workshops have focused on practical\, hands-on work\, often being used for training. If you have an established tool or working practice that yields results in the world of research data management\, you are also welcome to submit an application and show everyone how it works! \nThis year we are offering organisers the opportunity to host a workshop in person or online. Learn more about Workshop formats and the submission process via the Workshop page. \nCalls for papers\, lightning talks and posters have all been extended! \nSubmissions for papers and lightning talks have been extended to 11 August 2024. Poster submissions are now open until 15 September 2024.
URL:https://eosc-austria.at/events/19th-international-digital-curation-conference/
LOCATION:The Hague
CATEGORIES:F2F Events
ATTACH;FMTTYPE=image/png:https://eosc-austria.at/wp-content/uploads/2024/09/The-Hague-Parliament-Banner-1100px-225px_3.png
END:VEVENT
END:VCALENDAR