BEGIN:VCALENDAR
VERSION:2.0
PRODID:-// - ECPv6.15.20//NONSGML v1.0//EN
CALSCALE:GREGORIAN
METHOD:PUBLISH
X-ORIGINAL-URL:https://eosc-austria.at
X-WR-CALDESC:Events for 
REFRESH-INTERVAL;VALUE=DURATION:PT1H
X-Robots-Tag:noindex
X-PUBLISHED-TTL:PT1H
BEGIN:VTIMEZONE
TZID:Europe/Paris
BEGIN:DAYLIGHT
TZOFFSETFROM:+0100
TZOFFSETTO:+0200
TZNAME:CEST
DTSTART:20240331T010000
END:DAYLIGHT
BEGIN:STANDARD
TZOFFSETFROM:+0200
TZOFFSETTO:+0100
TZNAME:CET
DTSTART:20241027T010000
END:STANDARD
BEGIN:DAYLIGHT
TZOFFSETFROM:+0100
TZOFFSETTO:+0200
TZNAME:CEST
DTSTART:20250330T010000
END:DAYLIGHT
BEGIN:STANDARD
TZOFFSETFROM:+0200
TZOFFSETTO:+0100
TZNAME:CET
DTSTART:20251026T010000
END:STANDARD
BEGIN:DAYLIGHT
TZOFFSETFROM:+0100
TZOFFSETTO:+0200
TZNAME:CEST
DTSTART:20260329T010000
END:DAYLIGHT
BEGIN:STANDARD
TZOFFSETFROM:+0200
TZOFFSETTO:+0100
TZNAME:CET
DTSTART:20261025T010000
END:STANDARD
END:VTIMEZONE
BEGIN:VEVENT
DTSTART;VALUE=DATE:20250220
DTEND;VALUE=DATE:20250222
DTSTAMP:20260421T054734
CREATED:20241126T080904Z
LAST-MODIFIED:20241126T080904Z
UID:19503-1740009600-1740182399@eosc-austria.at
SUMMARY:FAIRfest: Celebrating advancements of FAIR solutions in EOSC
DESCRIPTION:FAIR-IMPACT and FAIRCORE4EOSC partners are glad to invite the broad European research community to FAIRfest\, a festival celebrating advancements of FAIR solutions in the European Open Science research landscape. \nFAIR in Europe and Worldwide\nThe Festival will take place on the 20th and 21st of February 2025 in The Hague\, The Netherlands.\nThe event is tied up with the 19th edition of the International Digital Curation Conference (IDCC25)\, and will be an opportunity for the European community to meet with the IDCC international audience to learn and debate aound the latest achievements around: \n\nF for Findability: Persistent Identifiers & Knowledge Graphs\nA for Accessibility: Semantic Artefacts\nI for Interoperability: from the technical to legal interoperability\nR for Reusability: Certification\, metrics & guidelines for FAIR data and software\n\nA true Festival\, with Marketplace\nAdopters and implementers of FAIR enabling solutions\, tools\, methodologies and practices will do a showcase in a marketplace-like settled area. You will have the chance to go around stands\, coffee tables and poster areas\, stop at those that grab your attention and ask all your questions to those who already “did it”. You’ll get demonstrations of the FAIRCORE4EOSC components\, you’ll listen to stories of implementation of the FAIR techniques in real research scenarios from the teams who received support from the FAIR-IMPACT support programme\, and you’ll meet FAIR Champions\, FAIR ambassadors\, interoperability experts and practitioners. \nStanding Keynotes\, real-life adopters: the agenda\nFour plenary sessions will be mixed up with parallel\, technical sessions. Standing keynotes will kick-start provocative discussion items\, and case studies and use cases will be described during two parallel sessions in the afternoon of day 1. The wide-ranging agenda is conceived to leave you time to think\, discuss\, and enjoy food\, coffee\, tea and company. \nNever visited Madurodam? Then come!\nThe FAIRFest is taking place in Madurodam (www.madurodam.nl)\, a beautiful miniature park in the Scheveningen district of The Hague. It is home to a range of 1:25 scale model replicas of famous Dutch landmarks\, historical cities and large developments. Join us for a unique opportunity to also have a special dinner in the charming atmosphere of the park! \nRegister now \n\n\nTarget audience: Researchers and data practitioners\, data stewards\, data service providers and repository managers\, research performing organisation staff\, open science national level initiatives\, and representatives of projects\, initiatives\, and actors in both EOSC and FAIR ecosystems. \nVenue: Madurodam\, George Maduroplein 1\, 2584 RZ The Hague\, The Netherlands
URL:https://eosc-austria.at/events/fairfest-celebrating-advancements-of-fair-solutions-in-eosc/
LOCATION:Madurodam\, Madurodam\, The Hague\, Netherlands
CATEGORIES:F2F Events
ATTACH;FMTTYPE=image/jpeg:https://eosc-austria.at/wp-content/uploads/2024/11/FAIRCORE4EOSC-FAIR-IMPACT-Join-Event-Banner-Oct2024.jpg
END:VEVENT
END:VCALENDAR