BEGIN:VCALENDAR
VERSION:2.0
PRODID:-// - ECPv6.15.20//NONSGML v1.0//EN
CALSCALE:GREGORIAN
METHOD:PUBLISH
X-ORIGINAL-URL:https://eosc-austria.at
X-WR-CALDESC:Events for 
REFRESH-INTERVAL;VALUE=DURATION:PT1H
X-Robots-Tag:noindex
X-PUBLISHED-TTL:PT1H
BEGIN:VTIMEZONE
TZID:Europe/Paris
BEGIN:DAYLIGHT
TZOFFSETFROM:+0100
TZOFFSETTO:+0200
TZNAME:CEST
DTSTART:20240331T010000
END:DAYLIGHT
BEGIN:STANDARD
TZOFFSETFROM:+0200
TZOFFSETTO:+0100
TZNAME:CET
DTSTART:20241027T010000
END:STANDARD
BEGIN:DAYLIGHT
TZOFFSETFROM:+0100
TZOFFSETTO:+0200
TZNAME:CEST
DTSTART:20250330T010000
END:DAYLIGHT
BEGIN:STANDARD
TZOFFSETFROM:+0200
TZOFFSETTO:+0100
TZNAME:CET
DTSTART:20251026T010000
END:STANDARD
BEGIN:DAYLIGHT
TZOFFSETFROM:+0100
TZOFFSETTO:+0200
TZNAME:CEST
DTSTART:20260329T010000
END:DAYLIGHT
BEGIN:STANDARD
TZOFFSETFROM:+0200
TZOFFSETTO:+0100
TZNAME:CET
DTSTART:20261025T010000
END:STANDARD
END:VTIMEZONE
BEGIN:VEVENT
DTSTART;TZID=Europe/Paris:20250305T090000
DTEND;TZID=Europe/Paris:20250305T130000
DTSTAMP:20260421T043550
CREATED:20250214T123356Z
LAST-MODIFIED:20250214T123356Z
UID:20165-1741165200-1741179600@eosc-austria.at
SUMMARY:Open Data Expo 2025
DESCRIPTION:Anlässlich des internationalen Open Data Days 2025 laden die FH Technikum Wien und die Wirtschaftsagentur Wien zur 4. Open Data Expo am 5. März 2025 ein. Auch in diesem Jahr lautet das Motto “Daten erleben und begreifen”. Dabei werden zahlreiche Anwendungen und Projekte präsentiert\, die auf öffentlich zugänglichen Daten basieren. Teilnehmer*innen der Open Data Expo haben die Möglichkeit\, in 3 Gruppen zu je 20 Personen die Zentrale des Wiener Luftmessnetzes zu besuchen. Zusätzlich werden Workshops angeboten. \n\n\n\n\nProgramm\n\n\n\n\n\n\n\n\n\n09:00 bis 09:20 Uhr: Eröffnung\n09:20 bis 13:00 Uhr: freie Besichtigung der Stände und Projekte der Open Data Expo\n09:30 Uhr: Netzwerktreffen “DataConnect Community AT” / “DataBusiness Community AT”\, Wirtschaftsagentur Wien\, Stadt Wien\, Gaia-X Hub Austria\, Data Intelligence Offensive\, Know-Center\, Hörsaal HS_F0.02\n11:00 Uhr: Workshop “Datenanalyse und Visualisierung”\, FH Technikum Wien\, Universität für Weiterbildung Krems\, EDV-Saal EDV_F2.02\nab 11:00 Uhr: Besuche der Zentrale des Wiener Luftmessnetzes:\n\n\n11:00 Uhr: Gruppe 1\n11:45 Uhr: Gruppe 2\n12:30 Uhr: Gruppe 3
URL:https://eosc-austria.at/events/open-data-expo-2025/
LOCATION:FH Technikum Wien
CATEGORIES:F2F Events
ATTACH;FMTTYPE=image/webp:https://eosc-austria.at/wp-content/uploads/2025/02/OpenDataExpo2025_Flyer_v2.webp
END:VEVENT
END:VCALENDAR