BEGIN:VCALENDAR
VERSION:2.0
PRODID:-// - ECPv6.15.20//NONSGML v1.0//EN
CALSCALE:GREGORIAN
METHOD:PUBLISH
X-ORIGINAL-URL:https://eosc-austria.at
X-WR-CALDESC:Events for 
REFRESH-INTERVAL;VALUE=DURATION:PT1H
X-Robots-Tag:noindex
X-PUBLISHED-TTL:PT1H
BEGIN:VTIMEZONE
TZID:Europe/Paris
BEGIN:DAYLIGHT
TZOFFSETFROM:+0100
TZOFFSETTO:+0200
TZNAME:CEST
DTSTART:20240331T010000
END:DAYLIGHT
BEGIN:STANDARD
TZOFFSETFROM:+0200
TZOFFSETTO:+0100
TZNAME:CET
DTSTART:20241027T010000
END:STANDARD
BEGIN:DAYLIGHT
TZOFFSETFROM:+0100
TZOFFSETTO:+0200
TZNAME:CEST
DTSTART:20250330T010000
END:DAYLIGHT
BEGIN:STANDARD
TZOFFSETFROM:+0200
TZOFFSETTO:+0100
TZNAME:CET
DTSTART:20251026T010000
END:STANDARD
BEGIN:DAYLIGHT
TZOFFSETFROM:+0100
TZOFFSETTO:+0200
TZNAME:CEST
DTSTART:20260329T010000
END:DAYLIGHT
BEGIN:STANDARD
TZOFFSETFROM:+0200
TZOFFSETTO:+0100
TZNAME:CET
DTSTART:20261025T010000
END:STANDARD
END:VTIMEZONE
BEGIN:VEVENT
DTSTART;TZID=Europe/Paris:20250306T130000
DTEND;TZID=Europe/Paris:20250306T163000
DTSTAMP:20260421T043254
CREATED:20250214T123116Z
LAST-MODIFIED:20250214T123116Z
UID:20161-1741266000-1741278600@eosc-austria.at
SUMMARY:Datenlehrpfad 2025
DESCRIPTION:Am 6. März richtet die Stadt Wien den Open Data-Lehrpfad aus.\nDiese Initiative zielt darauf ab\, „Veränderungen in der Stadt mit Hilfe von Daten“ aufzuzeigen.\nDer Treffpunkt ist um 13:00 Uhr am Stephansplatz\, beim Südturm des Stephansdoms. \nDer Lehrpfad endet auch 2025 mit einem Besuch im Parlament\, wo Expert*innen der Parlamentsdirektion und der Universität Wien Einblicke in das erweiterte Open Data-Angebot des Parlaments geben.\nDen Abschluss der Veranstaltung bildet eine Führung durch das historische Gebäude mit besonderem Fokus auf die Parlamentsdaten.\nHinweis: Für den Zutritt ins Parlament ist eine extra Registrierung erforderlich. \nAuf diesem Lehrpfades werden folgende Stationen besucht: \n\nBundesdenkmalamt\nWien Digital\nWiener Wasser\nUrban Innovation Vienna\nStadtvermessung Wien\nWiener Linien\nParlament Österreich\n\n\n\n\nWann findet diese Veranstaltung statt?6. März 2025\nBeginn: 13:00\nEnde: 16:30\nZum Kalender hinzufügen
URL:https://eosc-austria.at/events/datenlehrpfad-2025/
LOCATION:Vienna\, Vienna\, Austria
CATEGORIES:F2F Events
ATTACH;FMTTYPE=image/webp:https://eosc-austria.at/wp-content/uploads/2025/02/a5debf04-5d33-41ab-a010-ef551f159ea4.webp
END:VEVENT
END:VCALENDAR