BEGIN:VCALENDAR
VERSION:2.0
PRODID:-// - ECPv6.15.20//NONSGML v1.0//EN
CALSCALE:GREGORIAN
METHOD:PUBLISH
X-ORIGINAL-URL:https://eosc-austria.at
X-WR-CALDESC:Events for 
REFRESH-INTERVAL;VALUE=DURATION:PT1H
X-Robots-Tag:noindex
X-PUBLISHED-TTL:PT1H
BEGIN:VTIMEZONE
TZID:Europe/Paris
BEGIN:DAYLIGHT
TZOFFSETFROM:+0100
TZOFFSETTO:+0200
TZNAME:CEST
DTSTART:20240331T010000
END:DAYLIGHT
BEGIN:STANDARD
TZOFFSETFROM:+0200
TZOFFSETTO:+0100
TZNAME:CET
DTSTART:20241027T010000
END:STANDARD
BEGIN:DAYLIGHT
TZOFFSETFROM:+0100
TZOFFSETTO:+0200
TZNAME:CEST
DTSTART:20250330T010000
END:DAYLIGHT
BEGIN:STANDARD
TZOFFSETFROM:+0200
TZOFFSETTO:+0100
TZNAME:CET
DTSTART:20251026T010000
END:STANDARD
BEGIN:DAYLIGHT
TZOFFSETFROM:+0100
TZOFFSETTO:+0200
TZNAME:CEST
DTSTART:20260329T010000
END:DAYLIGHT
BEGIN:STANDARD
TZOFFSETFROM:+0200
TZOFFSETTO:+0100
TZNAME:CET
DTSTART:20261025T010000
END:STANDARD
END:VTIMEZONE
BEGIN:VEVENT
DTSTART;VALUE=DATE:20250317
DTEND;VALUE=DATE:20250319
DTSTAMP:20260421T043255
CREATED:20250313T130105Z
LAST-MODIFIED:20250313T130105Z
UID:20280-1742169600-1742342399@eosc-austria.at
SUMMARY:Building the EOSC Federation: Kick-off workshop for the build-up phase of the EOSC Federation
DESCRIPTION:The EOSC EU Node will take part in the upcoming Kick-off Workshop for the build-up phase of the EOSC Federation\, organised by the EOSC Tripartite Governance under the auspices of DG RTD\, on 17-18 March 2025 in Brussels\, Belgium. This event will bring together representatives from 12 invited organisations and one consortium\, the European Commission with the EOSC EU Node contractors\, and the EOSC Association to shape the early phase of the EOSC Federation build-up. \nAs the first reference node in the unfolding EOSC Federation\, the EOSC EU Node implements core federating capabilities and provides horizontal infrastructure and application services to support cross-node scientific workflows. The workshop will create a unique opportunity to present the EOSC EU Node’s technical architecture and solutions to the other node candidates and actively contribute to discussions on the key aspects of the early federation building exercise\, ensuring alignment with the common interests of all involved organisations and other stakeholders of the EOSC ecosystem. \nThe workshop agenda will focus on: \n\nPlanning the main activities of the build-up phase based on draft project proposals of the node candidates.\nDefining the organisational modalities for effective collaboration.\n\nEOSC EU Node representatives will contribute to discussions across\nmultiple highly relevant topics: \n\n\nIdentity and resource management\nHow can we ensure seamless authentication and authorisation (AAI) across the EOSC Federation? What role do PIDs\, metadata standards\, and resource discovery play in enabling interoperability?\nFederated workflows\, application orchestration\, and monitoring\nHow can we enable cross-node scientific workflows? What tools and standards should be in place for workflow management\, orchestration\, and Virtual Research Environments (VREs)?\nSecurity\, privacy\, and policy frameworks\nWhat security policies and IT certifications should the EOSC Federation adopt? How do we ensure GDPR compliance and define clear Rules of Participation (RoP) for nodes and services?\nScientific services\, FAIR research objects\, and use cases\nHow do we ensure EOSC services and research objects (data\, software\, workflows) are FAIR? What are the best practices for data curation\, provenance tracking\, and real-world use cases?\nSkills\, training\, and engagement strategies for the EOSC Federation\nWhat training and capacity-building efforts are needed to support researchers and service providers? How do we engage new communities and structure EOSC onboarding processes effectively?
URL:https://eosc-austria.at/events/building-the-eosc-federation-kick-off-workshop-for-the-build-up-phase-of-the-eosc-federation/
LOCATION:Brussels\, Brussels\, Belgium
CATEGORIES:F2F Events
ATTACH;FMTTYPE=image/jpeg:https://eosc-austria.at/wp-content/uploads/2025/03/EOSC-EU-Node-visuals-image-Workshop_March_2025.jpg
END:VEVENT
END:VCALENDAR