BEGIN:VCALENDAR
VERSION:2.0
PRODID:-// - ECPv6.15.20//NONSGML v1.0//EN
CALSCALE:GREGORIAN
METHOD:PUBLISH
X-ORIGINAL-URL:https://eosc-austria.at
X-WR-CALDESC:Events for 
REFRESH-INTERVAL;VALUE=DURATION:PT1H
X-Robots-Tag:noindex
X-PUBLISHED-TTL:PT1H
BEGIN:VTIMEZONE
TZID:Europe/Paris
BEGIN:DAYLIGHT
TZOFFSETFROM:+0100
TZOFFSETTO:+0200
TZNAME:CEST
DTSTART:20240331T010000
END:DAYLIGHT
BEGIN:STANDARD
TZOFFSETFROM:+0200
TZOFFSETTO:+0100
TZNAME:CET
DTSTART:20241027T010000
END:STANDARD
BEGIN:DAYLIGHT
TZOFFSETFROM:+0100
TZOFFSETTO:+0200
TZNAME:CEST
DTSTART:20250330T010000
END:DAYLIGHT
BEGIN:STANDARD
TZOFFSETFROM:+0200
TZOFFSETTO:+0100
TZNAME:CET
DTSTART:20251026T010000
END:STANDARD
BEGIN:DAYLIGHT
TZOFFSETFROM:+0100
TZOFFSETTO:+0200
TZNAME:CEST
DTSTART:20260329T010000
END:DAYLIGHT
BEGIN:STANDARD
TZOFFSETFROM:+0200
TZOFFSETTO:+0100
TZNAME:CET
DTSTART:20261025T010000
END:STANDARD
END:VTIMEZONE
BEGIN:VEVENT
DTSTART;VALUE=DATE:20250424
DTEND;VALUE=DATE:20250425
DTSTAMP:20260421T032653
CREATED:20250121T081341Z
LAST-MODIFIED:20250206T090707Z
UID:19756-1745452800-1745539199@eosc-austria.at
SUMMARY:Ready to normalise openness?
DESCRIPTION:Wir sind es gewohnt\, Open Education von bestehenden Frameworks und (Infra-)Strukturen her zu denken – und Openness “aufzupfropfen”. \nWarum nicht die Richtung umdrehen und Umgebungen und Praktiken grundlegend offen erdenken? \nWas\, wenn offene Lehre die Norm wäre und nicht die Ausnahme? \nDann sei dabei beim Barcamp #3!\nAm 24. April 2025 findet das dritte OER-OER-Infrastruktur-Barcamp #oertopia an der Universität Innsbruck statt. \nWeitere Infos\n*   Website: https://oerbase.github.io/Barcamp3/\n*   Anmeldung unter oer@uibk.ac.at<mailto:oer@uibk.ac.at>\n*   Nachlese vergangene Barcamps: https://oerbase.github.io/Barcamp2/barcamp-1/ und https://oerbase.github.io/Barcamp2/barcamp-2/ \nBeim dritten OER-Infrastruktur-Barcamp #oertopia laden wir Dich dazu ein\, radikal neu zu denken und bestehende Paradigmen in Frage zu stellen! \nVon Widersprüchen\, Ambivalenzen oder Vorläufigkeiten lassen wir uns dabei nicht aufhalten. \nDiskussionsthemen\n\nWie verändert die zunehmende Fähigkeit von KI\, Inhalte zu generieren\, unser Verständnis von Urheberschaft und Originalität?\nWelche alternativen Modelle gibt es\, um Wissen und Kreativität zu teilen und zu schützen?\nWelche Widersprüche existieren innerhalb der Open-Bewegung und wie können wir diese konstruktiv angehen?\nOpen Educational Practices (OEP) als Standard\nWelche neuen Technologien oder alte Ideen können die Verbreitung und Nutzung von OER verbessern?\nCommunity-Building in der OER-Welt – zeigemäß?\nNachhaltige Finanzierung von OER-Projekten\nOER und (hochschul-)politische Maßnahmen und Strategien\nOER und Inklusion\nCreators Corner: Welche Best Practices und Tools gibt es\, um hochwertige OER-Inhalte effizient zu erstellen und zu verwalten?\nGamification und OER\nInteraktive und multimediale OER: Welche Möglichkeiten bieten interaktive und multimediale Inhalte für die OER-Landschaft?\nOER-Qualitätssicherung – technologisch und organisatorisch\nKooperation zwischen OER-Repositorien: Wie können OER-Repositorien weltweit besser zusammenarbeiten\, um Ressourcen zu teilen und zu verbreiten?\nKI als adminsitrative oder technische Unterstützung bei der Verwaltung oder Bereitstellung von OER\n…\n\nDiese Themen sind nur der Anfang. Wir ermutigen euch\, im Sinne eines Barcamps als Teilgeber:innen eure eigenen Ideen und Fragen mitzubringen\, um neue Sichtweisen zu generieren
URL:https://eosc-austria.at/events/ready-to-normalise-openness/
CATEGORIES:F2F Events
ATTACH;FMTTYPE=image/png:https://eosc-austria.at/wp-content/uploads/2025/01/innsbruck-bird-view-drawing.png
END:VEVENT
END:VCALENDAR