BEGIN:VCALENDAR
VERSION:2.0
PRODID:-// - ECPv6.15.20//NONSGML v1.0//EN
CALSCALE:GREGORIAN
METHOD:PUBLISH
X-ORIGINAL-URL:https://eosc-austria.at
X-WR-CALDESC:Events for 
REFRESH-INTERVAL;VALUE=DURATION:PT1H
X-Robots-Tag:noindex
X-PUBLISHED-TTL:PT1H
BEGIN:VTIMEZONE
TZID:Europe/Paris
BEGIN:DAYLIGHT
TZOFFSETFROM:+0100
TZOFFSETTO:+0200
TZNAME:CEST
DTSTART:20240331T010000
END:DAYLIGHT
BEGIN:STANDARD
TZOFFSETFROM:+0200
TZOFFSETTO:+0100
TZNAME:CET
DTSTART:20241027T010000
END:STANDARD
BEGIN:DAYLIGHT
TZOFFSETFROM:+0100
TZOFFSETTO:+0200
TZNAME:CEST
DTSTART:20250330T010000
END:DAYLIGHT
BEGIN:STANDARD
TZOFFSETFROM:+0200
TZOFFSETTO:+0100
TZNAME:CET
DTSTART:20251026T010000
END:STANDARD
BEGIN:DAYLIGHT
TZOFFSETFROM:+0100
TZOFFSETTO:+0200
TZNAME:CEST
DTSTART:20260329T010000
END:DAYLIGHT
BEGIN:STANDARD
TZOFFSETFROM:+0200
TZOFFSETTO:+0100
TZNAME:CET
DTSTART:20261025T010000
END:STANDARD
END:VTIMEZONE
BEGIN:VEVENT
DTSTART;VALUE=DATE:20250513
DTEND;VALUE=DATE:20250517
DTSTAMP:20260421T022331
CREATED:20240918T091426Z
LAST-MODIFIED:20240918T091426Z
UID:19042-1747094400-1747439999@eosc-austria.at
SUMMARY:Europe Biobank Week 2025
DESCRIPTION:The most important event of the year in the global biobanking community!\nJoin us at Bologna Congressi\, Italy from 13-16 May 2025 at #EBW25 for the biggest biobanking networking opportunity\, to meet industry representatives at the exhibition\, discuss the newest findings and hot topics with experts from healthcare\, academia\, and industry\, and attend high-quality scientific programmes. \nThe congress will highlight state-of-the-art biobanking innovations and research. This action-packed congress will feature keynote presentations\, panels and workshops organised by ESBB and BBMRI-ERIC. \nDetails on sponsorship and registration will follow shortly on the EBW website.
URL:https://eosc-austria.at/events/europe-biobank-week-2025/
LOCATION:Bologna
CATEGORIES:F2F Events
ATTACH;FMTTYPE=image/webp:https://eosc-austria.at/wp-content/uploads/2024/09/EBW_StheD_2025_smaller.webp
END:VEVENT
END:VCALENDAR