BEGIN:VCALENDAR
VERSION:2.0
PRODID:-// - ECPv6.15.20//NONSGML v1.0//EN
CALSCALE:GREGORIAN
METHOD:PUBLISH
X-ORIGINAL-URL:https://eosc-austria.at
X-WR-CALDESC:Events for 
REFRESH-INTERVAL;VALUE=DURATION:PT1H
X-Robots-Tag:noindex
X-PUBLISHED-TTL:PT1H
BEGIN:VTIMEZONE
TZID:Europe/Paris
BEGIN:DAYLIGHT
TZOFFSETFROM:+0100
TZOFFSETTO:+0200
TZNAME:CEST
DTSTART:20240331T010000
END:DAYLIGHT
BEGIN:STANDARD
TZOFFSETFROM:+0200
TZOFFSETTO:+0100
TZNAME:CET
DTSTART:20241027T010000
END:STANDARD
BEGIN:DAYLIGHT
TZOFFSETFROM:+0100
TZOFFSETTO:+0200
TZNAME:CEST
DTSTART:20250330T010000
END:DAYLIGHT
BEGIN:STANDARD
TZOFFSETFROM:+0200
TZOFFSETTO:+0100
TZNAME:CET
DTSTART:20251026T010000
END:STANDARD
BEGIN:DAYLIGHT
TZOFFSETFROM:+0100
TZOFFSETTO:+0200
TZNAME:CEST
DTSTART:20260329T010000
END:DAYLIGHT
BEGIN:STANDARD
TZOFFSETFROM:+0200
TZOFFSETTO:+0100
TZNAME:CET
DTSTART:20261025T010000
END:STANDARD
END:VTIMEZONE
BEGIN:VEVENT
DTSTART;VALUE=DATE:20250527
DTEND;VALUE=DATE:20250529
DTSTAMP:20260421T010540
CREATED:20250226T132837Z
LAST-MODIFIED:20250226T132837Z
UID:20220-1748304000-1748476799@eosc-austria.at
SUMMARY:EOSC-A’s 10th General Assembly
DESCRIPTION:The 10th General Assembly meeting of the EOSC Association will be held as an in-person\, lunch-to-lunch event on 27-28 May 2025 in Antwerp. Details regarding registration\, event venue\, accommodation options\, and recommendations for things to do in Antwerp are provided below. \nGA#10 will take place alongside the closing event for the EOSC Focus project and the kick-off of its successor\, EOSC GRAVITY. Members planning to attend the handover from EOSC Focus to EOSC GRAVITY on 26 May 2025 need to complete a separate registration form. \n\nRegistration\nRegistration for GA#10 is now open! To participate in this important event\, where members will elect the next President of the EOSC Association\, please complete the registration form by 5 May 2025 (23:59 CEST). \n\nVenue\nEOSC Association’s 10th General Assembly will take place at the Radisson Blu Hotel\, Antwerp City Centre. \nThe hotel is ideally located in front of the magnificent Antwerp Central Station\, just steps away from the city’s trendy and historic center. The venue is easily accessible by train and car\, with a direct train from Brussels Airport (Zaventem) to Antwerp Central Station in just 30 minutes. There is also a direct Eurostar connection to Antwerp. \n\nAddress: Koningin Astridplein 7\, 2018 Antwerp\nTelephone: +32 (0) 3 203 12 34\nE-mail: info.astrid.antwerp@radissonblu.com\nParking: Private underground parking with direct hotel access (€21.00/24h)
URL:https://eosc-austria.at/events/eosc-as-10th-general-assembly/
LOCATION:Antwerp
CATEGORIES:F2F Events
ATTACH;FMTTYPE=image/jpeg:https://eosc-austria.at/wp-content/uploads/2025/02/GA10-registration_3x2_v2-2048x1365-1.jpg
END:VEVENT
BEGIN:VEVENT
DTSTART;VALUE=DATE:20250528
DTEND;VALUE=DATE:20250530
DTSTAMP:20260421T010540
CREATED:20250103T090802Z
LAST-MODIFIED:20250103T090819Z
UID:19640-1748390400-1748563199@eosc-austria.at
SUMMARY:Workshop on Open Citations and Open Scholarly Metadata
DESCRIPTION:We invite to the Workshop Citations and Open Scholarly Metadata (WOOC) researchers\, scholarly publishers\, funders\, policy makers\, institutions\, and open citations advocates\, interested in the widespread adoption of practises for creation\, sharing\, reuse and improvement of open scholarly metadata. \nThis year edition of the workshop will gravitate around the following theme: \n“Open Access of Research Information” \nIn particular\, the first day will be dedicated to the Bologna Meeting on Open Research Information\, to encourage discussion between the signatories and supporters of the Barcelona Declaration and other interested bodies and collaboratively orient the common roadmap\, thus allowing the articulation of the outcomes that have recently been discussed during the Paris Conference on Open Research Information. \nThe second day will be dedicated to invited contributions\, presentations and a poster session selected among the participants in the call for contributions on the workshop theme. \nThe participation to both the days of WOOC 2025 is open to everyone\, and in particular OpenCitations and the WOOC organizing committee aim to welcome the signatories and supporters of the Barcelona Declaration\, and anyone interested in Open Research Information in an interactive event that aspires to encourage the incubation of ideas to strategically orienting the development of practices in open research information. \nThe Workshop on Open Citations and Open Scholarly Metadata 2025 will be organized in the spaces of the University of Bologna\, one of the signatories of the Barcelona Declaration on Open Research Information and CoARA\, of which it is also leader of the CoARA National Chapter.
URL:https://eosc-austria.at/events/19640/
LOCATION:Bologna
CATEGORIES:F2F Events
ATTACH;FMTTYPE=image/webp:https://eosc-austria.at/wp-content/uploads/2025/01/WOOC2025_Call_open-5a362aca.webp
END:VEVENT
END:VCALENDAR