BEGIN:VCALENDAR
VERSION:2.0
PRODID:-// - ECPv6.15.20//NONSGML v1.0//EN
CALSCALE:GREGORIAN
METHOD:PUBLISH
X-ORIGINAL-URL:https://eosc-austria.at
X-WR-CALDESC:Events for 
REFRESH-INTERVAL;VALUE=DURATION:PT1H
X-Robots-Tag:noindex
X-PUBLISHED-TTL:PT1H
BEGIN:VTIMEZONE
TZID:Europe/Paris
BEGIN:DAYLIGHT
TZOFFSETFROM:+0100
TZOFFSETTO:+0200
TZNAME:CEST
DTSTART:20240331T010000
END:DAYLIGHT
BEGIN:STANDARD
TZOFFSETFROM:+0200
TZOFFSETTO:+0100
TZNAME:CET
DTSTART:20241027T010000
END:STANDARD
BEGIN:DAYLIGHT
TZOFFSETFROM:+0100
TZOFFSETTO:+0200
TZNAME:CEST
DTSTART:20250330T010000
END:DAYLIGHT
BEGIN:STANDARD
TZOFFSETFROM:+0200
TZOFFSETTO:+0100
TZNAME:CET
DTSTART:20251026T010000
END:STANDARD
BEGIN:DAYLIGHT
TZOFFSETFROM:+0100
TZOFFSETTO:+0200
TZNAME:CEST
DTSTART:20260329T010000
END:DAYLIGHT
BEGIN:STANDARD
TZOFFSETFROM:+0200
TZOFFSETTO:+0100
TZNAME:CET
DTSTART:20261025T010000
END:STANDARD
END:VTIMEZONE
BEGIN:VEVENT
DTSTART;TZID=Europe/Paris:20250603T084500
DTEND;TZID=Europe/Paris:20250603T170000
DTSTAMP:20260421T010730
CREATED:20250508T135645Z
LAST-MODIFIED:20250521T125220Z
UID:20530-1748940300-1748970000@eosc-austria.at
SUMMARY:We dare to open science
DESCRIPTION:TU Wien Bibliothek invites you to the first Open Science Day at TU Wien — an event by and for researchers. Organized by TU Wien Bibliothek with the support of the Vice Rector for Digitalisation and Infrastructure\, this event is your platform to share\, learn\, and connect – whether you publish open access\, manage research data\, work with open source code\, or engage in citizen science. \nWhen and where?\nDate: Tuesday\, 03 June 2025\nTime: 08:45 – 17:00\nLocation: TU Wien Bibliothek\, 5th floor\, lecture room\nLanguage: German\, English \nWhy attend?\n\nLearn how Open Science is taking shape at TU Wien\nDiscover good-practice examples from colleagues\nExplore services and tools to support your research\nTalk openly about challenges and needs\nConnect with peers in an informal setting\n\nRegister now\nQuestions? Contact us at sekretariat@tuwien.ac.at \nWe look forward to seeing you there! \nProgramme\n08:45–09:00 | Welcome Coffee\n09:00–09:15 | Opening by Library Director Beate Guba and Overview by Moderator Philipp Steger \n09:15–10:30 | Session I: Participatory Research – Good Practices & Challenges \n\n“Citizen science and urban transformation” – Christian Peer (future.lab Research Center)\n“Citizen Science data supported forest monitoring: Potential\, Challenges\, and Limitations” – Markus Hollaus (Department of Geodesy and Geoinformation)\n“Soil Walks: How Numbers and Data can raise Awareness for Soil Protection” – Elias Grinzinger\, Barbara Steinbrunner (Institute of Spatial Planning)\n\n10:30–11:00 | Discussion\n11:00–12:30 | Session II: Research Practices From Open Access to AI \n\n“Community led publishing: Opportunities\, challenges and pitfalls using the example of Quantum” – Marcus Huber (Faculty of Physics)\n“Automated Reasoning” – Laura Kovacs (Faculty of Informatics)\n“Open Science in Industry Collaborations: Challenges in Recommender Systems and Behavioral Data Analysis” – Julia Neidhardt (Faculty of Informatics)\n\n12:30–13:00 | Discussion\n13:00–14:00 | Lunch & Networking\n14:00–14:20 | Pitch Session: Services for Open Science @ TU Wien \n\nCitizen Science\, Open Access Publishing\, Journal Hosting\, Recognising Predatory Publishing\, PID-Services\, Davis as an Open Infrastructure\, Text- and Data Mining\, TU Wien Academic Press\, TU Wien Research Data Repository\n\n14:30–15:30 | Session III: The European Open Science Cloud (EOSC) \n\nShort introduction to the EOSC – Beate Guba (Library)\n“Data Quality Framework for EOSC” – Chris Schubert (Library)\n“Different shades of FAIR” – Tomasz Miksa (Center for Research Data Management)\n\n15:30 | Closing Remarks\nAfterwards | Informal networking with refreshments
URL:https://eosc-austria.at/events/first-open-science-day-by-and-for-researchers-at-tu-wien/
LOCATION:TU Wien Bibliothek\, Vortragsraum
CATEGORIES:F2F Events
ATTACH;FMTTYPE=image/webp:https://eosc-austria.at/wp-content/uploads/2025/05/csm_UNESCO-Open_science-pillars-en_66396046e0.webp
END:VEVENT
BEGIN:VEVENT
DTSTART;TZID=Europe/Paris:20250603T153000
DTEND;TZID=Europe/Paris:20250603T170000
DTSTAMP:20260421T010730
CREATED:20250331T101950Z
LAST-MODIFIED:20250331T101950Z
UID:20366-1748964600-1748970000@eosc-austria.at
SUMMARY:Forschungsdaten finden und nachnutzen
DESCRIPTION:Die Wiederverwendung von Daten ist eine entscheidende Fähigkeit für moderne Forscher\, die erhebliche Vorteile in Bezug auf Effizienz\, Kosteneffektivität und wissenschaftlichen Fortschritt bieten kann. Dieser Workshop will den Teilnehmenden praktische Techniken zum Auffinden und verantwortungsvollen Wiederverwenden von universitären Forschungsdaten vermitteln. \nEr behandelt die Navigation durch führende Datenrepositorien\, das Verständnis der FAIR-Datenprinzipien und die Berücksichtigung ethischer und lizenzrechtlicher Aspekte. Die Teilnehmenden diskutieren umsetzbare Strategien zur Nutzung bestehender Datensätze\, die potenziell Zeit und Ressourcen sparen und gleichzeitig neue Wege für innovative Forschung eröffnen. \nDurch die Förderung einer effektiven Datenwiederverwendung unterstützt das Nachnutzen von Forschungsdaten die Open-Science-Initiativen der Europäischen Union\, fördert die grenzüberschreitende Zusammenarbeit und steht im Einklang mit den Zielen von Horizon Europe für einen stärker integrierten Europäischen Forschungsraum. \n\nWann: Dienstag 03.06.2025\, 15:30 – 17:00\nWo: SR 62.31 (0062030188)\nSprache: DE
URL:https://eosc-austria.at/events/forschungsdaten-finden-und-nachnutzen/
LOCATION:Universität Graz\, Universitätsplatz 3a\, Graz\, 8010\, Austria
CATEGORIES:F2F Events
ATTACH;FMTTYPE=image/png:https://eosc-austria.at/wp-content/uploads/2025/03/ws_graz.png
END:VEVENT
END:VCALENDAR