BEGIN:VCALENDAR
VERSION:2.0
PRODID:-// - ECPv6.15.20//NONSGML v1.0//EN
CALSCALE:GREGORIAN
METHOD:PUBLISH
X-ORIGINAL-URL:https://eosc-austria.at
X-WR-CALDESC:Events for 
REFRESH-INTERVAL;VALUE=DURATION:PT1H
X-Robots-Tag:noindex
X-PUBLISHED-TTL:PT1H
BEGIN:VTIMEZONE
TZID:Europe/Paris
BEGIN:DAYLIGHT
TZOFFSETFROM:+0100
TZOFFSETTO:+0200
TZNAME:CEST
DTSTART:20240331T010000
END:DAYLIGHT
BEGIN:STANDARD
TZOFFSETFROM:+0200
TZOFFSETTO:+0100
TZNAME:CET
DTSTART:20241027T010000
END:STANDARD
BEGIN:DAYLIGHT
TZOFFSETFROM:+0100
TZOFFSETTO:+0200
TZNAME:CEST
DTSTART:20250330T010000
END:DAYLIGHT
BEGIN:STANDARD
TZOFFSETFROM:+0200
TZOFFSETTO:+0100
TZNAME:CET
DTSTART:20251026T010000
END:STANDARD
BEGIN:DAYLIGHT
TZOFFSETFROM:+0100
TZOFFSETTO:+0200
TZNAME:CEST
DTSTART:20260329T010000
END:DAYLIGHT
BEGIN:STANDARD
TZOFFSETFROM:+0200
TZOFFSETTO:+0100
TZNAME:CET
DTSTART:20261025T010000
END:STANDARD
END:VTIMEZONE
BEGIN:VEVENT
DTSTART;VALUE=DATE:20250610
DTEND;VALUE=DATE:20250613
DTSTAMP:20260421T010544
CREATED:20240918T091952Z
LAST-MODIFIED:20240918T091952Z
UID:19046-1749513600-1749772799@eosc-austria.at
SUMMARY:International conference of Core Technologies for Life Science (CTLS)
DESCRIPTION:We’re excited to invite you to join us at the CTLS 2025 Congress happening in the beautiful city of Brno! This gathering is going to be an excellent opportunity\, bringing together core facility administrators\, managers\, researchers\, and professionals to talk\, collaborate\, and dive into why core facilities are key to shaping the scientific world. \nRegistration open: September 2024 \nEarly registration deadline: February 2025 \nAbstract submission deadline: March 2025
URL:https://eosc-austria.at/events/international-conference-of-core-technologies-for-life-science-ctls/
LOCATION:Brno\, Brno\, Czech Republic
CATEGORIES:F2F Events
ATTACH;FMTTYPE=image/jpeg:https://eosc-austria.at/wp-content/uploads/2024/09/header-2b.jpg
END:VEVENT
BEGIN:VEVENT
DTSTART;VALUE=DATE:20250612
DTEND;VALUE=DATE:20250613
DTSTAMP:20260421T010544
CREATED:20250430T084519Z
LAST-MODIFIED:20250430T084605Z
UID:20524-1749686400-1749772799@eosc-austria.at
SUMMARY:FAIR-EASE FINAL EVENT
DESCRIPTION:Join us in Paris on June 12th for the final event of the FAIR-EASE project\, a key gathering of Earth science researchers\, policymakers\, data scientists\, and EOSC stakeholders. This full-day event marks the culmination of three years of work toward building an Open Science EOSC Node that empowers Earth System Science through interoperable\, FAIR-aligned digital services. \nThe morning will feature two dynamic roundtable sessions. The first will present the main results of the FAIR-EASE project\, highlighting key outcomes and achievements across disciplines and domains. The second roundtable will look ahead to the future of Earth Science communities within the EOSC Federation\, focusing on sustainability\, integration with research infrastructures\, and the continued development of FAIR-oriented services. Both sessions will bring together voices from the scientific community\, EOSC representatives\, and major data providers including Copernicus\, ESA\, and ECMWF. \nIn the afternoon\, we’ll dive deeper into the interdisciplinary and technical challenges that FAIR-EASE has addressed. Through live demonstrations\, we’ll explore the innovative solutions developed for data discovery\, access\, and analysis. A poster session will showcase the full breadth of project results and use cases\, providing a space for open exchange and feedback. \nThis event is a moment to reflect\, share lessons learned\, and look ahead to how FAIR-EASE’s work can continue to shape a more connected and collaborative scientific future. \nWe invite you to express your interest and pre-register below.
URL:https://eosc-austria.at/events/fair-ease-final-event/
LOCATION:Paris\, Paris\, France
CATEGORIES:F2F Events
ATTACH;FMTTYPE=image/jpeg:https://eosc-austria.at/wp-content/uploads/2025/04/2f2162ccece988ef5db07ed5bfa0ac3bbac69542.jpg
END:VEVENT
END:VCALENDAR