BEGIN:VCALENDAR
VERSION:2.0
PRODID:-// - ECPv6.15.20//NONSGML v1.0//EN
CALSCALE:GREGORIAN
METHOD:PUBLISH
X-ORIGINAL-URL:https://eosc-austria.at
X-WR-CALDESC:Events for 
REFRESH-INTERVAL;VALUE=DURATION:PT1H
X-Robots-Tag:noindex
X-PUBLISHED-TTL:PT1H
BEGIN:VTIMEZONE
TZID:Europe/Paris
BEGIN:DAYLIGHT
TZOFFSETFROM:+0100
TZOFFSETTO:+0200
TZNAME:CEST
DTSTART:20240331T010000
END:DAYLIGHT
BEGIN:STANDARD
TZOFFSETFROM:+0200
TZOFFSETTO:+0100
TZNAME:CET
DTSTART:20241027T010000
END:STANDARD
BEGIN:DAYLIGHT
TZOFFSETFROM:+0100
TZOFFSETTO:+0200
TZNAME:CEST
DTSTART:20250330T010000
END:DAYLIGHT
BEGIN:STANDARD
TZOFFSETFROM:+0200
TZOFFSETTO:+0100
TZNAME:CET
DTSTART:20251026T010000
END:STANDARD
BEGIN:DAYLIGHT
TZOFFSETFROM:+0100
TZOFFSETTO:+0200
TZNAME:CEST
DTSTART:20260329T010000
END:DAYLIGHT
BEGIN:STANDARD
TZOFFSETFROM:+0200
TZOFFSETTO:+0100
TZNAME:CET
DTSTART:20261025T010000
END:STANDARD
END:VTIMEZONE
BEGIN:VEVENT
DTSTART;VALUE=DATE:20250910
DTEND;VALUE=DATE:20250911
DTSTAMP:20260420T211158
CREATED:20250618T095342Z
LAST-MODIFIED:20250618T095409Z
UID:20719-1757462400-1757548799@eosc-austria.at
SUMMARY:Swiss Open Academic Data
DESCRIPTION:SOAD has the ambition to build a community for Swiss researchers and practitioners around open academic data. We’re looking to connect users of all experience levels\, organize annual gatherings\, and explore ways to share best practices across platforms like OpenAIRE\, OpenAlex\, and ORCID. Whether you’re experienced or just curious\, you can expect engaging discussions\, hands-on workshops\, and collaborative opportunities to deepen your understanding and learn how to make the most of these open data sources. Together\, we aim to tackle common challenges\, share insights\, and create a supportive network to make open academic data more accessible and impactful across Swiss institutions. \nThe call for contributions is now open!
URL:https://eosc-austria.at/events/swiss-open-academic-data/
LOCATION:Zurich
CATEGORIES:F2F Events
ATTACH;FMTTYPE=image/jpeg:https://eosc-austria.at/wp-content/uploads/2025/06/download-1-1.jpeg
END:VEVENT
END:VCALENDAR