BEGIN:VCALENDAR
VERSION:2.0
PRODID:-// - ECPv6.15.20//NONSGML v1.0//EN
CALSCALE:GREGORIAN
METHOD:PUBLISH
X-ORIGINAL-URL:https://eosc-austria.at
X-WR-CALDESC:Events for 
REFRESH-INTERVAL;VALUE=DURATION:PT1H
X-Robots-Tag:noindex
X-PUBLISHED-TTL:PT1H
BEGIN:VTIMEZONE
TZID:Europe/Paris
BEGIN:DAYLIGHT
TZOFFSETFROM:+0100
TZOFFSETTO:+0200
TZNAME:CEST
DTSTART:20240331T010000
END:DAYLIGHT
BEGIN:STANDARD
TZOFFSETFROM:+0200
TZOFFSETTO:+0100
TZNAME:CET
DTSTART:20241027T010000
END:STANDARD
BEGIN:DAYLIGHT
TZOFFSETFROM:+0100
TZOFFSETTO:+0200
TZNAME:CEST
DTSTART:20250330T010000
END:DAYLIGHT
BEGIN:STANDARD
TZOFFSETFROM:+0200
TZOFFSETTO:+0100
TZNAME:CET
DTSTART:20251026T010000
END:STANDARD
BEGIN:DAYLIGHT
TZOFFSETFROM:+0100
TZOFFSETTO:+0200
TZNAME:CEST
DTSTART:20260329T010000
END:DAYLIGHT
BEGIN:STANDARD
TZOFFSETFROM:+0200
TZOFFSETTO:+0100
TZNAME:CET
DTSTART:20261025T010000
END:STANDARD
END:VTIMEZONE
BEGIN:VEVENT
DTSTART;VALUE=DATE:20250911
DTEND;VALUE=DATE:20250913
DTSTAMP:20260420T211215
CREATED:20250730T082404Z
LAST-MODIFIED:20250730T082404Z
UID:20841-1757548800-1757721599@eosc-austria.at
SUMMARY:OSCA Perspectives - From Institutional Commitment towards National and European Infrastructures
DESCRIPTION:The OSCA (Open Scientific Collections Austria) consortium is an association of natural science museums and university collections with the aim of building up skills and capacities for the digitization of natural science collections in Austria. The consortium will meet from September 11th to 12th\, 2025\, at the Natural History Museum in Vienna to discuss perspectives related to the digital transformation of natural science collections. In 2025\, Austria will also become part of the European Research Infrastructure DiSSCo (Distributed System of Scientific Collections) as an early adopter\, with the goal of establishing a federated European Infrastructure as a powerful tool for data-intensive research based on real world collection objects.\nOn the first day the talks will focus on the processes involved from institutional commitment towards national and European infrastructures. Various infrastructures will be presented and talks will outline the overall visions\, emphasizing the richness and contextualization within the landscape of Research Infrastructures.\nOn the second day\, a hands-on workshop and interactive training will give the opportunity to work on data transfer from institutions to the OSCA Cache\, the national data aggregation node for DiSSCo. \n\n\n\n\nThe conference is free of charge. We kindly ask participants to organize their own travel to Vienna and accommodation in Vienna.\nIf you are interested in participating\, please register by August 25\, 2025 via osca@nhm.at
URL:https://eosc-austria.at/events/osca-perspectives-from-institutional-commitment-towards-national-and-european-infrastructures/
LOCATION:Naturhistorisches Museum Wien\, Burgring 7\, Vienna\, 1010\, Austria
CATEGORIES:F2F Events
ATTACH;FMTTYPE=image/png:https://eosc-austria.at/wp-content/uploads/2025/07/download-2.png
END:VEVENT
END:VCALENDAR