BEGIN:VCALENDAR
VERSION:2.0
PRODID:-// - ECPv6.15.20//NONSGML v1.0//EN
CALSCALE:GREGORIAN
METHOD:PUBLISH
X-ORIGINAL-URL:https://eosc-austria.at
X-WR-CALDESC:Events for 
REFRESH-INTERVAL;VALUE=DURATION:PT1H
X-Robots-Tag:noindex
X-PUBLISHED-TTL:PT1H
BEGIN:VTIMEZONE
TZID:Europe/Paris
BEGIN:DAYLIGHT
TZOFFSETFROM:+0100
TZOFFSETTO:+0200
TZNAME:CEST
DTSTART:20240331T010000
END:DAYLIGHT
BEGIN:STANDARD
TZOFFSETFROM:+0200
TZOFFSETTO:+0100
TZNAME:CET
DTSTART:20241027T010000
END:STANDARD
BEGIN:DAYLIGHT
TZOFFSETFROM:+0100
TZOFFSETTO:+0200
TZNAME:CEST
DTSTART:20250330T010000
END:DAYLIGHT
BEGIN:STANDARD
TZOFFSETFROM:+0200
TZOFFSETTO:+0100
TZNAME:CET
DTSTART:20251026T010000
END:STANDARD
BEGIN:DAYLIGHT
TZOFFSETFROM:+0100
TZOFFSETTO:+0200
TZNAME:CEST
DTSTART:20260329T010000
END:DAYLIGHT
BEGIN:STANDARD
TZOFFSETFROM:+0200
TZOFFSETTO:+0100
TZNAME:CET
DTSTART:20261025T010000
END:STANDARD
END:VTIMEZONE
BEGIN:VEVENT
DTSTART;VALUE=DATE:20251013
DTEND;VALUE=DATE:20251017
DTSTAMP:20260420T193709
CREATED:20240521T131855Z
LAST-MODIFIED:20240521T131855Z
UID:18186-1760313600-1760659199@eosc-austria.at
SUMMARY:International Data Week 2025
DESCRIPTION:The International Science Council’s Committee on Data (CODATA) and World Data System (WDS)\, and the Research Data Alliance (RDA) are delighted to announce the International Data Week 2025: Trusted Research Data Driving Innovation and a Better World taking place on 13–16 October 2025\, in Brisbane\, Australia. \n\n\nIDW 2025 will be hosted by the Australian Research Data Commons (ARDC) with assistance from the Australian Government’s National Collaborative Research Infrastructure Strategy (NCRIS).
URL:https://eosc-austria.at/events/international-data-week-2025/
LOCATION:Brisbane\, Australia
CATEGORIES:F2F Events
ATTACH;FMTTYPE=image/png:https://eosc-austria.at/wp-content/uploads/2024/05/IDW2025.png
END:VEVENT
END:VCALENDAR