BEGIN:VCALENDAR
VERSION:2.0
PRODID:-// - ECPv6.15.20//NONSGML v1.0//EN
CALSCALE:GREGORIAN
METHOD:PUBLISH
X-ORIGINAL-URL:https://eosc-austria.at
X-WR-CALDESC:Events for 
REFRESH-INTERVAL;VALUE=DURATION:PT1H
X-Robots-Tag:noindex
X-PUBLISHED-TTL:PT1H
BEGIN:VTIMEZONE
TZID:Europe/Paris
BEGIN:DAYLIGHT
TZOFFSETFROM:+0100
TZOFFSETTO:+0200
TZNAME:CEST
DTSTART:20240331T010000
END:DAYLIGHT
BEGIN:STANDARD
TZOFFSETFROM:+0200
TZOFFSETTO:+0100
TZNAME:CET
DTSTART:20241027T010000
END:STANDARD
BEGIN:DAYLIGHT
TZOFFSETFROM:+0100
TZOFFSETTO:+0200
TZNAME:CEST
DTSTART:20250330T010000
END:DAYLIGHT
BEGIN:STANDARD
TZOFFSETFROM:+0200
TZOFFSETTO:+0100
TZNAME:CET
DTSTART:20251026T010000
END:STANDARD
BEGIN:DAYLIGHT
TZOFFSETFROM:+0100
TZOFFSETTO:+0200
TZNAME:CEST
DTSTART:20260329T010000
END:DAYLIGHT
BEGIN:STANDARD
TZOFFSETFROM:+0200
TZOFFSETTO:+0100
TZNAME:CET
DTSTART:20261025T010000
END:STANDARD
END:VTIMEZONE
BEGIN:VEVENT
DTSTART;VALUE=DATE:20251020
DTEND;VALUE=DATE:20251024
DTSTAMP:20260420T193711
CREATED:20250618T100608Z
LAST-MODIFIED:20250618T100638Z
UID:20723-1760918400-1761263999@eosc-austria.at
SUMMARY:4th Annual Forum for Open Research in MENA
DESCRIPTION:This year\, the Annual Forum will offer a mixture of individual presentations\, moderated round table discussions\, and workshops. As accessibility lies at the hearts of everything we do\, this will be a fully hybrid event\, with all in-person activities live streamed\, in English and Arabic. The programme will include a full day of online presentations\, two days of in-person presentations\, and a half day of high-impact workshops. \nReflecting the overarching message of last year’s Annual Forum concerning the need to collaborate as individuals\, as institutions\, as communities and countries – within our local environment and as a region – this year’s theme focuses on building our open science communities and developing our open science capacities. \nGiven the UAE has designated 2025 as the Year of Community\, we are therefore particularly delighted to be able to announce that this year’s Annual Forum\, will take place in the UAE\, in partnership with the American University of Sharjah. We are honoured to be partnering with this institution\, a regional leader for research and education in the Arab world. We are also excited to be able to host the Annual Forum in the Emirate of Sharjah\, which is home to so many of the region’s leading publishers and collaborative research and innovation centers.
URL:https://eosc-austria.at/events/4th-annual-forum-for-open-research-in-mena/
LOCATION:Sharjah
CATEGORIES:F2F Events
ATTACH;FMTTYPE=image/png:https://eosc-austria.at/wp-content/uploads/2025/06/download-14.png
END:VEVENT
BEGIN:VEVENT
DTSTART;TZID=Europe/Paris:20251022T083000
DTEND;TZID=Europe/Paris:20251022T163000
DTSTAMP:20260420T193711
CREATED:20251010T123635Z
LAST-MODIFIED:20251010T123635Z
UID:21213-1761121800-1761150600@eosc-austria.at
SUMMARY:AI & Data Governance
DESCRIPTION:Program \n\n\n\nOverview \nThis workshop explores how ethical reflection\, legal regulation\, and responsible data use intersect in research practice in the age of AI and large language models (LLMs). \nParticipants will explore how principles such as ethics\, democracy\, and scientific integrity translate into concrete research practices with AI and data\, addressing issues like bias\, transparency\, and the responsibilities of universities and researchers. They will also discuss regulatory frameworks such as the EU AI Act and the Data Governance Act\, examining their implications for everyday research practices\, data access\, institutional compliance\, and scientific accountability.. \nA key theme is data governance: understanding data as both a research resource and a matter of power\, access\, and control. Participants will consider how data infrastructures shape knowledge and how ethical and legal principles can ensure fairness and trust in research. \nGuided by the idea of digital humanism and through interactive discussions\, participants will engage with real-world scenarios\, such as handling training data\, ensuring fairness in automated systems\, and aligning institutional practices with evolving EU regulations. \nWho is the trainer? \nMatthias C. Kettemann is Professor of Innovation\, Theory and Philosophy of Law and head of the Department for Theory and Future of Law at the University of Innsbruck. He leads the University’s Quantum Ethics Lab and heads research programmes at the Humboldt Institute for Internet and Society in Berlin and Leibniz Institute for Media Research in Hamburg. \n\n\n\n\n\nGoal \n\n\n\nBy the end of the workshop\, participants will: \n\nUnderstand the ethical and governance frameworks shaping the use of AI and data in research.\nGain insight into European regulatory developments and their relevance for scientific practice.\nReflect on their own role and responsibility as researchers in a datafied ecosystem.\nDevelop a critical understanding of digital humanism as a guiding idea for responsible\, human-centered innovation.\n\nThe workshop encourages researchers to act as ethical stewards of data and AI\, combining legal awareness\, normative reflection\, and scientific responsibility in the pursuit of good science. \n\n\n\n\n\nPrecondition \n\n\n\nWho can join? \nThis Workshop is organized for researchers affiliated with a Ludwig Boltzmann Institute\, a university or research organization in Austria.
URL:https://eosc-austria.at/events/ai-data-governance/
LOCATION:LOFFICE\, Schottenfeldgasse 85\, Wien\, 1070\, Austria
CATEGORIES:F2F Events
ATTACH;FMTTYPE=image/png:https://eosc-austria.at/wp-content/uploads/2025/10/Screenshot-2025-10-10-143438.png
END:VEVENT
END:VCALENDAR