BEGIN:VCALENDAR
VERSION:2.0
PRODID:-// - ECPv6.15.20//NONSGML v1.0//EN
CALSCALE:GREGORIAN
METHOD:PUBLISH
X-ORIGINAL-URL:https://eosc-austria.at
X-WR-CALDESC:Events for 
REFRESH-INTERVAL;VALUE=DURATION:PT1H
X-Robots-Tag:noindex
X-PUBLISHED-TTL:PT1H
BEGIN:VTIMEZONE
TZID:Europe/Paris
BEGIN:DAYLIGHT
TZOFFSETFROM:+0100
TZOFFSETTO:+0200
TZNAME:CEST
DTSTART:20240331T010000
END:DAYLIGHT
BEGIN:STANDARD
TZOFFSETFROM:+0200
TZOFFSETTO:+0100
TZNAME:CET
DTSTART:20241027T010000
END:STANDARD
BEGIN:DAYLIGHT
TZOFFSETFROM:+0100
TZOFFSETTO:+0200
TZNAME:CEST
DTSTART:20250330T010000
END:DAYLIGHT
BEGIN:STANDARD
TZOFFSETFROM:+0200
TZOFFSETTO:+0100
TZNAME:CET
DTSTART:20251026T010000
END:STANDARD
BEGIN:DAYLIGHT
TZOFFSETFROM:+0100
TZOFFSETTO:+0200
TZNAME:CEST
DTSTART:20260329T010000
END:DAYLIGHT
BEGIN:STANDARD
TZOFFSETFROM:+0200
TZOFFSETTO:+0100
TZNAME:CET
DTSTART:20261025T010000
END:STANDARD
END:VTIMEZONE
BEGIN:VEVENT
DTSTART;VALUE=DATE:20251024
DTEND;VALUE=DATE:20251025
DTSTAMP:20260420T193833
CREATED:20250618T100858Z
LAST-MODIFIED:20250618T100858Z
UID:20727-1761264000-1761350399@eosc-austria.at
SUMMARY:National Open Science Festival
DESCRIPTION:Open Science NL is delighted that the University of Groningen (UG) and the University Medical Center (UMCG) have generously offered to host this year’s festival. The one-day event will be held in the buildings of the UMCG. \nLike last year\, the festival is organised by a team with representatives from the host institution\, Open Science NL\, DANS\, and the National Coordination Point for Research Data Management (LCRDM). In addition\, the programme will be curated by an independent committee\, ensuring broad community representation. The programme committee will be chaired by Casper Albers\, dean of the Faculty of Behavioural and Social Sciences and chair of the steering committee of the Open Science Programme at the University of Groningen\, and Ana Ranitović\, chief of Open Science at the University of Groningen. \nPrevious editions of the festival were hosted by Wageningen University (2021\, online)\, Vrije Universiteit Amsterdam (2022)\, Erasmus University Rotterdam (2023)\, and Maastricht University (2024). \nThe opening of registration will be announced via the festival’s communication channels and those of the participating organisations.
URL:https://eosc-austria.at/events/national-open-science-festival/
LOCATION:Groningen
CATEGORIES:F2F Events
ATTACH;FMTTYPE=image/png:https://eosc-austria.at/wp-content/uploads/2025/06/osf3_def_orange_circles_900x605_24_october_versie.png
END:VEVENT
END:VCALENDAR