BEGIN:VCALENDAR
VERSION:2.0
PRODID:-// - ECPv6.15.20//NONSGML v1.0//EN
CALSCALE:GREGORIAN
METHOD:PUBLISH
X-ORIGINAL-URL:https://eosc-austria.at
X-WR-CALDESC:Events for 
REFRESH-INTERVAL;VALUE=DURATION:PT1H
X-Robots-Tag:noindex
X-PUBLISHED-TTL:PT1H
BEGIN:VTIMEZONE
TZID:Europe/Paris
BEGIN:DAYLIGHT
TZOFFSETFROM:+0100
TZOFFSETTO:+0200
TZNAME:CEST
DTSTART:20240331T010000
END:DAYLIGHT
BEGIN:STANDARD
TZOFFSETFROM:+0200
TZOFFSETTO:+0100
TZNAME:CET
DTSTART:20241027T010000
END:STANDARD
BEGIN:DAYLIGHT
TZOFFSETFROM:+0100
TZOFFSETTO:+0200
TZNAME:CEST
DTSTART:20250330T010000
END:DAYLIGHT
BEGIN:STANDARD
TZOFFSETFROM:+0200
TZOFFSETTO:+0100
TZNAME:CET
DTSTART:20251026T010000
END:STANDARD
BEGIN:DAYLIGHT
TZOFFSETFROM:+0100
TZOFFSETTO:+0200
TZNAME:CEST
DTSTART:20260329T010000
END:DAYLIGHT
BEGIN:STANDARD
TZOFFSETFROM:+0200
TZOFFSETTO:+0100
TZNAME:CET
DTSTART:20261025T010000
END:STANDARD
END:VTIMEZONE
BEGIN:VEVENT
DTSTART;VALUE=DATE:20251029
DTEND;VALUE=DATE:20251101
DTSTAMP:20260420T183506
CREATED:20250401T143011Z
LAST-MODIFIED:20250401T143011Z
UID:20395-1761696000-1761955199@eosc-austria.at
SUMMARY:30th Nordic Workshop on Bibliometrics and Research Policy
DESCRIPTION:Over the course of three days\, October 29-31\, 2025\, you will have the opportunity to engage with experts from a variety of fields\, including bibliometrics\, research policy and library & information science. The aim of the workshop is to integrate bibliometric research with research policy\, showcase the latest bibliometric research from the Nordic region and beyond\, and strengthen connections between bibliometric research groups and their PhD students. \nImportant dates\nSubmission of abstracts: March 17 – May 31\, 2025.\nNotifications of acceptance: June 20\, 2025.\nRegistration: July 1 – September 15\, 2025.\nNordic Workshop: October 29 – 31\, 2025. \nOrganizing committee\nDag W. Aksnes\, NIFU\nCaroline S. Armitage\, University of Bergen\nMarta Eide\, University of Bergen\nHenrik Karlstrøm\, NIFU\nEli Heldaas Seland\, University of Bergen \nContact\nFollow us on Bluesky: @nwb2025.bsky.social\nHashtag on social media: #nwb2025 \nNWB Steering group\nDenmark: Birger Larsen\, Aalborg University\nFinland: Susanna Nykyri\, Tampere University\nIceland: Baldvin Zarioh\, University of Iceland\nNorway: Dag W. Aksnes\, NIFU – Nordic Institute for Studies in Innovation\, Research and Education\nSweden: Fredrik Åström\, Lund University
URL:https://eosc-austria.at/events/30th-nordic-workshop-on-bibliometrics-and-research-policy/
LOCATION:Bergen\, Bergen\, Norway
CATEGORIES:F2F Events
ATTACH;FMTTYPE=image/jpeg:https://eosc-austria.at/wp-content/uploads/2025/04/nwb.jpg
END:VEVENT
END:VCALENDAR