BEGIN:VCALENDAR
VERSION:2.0
PRODID:-// - ECPv6.15.20//NONSGML v1.0//EN
CALSCALE:GREGORIAN
METHOD:PUBLISH
X-ORIGINAL-URL:https://eosc-austria.at
X-WR-CALDESC:Events for 
REFRESH-INTERVAL;VALUE=DURATION:PT1H
X-Robots-Tag:noindex
X-PUBLISHED-TTL:PT1H
BEGIN:VTIMEZONE
TZID:Europe/Paris
BEGIN:DAYLIGHT
TZOFFSETFROM:+0100
TZOFFSETTO:+0200
TZNAME:CEST
DTSTART:20250330T010000
END:DAYLIGHT
BEGIN:STANDARD
TZOFFSETFROM:+0200
TZOFFSETTO:+0100
TZNAME:CET
DTSTART:20251026T010000
END:STANDARD
BEGIN:DAYLIGHT
TZOFFSETFROM:+0100
TZOFFSETTO:+0200
TZNAME:CEST
DTSTART:20260329T010000
END:DAYLIGHT
BEGIN:STANDARD
TZOFFSETFROM:+0200
TZOFFSETTO:+0100
TZNAME:CET
DTSTART:20261025T010000
END:STANDARD
BEGIN:DAYLIGHT
TZOFFSETFROM:+0100
TZOFFSETTO:+0200
TZNAME:CEST
DTSTART:20270328T010000
END:DAYLIGHT
BEGIN:STANDARD
TZOFFSETFROM:+0200
TZOFFSETTO:+0100
TZNAME:CET
DTSTART:20271031T010000
END:STANDARD
END:VTIMEZONE
BEGIN:VEVENT
DTSTART;VALUE=DATE:20260210
DTEND;VALUE=DATE:20260211
DTSTAMP:20260420T143513
CREATED:20260119T113706Z
LAST-MODIFIED:20260119T113706Z
UID:21496-1770681600-1770767999@eosc-austria.at
SUMMARY:Tag der guten Daten
DESCRIPTION:In der International Love Data Week\, in der dieses Jahr die Frage “Where’s the data?” diskutiert werden soll\, gibt es an der Universität Graz eine ganztägige Veranstaltung zu diesem Thema. In der Keynote\, welche die Vortragsreihe am Vormittag (9:00-13:00) eröffnet\, wird Verantwortung\, Wartbarkeit und Langzeitdenken am Beispiel eines DH Urgesteins – der Mittelhochdeutschen Begriffsdatenbank – thematisiert. Dabei stellen die Vortragenden KI-gestützte Arbeitsmethoden vor\, zeigen auf\, dass KI Forschung zwar unterstützen kann\, Forschungspersonal aber nie ersetzen wird und stellen fest\, dass offene\, menschenlesbare Standards wie XML durchaus kein Rückschritt sind\, sondern der Schlüssel für digitale Zukunftsfähigkeit. Die weiteren Vorträge behandeln Lizenzierung in AUSSDA\, den Health Data Research Hub der Meduni Graz\, die Performancetests und Metadaten aus den Digital Skills Austria Studien und ein übertragbares Modell für heterogene (psychologische) Forschungsdaten. \nDieser Teil der Veranstaltung wird auch per Livestream übertragen. \n  \nAm Nachmittag findet ein Workshop mit dem Titel “Forschungsdaten zur Verfügung stellen / Forschungsdaten nachnutzen” statt\, in dem nach einer Reihe von Impulsvorträgen\, in denen Daten aus unterschiedlichen Disziplinen charakterisiert werden\, an einer Handreichung für Forschende zu diesem Thema gearbeitet wird. \nDer Workshop findet nur in Präsenz statt und die Teilnehmerzahl ist beschränkt. \n  \nVeranstaltungslink: https://forschungsdatenmanagement.uni-graz.at/de/veranstaltungen/tag-der-guten-daten-2026/ \n  \nAnmeldung:  https://ub.uni-graz.at/de/beratung-kurse/kurse-veranstaltungen/veranstaltungen/tag-der-guten-daten-2026/
URL:https://eosc-austria.at/events/tag-der-guten-daten/
LOCATION:Universität Graz\, Universitätsplatz 3a\, Graz\, 8010\, Austria
CATEGORIES:F2F Events
ATTACH;FMTTYPE=image/png:https://eosc-austria.at/wp-content/uploads/2026/01/LoveDataWeek26.png
END:VEVENT
BEGIN:VEVENT
DTSTART;VALUE=DATE:20260210
DTEND;VALUE=DATE:20260212
DTSTAMP:20260420T143513
CREATED:20251203T142716Z
LAST-MODIFIED:20251203T142716Z
UID:21380-1770681600-1770854399@eosc-austria.at
SUMMARY:Data Spaces Symposium 2026
DESCRIPTION:Mark Your Calendars!\nThe world’s premier event on data spaces returns for its fourth edition! \nUnder the theme “Scaling cross-border data ecosystems”\, the Data Spaces Symposium 2026 will spotlight how data spaces drive collaboration\, innovation\, and global competitiveness. \nHosted by the Data Spaces Support Centre together with BDVA – Big Data Value Association\, FIWARE Foundation\, Gaia-X Association for Data and Cloud (AISBL)\, and the International Data Spaces Association (IDSA)\, this year’s symposium takes place in Madrid\, in partnership and under the coordination of the Gaia-X Hub España. As a leading actor in Spain’s data sharing and data space initiatives\, the Hub brings national expertise to a truly European stage. \n2026 Highlights: \n\nData Spaces as value creators – enabling collaboration and economic growth\nTrustworthy data for AI – how data spaces power the future of artificial intelligence\nStandards and interoperability – driving international harmonisation and cross-border alignment\nThe inaugural European Data Spaces Awards Ceremony\n\nand much more to come! \nRegistration opens soon — stay tuned for updates! \nQuestions or sponsorship opportunities? Contact us at events@dssc.eu
URL:https://eosc-austria.at/events/data-spaces-symposium-2026/
LOCATION:Madrid\, Madrid\, Spain
CATEGORIES:F2F Events
ATTACH;FMTTYPE=image/webp:https://eosc-austria.at/wp-content/uploads/2025/12/DSS-2026-Visual.webp
END:VEVENT
END:VCALENDAR