BEGIN:VCALENDAR
VERSION:2.0
PRODID:-// - ECPv6.15.20//NONSGML v1.0//EN
CALSCALE:GREGORIAN
METHOD:PUBLISH
X-ORIGINAL-URL:https://eosc-austria.at
X-WR-CALDESC:Events for 
REFRESH-INTERVAL;VALUE=DURATION:PT1H
X-Robots-Tag:noindex
X-PUBLISHED-TTL:PT1H
BEGIN:VTIMEZONE
TZID:Europe/Paris
BEGIN:DAYLIGHT
TZOFFSETFROM:+0100
TZOFFSETTO:+0200
TZNAME:CEST
DTSTART:20250330T010000
END:DAYLIGHT
BEGIN:STANDARD
TZOFFSETFROM:+0200
TZOFFSETTO:+0100
TZNAME:CET
DTSTART:20251026T010000
END:STANDARD
BEGIN:DAYLIGHT
TZOFFSETFROM:+0100
TZOFFSETTO:+0200
TZNAME:CEST
DTSTART:20260329T010000
END:DAYLIGHT
BEGIN:STANDARD
TZOFFSETFROM:+0200
TZOFFSETTO:+0100
TZNAME:CET
DTSTART:20261025T010000
END:STANDARD
BEGIN:DAYLIGHT
TZOFFSETFROM:+0100
TZOFFSETTO:+0200
TZNAME:CEST
DTSTART:20270328T010000
END:DAYLIGHT
BEGIN:STANDARD
TZOFFSETFROM:+0200
TZOFFSETTO:+0100
TZNAME:CET
DTSTART:20271031T010000
END:STANDARD
END:VTIMEZONE
BEGIN:VEVENT
DTSTART;VALUE=DATE:20260225
DTEND;VALUE=DATE:20260227
DTSTAMP:20260420T131712
CREATED:20260130T113604Z
LAST-MODIFIED:20260130T113604Z
UID:21511-1771977600-1772150399@eosc-austria.at
SUMMARY:RICH Europe Symposium
DESCRIPTION:RICH Europe kindly invites you to the Second RICH Europe Symposium on Research Infrastructures\, which will take place on 25–26 February 2026 in Rome\, Italy\, at the Biblioteca Nazionale Centrale. \nEuropean Research Infrastructures (RIs) play a pivotal role in advancing frontier research\, fostering innovation\, and addressing societal challenges. As strategic assets of the European Research Area (ERA)\, RIs support excellent science\, enable cross-border collaboration\, and contribute to Europe’s global competitiveness. \nThe Symposium will provide an opportunity to promote synergies among Research Infrastructures and relevant stakeholders; to showcase successful models of collaboration among RIs\, partnerships\, and clusters; to encourage the involvement of RIs in other parts of Horizon Europe; to assess and analyse cooperation between Research Infrastructures and other European programmes; to promote interoperability and data sharing; to facilitate dialogue among stakeholders; and to support capacity building. \nYou can use the QR code in the Save the Date or this link to register. Registration to the symposium is temporary closed\, due to the maximum capacity of the Venue. Here is the Programme. Here is the InfoPack for your stay and attendance. \nThe Symposium will be also streamed live. The link will be available few days before the event. \nNCPs from Third Countries can rely on the call of the GSF that focuses on funding participation of official Third Country NCPs for RIs (here attached the document with further info and criteria. Deadline to submit the application: 4th December 2025).
URL:https://eosc-austria.at/events/rich-europe-symposium/
LOCATION:Rome
CATEGORIES:F2F Events
ATTACH;FMTTYPE=image/webp:https://eosc-austria.at/wp-content/uploads/2026/01/RICH-Europe_logo_1500x1500-2-e1664548988261.webp
END:VEVENT
END:VCALENDAR