BEGIN:VCALENDAR
VERSION:2.0
PRODID:-// - ECPv6.15.20//NONSGML v1.0//EN
CALSCALE:GREGORIAN
METHOD:PUBLISH
X-ORIGINAL-URL:https://eosc-austria.at
X-WR-CALDESC:Events for 
REFRESH-INTERVAL;VALUE=DURATION:PT1H
X-Robots-Tag:noindex
X-PUBLISHED-TTL:PT1H
BEGIN:VTIMEZONE
TZID:Europe/Paris
BEGIN:DAYLIGHT
TZOFFSETFROM:+0100
TZOFFSETTO:+0200
TZNAME:CEST
DTSTART:20250330T010000
END:DAYLIGHT
BEGIN:STANDARD
TZOFFSETFROM:+0200
TZOFFSETTO:+0100
TZNAME:CET
DTSTART:20251026T010000
END:STANDARD
BEGIN:DAYLIGHT
TZOFFSETFROM:+0100
TZOFFSETTO:+0200
TZNAME:CEST
DTSTART:20260329T010000
END:DAYLIGHT
BEGIN:STANDARD
TZOFFSETFROM:+0200
TZOFFSETTO:+0100
TZNAME:CET
DTSTART:20261025T010000
END:STANDARD
BEGIN:DAYLIGHT
TZOFFSETFROM:+0100
TZOFFSETTO:+0200
TZNAME:CEST
DTSTART:20270328T010000
END:DAYLIGHT
BEGIN:STANDARD
TZOFFSETFROM:+0200
TZOFFSETTO:+0100
TZNAME:CET
DTSTART:20271031T010000
END:STANDARD
END:VTIMEZONE
BEGIN:VEVENT
DTSTART;VALUE=DATE:20260317
DTEND;VALUE=DATE:20260320
DTSTAMP:20260420T131758
CREATED:20260130T114411Z
LAST-MODIFIED:20260130T114411Z
UID:21521-1773705600-1773964799@eosc-austria.at
SUMMARY:Cloud Services for Synchronization and Sharing 2026
DESCRIPTION:About The Conference\nCS3 2026 is an in-person event and part of the CS3 conference series \nThe 2026 CS3 Conference will take place on 17-19 March 2026 at University of Oslo \nWe look forward to meeting old and new colleagues within the CS3 community. Reconnect\, inspire and get inspired\, learn from each other and have some fun together\, too. \nThe main session will start on Tuesday\, 17 March and will be preceded on Monday 16 March afternoon by a co-located SIG-CISS session of the GEANT Association. \nRegistration\nWe are now accepting registrations! Please use this form to register. The early bird offer expires end of December 2025\, (or earlier\, depending on availability).
URL:https://eosc-austria.at/events/cloud-services-for-synchronization-and-sharing-2026/
LOCATION:Oslo
CATEGORIES:F2F Events
ATTACH;FMTTYPE=image/png:https://eosc-austria.at/wp-content/uploads/2026/01/img_2412.png
END:VEVENT
END:VCALENDAR