BEGIN:VCALENDAR
VERSION:2.0
PRODID:-// - ECPv6.15.20//NONSGML v1.0//EN
CALSCALE:GREGORIAN
METHOD:PUBLISH
X-ORIGINAL-URL:https://eosc-austria.at
X-WR-CALDESC:Events for 
REFRESH-INTERVAL;VALUE=DURATION:PT1H
X-Robots-Tag:noindex
X-PUBLISHED-TTL:PT1H
BEGIN:VTIMEZONE
TZID:Europe/Paris
BEGIN:DAYLIGHT
TZOFFSETFROM:+0100
TZOFFSETTO:+0200
TZNAME:CEST
DTSTART:20250330T010000
END:DAYLIGHT
BEGIN:STANDARD
TZOFFSETFROM:+0200
TZOFFSETTO:+0100
TZNAME:CET
DTSTART:20251026T010000
END:STANDARD
BEGIN:DAYLIGHT
TZOFFSETFROM:+0100
TZOFFSETTO:+0200
TZNAME:CEST
DTSTART:20260329T010000
END:DAYLIGHT
BEGIN:STANDARD
TZOFFSETFROM:+0200
TZOFFSETTO:+0100
TZNAME:CET
DTSTART:20261025T010000
END:STANDARD
BEGIN:DAYLIGHT
TZOFFSETFROM:+0100
TZOFFSETTO:+0200
TZNAME:CEST
DTSTART:20270328T010000
END:DAYLIGHT
BEGIN:STANDARD
TZOFFSETFROM:+0200
TZOFFSETTO:+0100
TZNAME:CET
DTSTART:20271031T010000
END:STANDARD
END:VTIMEZONE
BEGIN:VEVENT
DTSTART;TZID=Europe/Paris:20260415T090000
DTEND;TZID=Europe/Paris:20260415T150000
DTSTAMP:20260420T143515
CREATED:20260319T115600Z
LAST-MODIFIED:20260319T115600Z
UID:21660-1776243600-1776265200@eosc-austria.at
SUMMARY:PATTERNs of Change: Building an Open and Responsible Future for European Research
DESCRIPTION:The PATTERN project is happy to invite you to attend its final event: PATTERNs of Change: Building an Open and Responsible Future for European Research. \nJoin policymakers\, research organisations\, SMEs and EU-funded projects to reflect on how we can scale up open and responsible research and innovation (Open RRI) across Europe and to share what actually works (and what doesn’t) in real-life implementation. \nThe programme\nMorning: Policy-oriented sessions (09:00–13:00) \nA high-level roundtable and a practical outreach workshop focused on aligning researchers’ needs with EU-driven policies and strengthening Open RRI practices. \nAfternoon: Story Slam Session with Sister Projects (14:30–15:30) \nA short\, fun and refreshingly honest format: projects share an “unsuccessful” story (something that didn’t go to plan\, a failed approach\, a lesson learned)  and the presentation must include a MEME. \nAfternoon: Walkthrough poster session and networking (15:30–16:30) \nA dedicated space to showcase posters and dissemination materials\, walk around\, connect and exchange ideas. Feel free to bring posters\, roll-ups\, flyers\, postcards\, or any other comms materials you’d like to share. \nLearn more and register here!
URL:https://eosc-austria.at/events/patterns-of-change-building-an-open-and-responsible-future-for-european-research/
LOCATION:Brussels\, Brussels\, Belgium
CATEGORIES:F2F Events
ATTACH;FMTTYPE=image/png:https://eosc-austria.at/wp-content/uploads/2026/03/Image_Site_FinalEvent_PATTERN_JVG_20260212.png
END:VEVENT
END:VCALENDAR