BEGIN:VCALENDAR
VERSION:2.0
PRODID:-// - ECPv6.15.20//NONSGML v1.0//EN
CALSCALE:GREGORIAN
METHOD:PUBLISH
X-ORIGINAL-URL:https://eosc-austria.at
X-WR-CALDESC:Events for 
REFRESH-INTERVAL;VALUE=DURATION:PT1H
X-Robots-Tag:noindex
X-PUBLISHED-TTL:PT1H
BEGIN:VTIMEZONE
TZID:Europe/Paris
BEGIN:DAYLIGHT
TZOFFSETFROM:+0100
TZOFFSETTO:+0200
TZNAME:CEST
DTSTART:20250330T010000
END:DAYLIGHT
BEGIN:STANDARD
TZOFFSETFROM:+0200
TZOFFSETTO:+0100
TZNAME:CET
DTSTART:20251026T010000
END:STANDARD
BEGIN:DAYLIGHT
TZOFFSETFROM:+0100
TZOFFSETTO:+0200
TZNAME:CEST
DTSTART:20260329T010000
END:DAYLIGHT
BEGIN:STANDARD
TZOFFSETFROM:+0200
TZOFFSETTO:+0100
TZNAME:CET
DTSTART:20261025T010000
END:STANDARD
BEGIN:DAYLIGHT
TZOFFSETFROM:+0100
TZOFFSETTO:+0200
TZNAME:CEST
DTSTART:20270328T010000
END:DAYLIGHT
BEGIN:STANDARD
TZOFFSETFROM:+0200
TZOFFSETTO:+0100
TZNAME:CET
DTSTART:20271031T010000
END:STANDARD
END:VTIMEZONE
BEGIN:VEVENT
DTSTART;VALUE=DATE:20261006
DTEND;VALUE=DATE:20261009
DTSTAMP:20260420T200506
CREATED:20260116T102712Z
LAST-MODIFIED:20260116T102712Z
UID:21464-1791244800-1791503999@eosc-austria.at
SUMMARY:RDA 27th Plenary Meeting
DESCRIPTION:The Research Data Alliance 27th Plenary Meeting (P27) will take place in London\, United Kingdom as an in-person event\, 6-8 October 2026. P27 will be hosted by UK Research and Innovation (UKRI)\, the UK’s largest public research funder. \n\n\nUKRI brings together seven Research Councils (covering all domains)\, Research England and Innovate UK. It has a strong history of investment in open research and research infrastructure. UKRI has been supporting access to data since the 1960s through funded data services. \n\n\nRachel Bruce\, Head of Open Research at UKRI\, said: \n\n\n“We are looking forward to welcoming delegates to London and celebrating UKRI’s involvement with the RDA and international research data community\, as we work together to build a global research ecosystem where data is routinely shared and reused without barriers.”
URL:https://eosc-austria.at/events/rda-27th-plenary-meeting/
LOCATION:London
CATEGORIES:F2F Events
ATTACH;FMTTYPE=image/jpeg:https://eosc-austria.at/wp-content/uploads/2026/01/25th-RDA-Plenary.jpg
END:VEVENT
END:VCALENDAR