BEGIN:VCALENDAR
VERSION:2.0
PRODID:-// - ECPv6.15.20//NONSGML v1.0//EN
CALSCALE:GREGORIAN
METHOD:PUBLISH
X-ORIGINAL-URL:https://eosc-austria.at
X-WR-CALDESC:Events for 
REFRESH-INTERVAL;VALUE=DURATION:PT1H
X-Robots-Tag:noindex
X-PUBLISHED-TTL:PT1H
BEGIN:VTIMEZONE
TZID:Europe/Paris
BEGIN:DAYLIGHT
TZOFFSETFROM:+0100
TZOFFSETTO:+0200
TZNAME:CEST
DTSTART:20240331T010000
END:DAYLIGHT
BEGIN:STANDARD
TZOFFSETFROM:+0200
TZOFFSETTO:+0100
TZNAME:CET
DTSTART:20241027T010000
END:STANDARD
BEGIN:DAYLIGHT
TZOFFSETFROM:+0100
TZOFFSETTO:+0200
TZNAME:CEST
DTSTART:20250330T010000
END:DAYLIGHT
BEGIN:STANDARD
TZOFFSETFROM:+0200
TZOFFSETTO:+0100
TZNAME:CET
DTSTART:20251026T010000
END:STANDARD
BEGIN:DAYLIGHT
TZOFFSETFROM:+0100
TZOFFSETTO:+0200
TZNAME:CEST
DTSTART:20260329T010000
END:DAYLIGHT
BEGIN:STANDARD
TZOFFSETFROM:+0200
TZOFFSETTO:+0100
TZNAME:CET
DTSTART:20261025T010000
END:STANDARD
END:VTIMEZONE
BEGIN:VEVENT
DTSTART;VALUE=DATE:20251016
DTEND;VALUE=DATE:20251019
DTSTAMP:20260424T153355
CREATED:20251001T070537Z
LAST-MODIFIED:20251001T070537Z
UID:21171-1760572800-1760831999@eosc-austria.at
SUMMARY:The 4th United Nations Open Science and Open Scholarship Conference
DESCRIPTION:From 16 to 18 October 2025\, the 4th United Nations Open Science and Open Scholarship Conference will convene policymakers\, IGO representatives\, researchers\, scholars\, librarians\, publishers\, and civil society\, both online and in person at the United Nations University (UNU) in Tokyo\, Japan. \nThe Conference will serve as an urgent call to accelerate transformations in science and scholarship in alignment with the Pact for the Future\, to map progress in national and international efforts towards opening the record of science\, and to inspire collaborative actions and coalitions to expedite progress ensuring no country\, community\, or individual is left behind. \nIn September 2024\, at the Summit of the Future\, all 193 Member States of the United Nations adopted the action-oriented Pact for the Future. The Pact underscores that science is instrumental for the three pillars of the United Nations – sustainable development\, peace and security\, and human rights. Recognizing the potential for science to accelerate the implementation of the 2030 Agenda and the 17 Sustainable Development Goals (SDGs)\, the Pact supports policies toward open science and open innovation to help bridge science gaps especially in developing countries. \nDespite these significant commitments\, billions of people – especially in developing countries – still lack meaningful access to participate in and benefit from critical scientific knowledge\, research infrastructure\, and emerging technologies. Open science and open scholarship provide a transformative pathway to reverse these trends\, fostering multilateral cooperation\, responsible innovation\, and the equitable dissemination of knowledge. As stated in the UNESCO Recommendation on Open Science\, we must ensure “reciprocal access to science for all producers and consumers of knowledge regardless of their location\, nationality\, race\, age\, gender\, income\, socio-economic circumstance\, career stage\, discipline\, language\, religion\, disability\, ethnicity\, migratory status or any other grounds”. More:
URL:https://eosc-austria.at/events/the-4th-united-nations-open-science-and-open-scholarship-conference/
LOCATION:Tokyo
CATEGORIES:Hybrid Events
ATTACH;FMTTYPE=image/jpeg:https://eosc-austria.at/wp-content/uploads/2025/10/os25_banner_6-2025_v3_0-scaled.jpg
END:VEVENT
BEGIN:VEVENT
DTSTART;VALUE=DATE:20251020
DTEND;VALUE=DATE:20251027
DTSTAMP:20260424T153355
CREATED:20250807T091903Z
LAST-MODIFIED:20250807T091903Z
UID:20924-1760918400-1761523199@eosc-austria.at
SUMMARY:International Open Access Week
DESCRIPTION:This year’s theme asks a pointed question about the present moment and how\, in a time of disruption\, communities can reassert control over the knowledge they produce. It also challenges us to reflect on not only who has access to education and research but on how knowledge is created and shared\, where it has come from\, and whose voices are recognized and valued.
URL:https://eosc-austria.at/events/international-open-access-week/
CATEGORIES:Hybrid Events
ATTACH;FMTTYPE=image/png:https://eosc-austria.at/wp-content/uploads/2024/07/OpenAccessWeekLogo.png
END:VEVENT
BEGIN:VEVENT
DTSTART;TZID=Europe/Paris:20251028T110000
DTEND;TZID=Europe/Paris:20251028T153000
DTSTAMP:20260424T153355
CREATED:20250925T150456Z
LAST-MODIFIED:20250925T150512Z
UID:21106-1761649200-1761665400@eosc-austria.at
SUMMARY:Open Science Day 2025
DESCRIPTION:The seventh annual Open Science Day will take place on 28 October 2025. This year\, BERD@NFDI and the Open Science Office have co-organized the Open Science Day to showcase\, share\, and discuss the diverse range of open science activities and experiences taking place at the University of Mannheim and beyond. \nWe are delighted to announce that our keynote speaker this year is Vasilka Paunova\, the legal counsel for BERD@NFDI\, who will present Open and GDPR-Compliant Science – highlighting the legal challenges posed by Open Science and Research Data Management and potential solutions. \nBERD@NFDI will address the role of Open Science and Research Data Management in business and economics research. We will cover incentives for doing Open Science and their impact on research in the social sciences\, as well as shifting journal requirements for trans­parency in the political sciences. Our latest 2025 awardees will also present their funded projects and the Open Science practices they will use in their diverse research. \nAll members and researchers of the University of Mannheim and beyond are invited to join our Open Science Day. \nWe would be delighted if you are able to attend this event. If you are interested in attending\, please sign up below: \nClick here for online registration \nClick here for in-person registration \nProgramm
URL:https://eosc-austria.at/events/open-science-day-2025/
LOCATION:University of Mannheim
CATEGORIES:Hybrid Events
ATTACH;FMTTYPE=image/webp:https://eosc-austria.at/wp-content/uploads/2025/09/csm_Schloss-Ehrenhof-leer_751577013c.webp
END:VEVENT
END:VCALENDAR