BEGIN:VCALENDAR
VERSION:2.0
PRODID:-// - ECPv6.15.20//NONSGML v1.0//EN
CALSCALE:GREGORIAN
METHOD:PUBLISH
X-ORIGINAL-URL:https://eosc-austria.at
X-WR-CALDESC:Events for 
REFRESH-INTERVAL;VALUE=DURATION:PT1H
X-Robots-Tag:noindex
X-PUBLISHED-TTL:PT1H
BEGIN:VTIMEZONE
TZID:Europe/Paris
BEGIN:DAYLIGHT
TZOFFSETFROM:+0100
TZOFFSETTO:+0200
TZNAME:CEST
DTSTART:20240331T010000
END:DAYLIGHT
BEGIN:STANDARD
TZOFFSETFROM:+0200
TZOFFSETTO:+0100
TZNAME:CET
DTSTART:20241027T010000
END:STANDARD
BEGIN:DAYLIGHT
TZOFFSETFROM:+0100
TZOFFSETTO:+0200
TZNAME:CEST
DTSTART:20250330T010000
END:DAYLIGHT
BEGIN:STANDARD
TZOFFSETFROM:+0200
TZOFFSETTO:+0100
TZNAME:CET
DTSTART:20251026T010000
END:STANDARD
BEGIN:DAYLIGHT
TZOFFSETFROM:+0100
TZOFFSETTO:+0200
TZNAME:CEST
DTSTART:20260329T010000
END:DAYLIGHT
BEGIN:STANDARD
TZOFFSETFROM:+0200
TZOFFSETTO:+0100
TZNAME:CET
DTSTART:20261025T010000
END:STANDARD
END:VTIMEZONE
BEGIN:VEVENT
DTSTART;VALUE=DATE:20251103
DTEND;VALUE=DATE:20251106
DTSTAMP:20260424T141614
CREATED:20250226T135345Z
LAST-MODIFIED:20250226T135357Z
UID:20234-1762128000-1762387199@eosc-austria.at
SUMMARY:EOSC Symposium 2025
DESCRIPTION:Please mark your calendars for the EOSC Symposium 2025\, the largest and most in-demand event on the EOSC calendar. Organised by the EOSC Association for the second consecutive year\, the Symposium will take place 03-05 November in Brussels. Check back for details on venue and registration. \nAs an appetizer\, please enjoy our compilation video from the 2024 Symposium in Berlin. The outcomes and resources from the 2024 Symposium can be found here: EOSC Symposium 2024: Outcomes
URL:https://eosc-austria.at/events/eosc-symposium-2025/
LOCATION:Brussels\, Brussels\, Belgium
CATEGORIES:Hybrid Events
ATTACH;FMTTYPE=image/jpeg:https://eosc-austria.at/wp-content/uploads/2025/02/Symposium2025_1500x1000px-1.jpg
END:VEVENT
END:VCALENDAR